Workbook

Sheet Aspek Kesejahteraan Masyarakat
A1: ASPEK KESEJAHTERAAN MASYARAKAT
A2: No | B2: Indikator Kinerja Program (Outcome) | C2: Kondisi Kinerja Awal RPJMD (Tahun 2012) | D2: Capaian Kinerja Program dan Kerangka Pendanaan | V2: SKPD Penanggung Jawab
D3: Tahun 2013 | G3: Tahun 2014 | J3: Tahun 2015 | M3: Tahun 2016 | P3: Tahun 2017 | S3: Kondisi Pada akhir periode RPJMD
D4: target | E4: realisasi | F4: % | G4: target | H4: realisasi | I4: % | J4: target | K4: realisasi | L4: % | M4: target | N4: realisasi | O4: % | P4: target | Q4: realisasi | R4: % | S4: target | T4: realisasi | U4: %
A5: 1 | B5: 2 | C5: 3 | D5: 4 | E5: 5 | F5: 6 | G5: 7 | H5: 8 | I5: 9 | J5: 10 | K5: 11 | L5: 12 | M5: 13 | N5: 14 | O5: 15 | P5: 16 | Q5: 17 | R5: 18 | S5: 19 | T5: 20 | U5: 21 | V5: 22
A6: 1 | B6: Pertumbuhan PDRB | C6: 7.37 | F6: =E6/D6 -> #DIV/0! | I6: =H6/G6 -> #DIV/0! | L6: =K6/J6 -> #DIV/0! | O6: =N6/M6 -> #DIV/0! | R6: =Q6/P6 -> #DIV/0! | U6: =T6/S6 -> #DIV/0!
A7: 2 | B7: Laju Inflasi | C7: 4.22 | F7: =E7/D7 -> #DIV/0! | I7: =H7/G7 -> #DIV/0! | L7: =K7/J7 -> #DIV/0! | O7: =N7/M7 -> #DIV/0! | R7: =Q7/P7 -> #DIV/0! | U7: =T7/S7 -> #DIV/0!
A8: 3 | B8: PDRB Per kapita | C8: 22183000 | F8: =E8/D8 -> #DIV/0! | I8: =H8/G8 -> #DIV/0! | L8: =K8/J8 -> #DIV/0! | O8: =N8/M8 -> #DIV/0! | R8: =Q8/P8 -> #DIV/0! | U8: =T8/S8 -> #DIV/0!
A9: 4 | B9: Indeks gini | F9: =E9/D9 -> #DIV/0! | I9: =H9/G9 -> #DIV/0! | L9: =K9/J9 -> #DIV/0! | O9: =N9/M9 -> #DIV/0! | R9: =Q9/P9 -> #DIV/0! | U9: =T9/S9 -> #DIV/0!
A10: 5 | B10: Pemerataan pendapatan versi bank dunia | F10: =E10/D10 -> #DIV/0! | I10: =H10/G10 -> #DIV/0! | L10: =K10/J10 -> #DIV/0! | O10: =N10/M10 -> #DIV/0! | R10: =Q10/P10 -> #DIV/0! | U10: =T10/S10 -> #DIV/0!
A11: 6 | B11: Indeks ketimpangan Williamson (indeks Ketimpangan Regional) | F11: =E11/D11 -> #DIV/0! | I11: =H11/G11 -> #DIV/0! | L11: =K11/J11 -> #DIV/0! | O11: =N11/M11 -> #DIV/0! | R11: =Q11/P11 -> #DIV/0! | U11: =T11/S11 -> #DIV/0!
A12: 7 | B12: Persentase penduduk diatas garis kemiskinan | F12: =E12/D12 -> #DIV/0! | I12: =H12/G12 -> #DIV/0! | L12: =K12/J12 -> #DIV/0! | O12: =N12/M12 -> #DIV/0! | R12: =Q12/P12 -> #DIV/0! | U12: =T12/S12 -> #DIV/0!
A13: 8 | B13: Rasio kesenjangan kemiskinan | F13: =E13/D13 -> #DIV/0! | I13: =H13/G13 -> #DIV/0! | L13: =K13/J13 -> #DIV/0! | O13: =N13/M13 -> #DIV/0! | R13: =Q13/P13 -> #DIV/0! | U13: =T13/S13 -> #DIV/0!
A14: 9 | B14: Proporsi penduduk dengan pendapatan kurang dari USD 1,00 (PPP) perkapita perhari | F14: =E14/D14 -> #DIV/0! | I14: =H14/G14 -> #DIV/0! | L14: =K14/J14 -> #DIV/0! | O14: =N14/M14 -> #DIV/0! | R14: =Q14/P14 -> #DIV/0! | U14: =T14/S14 -> #DIV/0!
A15: 10 | B15: Indeks Pembangunan Manusia (IPM) | F15: =E15/D15 -> #DIV/0! | I15: =H15/G15 -> #DIV/0! | L15: =K15/J15 -> #DIV/0! | O15: =N15/M15 -> #DIV/0! | R15: =Q15/P15 -> #DIV/0! | U15: =T15/S15 -> #DIV/0!
A16: 11 | B16: Angka melek huruf | F16: =E16/D16 -> #DIV/0! | I16: =H16/G16 -> #DIV/0! | L16: =K16/J16 -> #DIV/0! | O16: =N16/M16 -> #DIV/0! | R16: =Q16/P16 -> #DIV/0! | U16: =T16/S16 -> #DIV/0!
A17: 12 | B17: Angka rata-rata lama sekolah | F17: =E17/D17 -> #DIV/0! | I17: =H17/G17 -> #DIV/0! | L17: =K17/J17 -> #DIV/0! | O17: =N17/M17 -> #DIV/0! | R17: =Q17/P17 -> #DIV/0! | U17: =T17/S17 -> #DIV/0!
A18: 13 | B18: Angka usia harapan hidup | F18: =E18/D18 -> #DIV/0! | I18: =H18/G18 -> #DIV/0! | L18: =K18/J18 -> #DIV/0! | O18: =N18/M18 -> #DIV/0! | R18: =Q18/P18 -> #DIV/0! | U18: =T18/S18 -> #DIV/0!
A19: 14 | B19: persentase balita gizi buruk | F19: =E19/D19 -> #DIV/0! | I19: =H19/G19 -> #DIV/0! | L19: =K19/J19 -> #DIV/0! | O19: =N19/M19 -> #DIV/0! | R19: =Q19/P19 -> #DIV/0! | U19: =T19/S19 -> #DIV/0!
A20: 15 | B20: Prevalensi balita kuran | F20: =E20/D20 -> #DIV/0! | I20: =H20/G20 -> #DIV/0! | L20: =K20/J20 -> #DIV/0! | O20: =N20/M20 -> #DIV/0! | R20: =Q20/P20 -> #DIV/0! | U20: =T20/S20 -> #DIV/0!
... A50: 45 | B50: Kontribusi transmigrasi terhadap PDRB | F50: =E50/D50 -> #DIV/0! | I50: =H50/G50 -> #DIV/0! | L50: =K50/J50 -> #DIV/0! | O50: =N50/M50 -> #DIV/0! | R50: =Q50/P50 -> #DIV/0! | U50: =T50/S50 -> #DIV/0!
A51: Rata-Rata Capaian Kinerja (%) | U51: =AVERAGE(U6:U50) -> #DIV/0!
R53: Kepala OPD Penanggung Jawab
R56: ____________________________
R57: NIP.

Sheet Aspek Daya Saing Daerah
A1: ASPEK DAYA SAING DAERAH
A2: No | B2: Indikator Kinerja Program (Outcome) | C2: Kondisi Kinerja Awal RPJMD (Tahun 2012) | D2: Capaian Kinerja Program dan Kerangka Pendanaan | V2: SKPD Penanggung Jawab
D3: Tahun 2013 | G3: Tahun 2014 | J3: Tahun 2015 | M3: Tahun 2016 | P3: Tahun 2017 | S3: Kondisi Pada akhir periode RPJMD
D4: target | E4: realisasi | F4: % | G4: target | H4: realisasi | I4: % | J4: target | K4: realisasi | L4: % | M4: target | N4: realisasi | O4: % | P4: target | Q4: realisasi | R4: % | S4: target | T4: realisasi | U4: %
A5: 1 | B5: 2 | C5: 3 | D5: 4 | E5: 5 | F5: 6 | G5: 7 | H5: 8 | I5: 9 | J5: 10 | K5: 11 | L5: 12 | M5: 13 | N5: 14 | O5: 15 | P5: 16 | Q5: 17 | R5: 18 | S5: 19 | T5: 20 | U5: 21 | V5: 22
A6: 1 | B6: Pengeluaran konsumsi rumah tangga per kapita | F6: =E6/D6 -> #DIV/0! | I6: =H6/G6 -> #DIV/0! | L6: =K6/J6 -> #DIV/0! | O6: =N6/M6 -> #DIV/0! | R6: =Q6/P6 -> #DIV/0! | U6: =T6/S6 -> #DIV/0!
A7: 2 | B7: Nilai tukar petani | F7: =E7/D7 -> #DIV/0! | I7: =H7/G7 -> #DIV/0! | L7: =K7/J7 -> #DIV/0! | O7: =N7/M7 -> #DIV/0! | R7: =Q7/P7 -> #DIV/0! | U7: =T7/S7 -> #DIV/0!
A8: 3 | B8: Persentase pengeluaran konsumsi non pangan perkapita | F8: =E8/D8 -> #DIV/0! | I8: =H8/G8 -> #DIV/0! | L8: =K8/J8 -> #DIV/0! | O8: =N8/M8 -> #DIV/0! | R8: =Q8/P8 -> #DIV/0! | U8: =T8/S8 -> #DIV/0!
A9: 4 | B9: Produktivitas total daerah | F9: =E9/D9 -> #DIV/0! | I9: =H9/G9 -> #DIV/0! | L9: =K9/J9 -> #DIV/0! | O9: =N9/M9 -> #DIV/0! | R9: =Q9/P9 -> #DIV/0! | U9: =T9/S9 -> #DIV/0!
A10: 5 | B10: Persentase desa berstatus swasembada terhadap total desa | F10: =E10/D10 -> #DIV/0! | I10: =H10/G10 -> #DIV/0! | L10: =K10/J10 -> #DIV/0! | O10: =N10/M10 -> #DIV/0! | R10: =Q10/P10 -> #DIV/0! | U10: =T10/S10 -> #DIV/0!
A11: 6 | B11: Rasio ekspor+impor terhadap PDB (indikator keterbukaan ekonomi) | F11: =E11/D11 -> #DIV/0! | I11: =H11/G11 -> #DIV/0! | L11: =K11/J11 -> #DIV/0! | O11: =N11/M11 -> #DIV/0! | R11: =Q11/P11 -> #DIV/0! | U11: =T11/S11 -> #DIV/0!
A12: 7 | B12: Rasio pinjaman terhadap simpanan di bank umum | F12: =E12/D12 -> #DIV/0! | I12: =H12/G12 -> #DIV/0! | L12: =K12/J12 -> #DIV/0! | O12: =N12/M12 -> #DIV/0! | R12: =Q12/P12 -> #DIV/0! | U12: =T12/S12 -> #DIV/0!
A13: 8 | B13: Rasio pinjaman terhadap simpananan di BPR | F13: =E13/D13 -> #DIV/0! | I13: =H13/G13 -> #DIV/0! | L13: =K13/J13 -> #DIV/0! | O13: =N13/M13 -> #DIV/0! | R13: =Q13/P13 -> #DIV/0! | U13: =T13/S13 -> #DIV/0!
A14: 9 | B14: Angka kriminalitas yang tertangani | F14: =E14/D14 -> #DIV/0! | I14: =H14/G14 -> #DIV/0! | L14: =K14/J14 -> #DIV/0! | O14: =N14/M14 -> #DIV/0! | R14: =Q14/P14 -> #DIV/0! | U14: =T14/S14 -> #DIV/0!
A15: 10 | B15: Rasio ketergantungan | F15: =E15/D15 -> #DIV/0! | I15: =H15/G15 -> #DIV/0! | L15: =K15/J15 -> #DIV/0! | O15: =N15/M15 -> #DIV/0! | R15: =Q15/P15 -> #DIV/0! | U15: =T15/S15 -> #DIV/0!
A16: Rata-Rata Capaian Kinerja (%) | U16: =AVERAGE(U6:U15) -> #DIV/0!
R18: Kepala OPD Penanggung Jawab
R21: ____________________________
R22: NIP.

Sheet Aspek Pelayanan Umum
A1: ASPEK PELAYANAN UMUM
A2: No | B2: Indikator Kinerja Program (Outcome) | D2: Kondisi Kinerja Awal RPJMD (Tahun 2012) | E2: Capaian Kinerja Program dan Kerangka Pendanaan | W2: SKPD Penanggung Jawab
E3: Tahun 2013 | H3: Tahun 2014 | K3: Tahun 2015 | N3: Tahun 2016 | Q3: Tahun 2017 | T3: Kondisi Pada akhir periode RPJMD
E4: target | F4: realisasi | G4: % | H4: target | I4: realisasi | J4: % | K4: target | L4: realisasi | M4: % | N4: target | O4: realisasi | P4: % | Q4: target | R4: realisasi | S4: % | T4: target | U4: realisasi | V4: %
A5: 1 | B5: 2 | D5: 3 | E5: 4 | F5: 5 | G5: 6 | H5: 7 | I5: 8 | J5: 9 | K5: 10 | L5: 11 | M5: 12 | N5: 13 | O5: 14 | P5: 15 | Q5: 16 | R5: 17 | S5: 18 | T5: 19 | U5: 20 | V5: 21 | W5: 22
A6: 1 | B6: Urusan Wajib Pelayanan Dasar | G6: =AVERAGE(G7,G27,G61,G89,G99,G105) -> #DIV/0! | J6: =AVERAGE(J7,J27,J61,J89,J99,J105) -> #DIV/0! | M6: =AVERAGE(M7,M27,M61,M89,M99,M105) -> #DIV/0! | P6: =AVERAGE(P7,P27,P61,P89,P99,P105) -> #DIV/0! | S6: =AVERAGE(S7,S27,S61,S89,S99,S105) -> #DIV/0! | V6: =AVERAGE(V7,V27,V61,V89,V99,V105) -> #DIV/0!
B7: a | C7: Pendidikan | G7: =AVERAGE(G8:G26) -> #DIV/0! | J7: =AVERAGE(J8:J26) -> #DIV/0! | M7: =AVERAGE(M8:M26) -> #DIV/0! | P7: =AVERAGE(P8:P26) -> #DIV/0! | S7: =AVERAGE(S8:S26) -> #DIV/0! | V7: =AVERAGE(V8:V26) -> #DIV/0!
A8: 1 | C8: =Pendidikan!C8 -> Pendidikan Anak Usaha Dini | D8: =Pendidikan!D8 -> 0 | E8: =Pendidikan!E8 -> 0 | F8: =Pendidikan!F8 -> 0 | G8: =Pendidikan!G8 -> #DIV/0! | H8: =Pendidikan!H8 -> 0 | I8: =Pendidikan!I8 -> 0 | J8: =Pendidikan!J8 -> #DIV/0! | ... W8: =Pendidikan!W8 -> 0
A9: 2 | C9: =Pendidikan!C9 -> Angka Partisipasi Kasar | D9: =Pendidikan!D9 -> 0 | E9: =Pendidikan!E9 -> 0 | F9: =Pendidikan!F9 -> 0 | G9: =Pendidikan!G9 -> #DIV/0! | H9: =Pendidikan!H9 -> 0 | I9: =Pendidikan!I9 -> 0 | J9: =Pendidikan!J9 -> #DIV/0! | ... W9: =Pendidikan!W9 -> 0
A10: 3 | C10: =Pendidikan!C10 -> Angka Pendidikan yang ditamatkan | D10: =Pendidikan!D10 -> 0 | E10: =Pendidikan!E10 -> 0 | F10: =Pendidikan!F10 -> 0 | G10: =Pendidikan!G10 -> #DIV/0! | H10: =Pendidikan!H10 -> 0 | I10: =Pendidikan!I10 -> 0 | J10: =Pendidikan!J10 -> #DIV/0! | ... W10: =Pendidikan!W10 -> 0
A11: 4 | C11: =Pendidikan!C11 -> Angka Partisipasi Murni | D11: =Pendidikan!D11 -> 0 | E11: =Pendidikan!E11 -> 0 | F11: =Pendidikan!F11 -> 0 | G11: =Pendidikan!G11 -> #DIV/0! | H11: =Pendidikan!H11 -> 0 | I11: =Pendidikan!I11 -> 0 | J11: =Pendidikan!J11 -> #DIV/0! | ... W11: =Pendidikan!W11 -> 0
A12: 5 | C12: =Pendidikan!C12 -> Angka partisipasi Sekolah | D12: =Pendidikan!D12 -> 0 | E12: =Pendidikan!E12 -> 0 | F12: =Pendidikan!F12 -> 0 | G12: =Pendidikan!G12 -> #DIV/0! | H12: =Pendidikan!H12 -> 0 | I12: =Pendidikan!I12 -> 0 | J12: =Pendidikan!J12 -> #DIV/0! | ... W12: =Pendidikan!W12 -> 0
A13: 6 | C13: =Pendidikan!C13 -> Angka Putus Sekolah | D13: =Pendidikan!D13 -> 0 | E13: =Pendidikan!E13 -> 0 | F13: =Pendidikan!F13 -> 0 | G13: =Pendidikan!G13 -> #DIV/0! | H13: =Pendidikan!H13 -> 0 | I13: =Pendidikan!I13 -> 0 | J13: =Pendidikan!J13 -> #DIV/0! | ... W13: =Pendidikan!W13 -> 0
A14: 7 | C14: =Pendidikan!C14 -> Angka Kelulusan | D14: =Pendidikan!D14 -> 0 | E14: =Pendidikan!E14 -> 0 | F14: =Pendidikan!F14 -> 0 | G14: =Pendidikan!G14 -> #DIV/0! | H14: =Pendidikan!H14 -> 0 | I14: =Pendidikan!I14 -> 0 | J14: =Pendidikan!J14 -> #DIV/0! | ... W14: =Pendidikan!W14 -> 0
A15: 8 | C15: =Pendidikan!C15 -> Angka Melanjutkan (AM) | D15: =Pendidikan!D15 -> 0 | E15: =Pendidikan!E15 -> 0 | F15: =Pendidikan!F15 -> 0 | G15: =Pendidikan!G15 -> #DIV/0! | H15: =Pendidikan!H15 -> 0 | I15: =Pendidikan!I15 -> 0 | J15: =Pendidikan!J15 -> #DIV/0! | ... W15: =Pendidikan!W15 -> 0
A16: 9 | C16: =Pendidikan!C16 -> Fasilitas Pendidikan | D16: =Pendidikan!D16 -> 0 | E16: =Pendidikan!E16 -> 0 | F16: =Pendidikan!F16 -> 0 | G16: =Pendidikan!G16 -> #DIV/0! | H16: =Pendidikan!H16 -> 0 | I16: =Pendidikan!I16 -> 0 | J16: =Pendidikan!J16 -> #DIV/0! | ... W16: =Pendidikan!W16 -> 0
A17: 10 | C17: =Pendidikan!C17 -> Rasio Ketersediaan Sekolah/Penduduk usia sekolah pendidikan dasar | D17: =Pendidikan!D17 -> 0 | E17: =Pendidikan!E17 -> 0 | F17: =Pendidikan!F17 -> 0 | G17: =Pendidikan!G17 -> #DIV/0! | H17: =Pendidikan!H17 -> 0 | I17: =Pendidikan!I17 -> 0 | J17: =Pendidikan!J17 -> #DIV/0! | ... W17: =Pendidikan!W17 -> 0
A18: 11 | C18: =Pendidikan!C18 -> rasio ketersediaan sekolah terhadap penduduk usia sekolah pendidikan menengah | D18: =Pendidikan!D18 -> 0 | E18: =Pendidikan!E18 -> 0 | F18: =Pendidikan!F18 -> 0 | G18: =Pendidikan!G18 -> #DIV/0! | H18: =Pendidikan!H18 -> 0 | I18: =Pendidikan!I18 -> 0 | J18: =Pendidikan!J18 -> #DIV/0! | ... W18: =Pendidikan!W18 -> 0
A19: 12 | C19: =Pendidikan!C19 -> rasio guru/murid sekolah pendidikan dasar | D19: =Pendidikan!D19 -> 0 | E19: =Pendidikan!E19 -> 0 | F19: =Pendidikan!F19 -> 0 | G19: =Pendidikan!G19 -> #DIV/0! | H19: =Pendidikan!H19 -> 0 | I19: =Pendidikan!I19 -> 0 | J19: =Pendidikan!J19 -> #DIV/0! | ... W19: =Pendidikan!W19 -> 0
... A26: 19 | C26: =Pendidikan!C26 -> guru yang memenuhi kualifikasi S1 /DIV | D26: =Pendidikan!D26 -> 0 | E26: =Pendidikan!E26 -> 0 | F26: =Pendidikan!F26 -> 0 | G26: =Pendidikan!G26 -> #DIV/0! | H26: =Pendidikan!H26 -> 0 | I26: =Pendidikan!I26 -> 0 | J26: =Pendidikan!J26 -> #DIV/0! | ... W26: =Pendidikan!W26 -> 0
B27: b | C27: Kesehatan | G27: =AVERAGE(G28:G60) -> #DIV/0! | J27: =AVERAGE(J28:J60) -> #DIV/0! | M27: =AVERAGE(M28:M60) -> #DIV/0! | P27: =AVERAGE(P28:P60) -> #DIV/0! | S27: =AVERAGE(S28:S60) -> #DIV/0! | V27: =AVERAGE(V28:V60) -> #DIV/0!
A28: 1 | C28: =Kesehatan!C8 -> Angka Kematian Bayi (AKB) per 1.000 kelahiran hidup; | D28: =Kesehatan!D8 -> 0 | E28: =Kesehatan!E8 -> 0 | F28: =Kesehatan!F8 -> 0 | G28: =Kesehatan!G8 -> #DIV/0! | H28: =Kesehatan!H8 -> 0 | I28: =Kesehatan!I8 -> 0 | J28: =Kesehatan!J8 -> #DIV/0! | ... W28: =Kesehatan!W8 -> 0
A29: 2 | C29: =Kesehatan!C9 -> Angka kelangsungan hidup bayi; | D29: =Kesehatan!D9 -> 0 | E29: =Kesehatan!E9 -> 0 | F29: =Kesehatan!F9 -> 0 | G29: =Kesehatan!G9 -> #DIV/0! | H29: =Kesehatan!H9 -> 0 | I29: =Kesehatan!I9 -> 0 | J29: =Kesehatan!J9 -> #DIV/0! | ... W29: =Kesehatan!W9 -> 0
A30: 3 | C30: =Kesehatan!C10 -> Angka Kematian Balita per 1.000 kelahiran hidup; | D30: =Kesehatan!D10 -> 0 | E30: =Kesehatan!E10 -> 0 | F30: =Kesehatan!F10 -> 0 | G30: =Kesehatan!G10 -> #DIV/0! | H30: =Kesehatan!H10 -> 0 | I30: =Kesehatan!I10 -> 0 | J30: =Kesehatan!J10 -> #DIV/0! | ... W30: =Kesehatan!W10 -> 0
A31: 4 | C31: =Kesehatan!C11 -> Angka Kematian Neonatal per 1.000 kelahiaran hidup; | D31: =Kesehatan!D11 -> 0 | E31: =Kesehatan!E11 -> 0 | F31: =Kesehatan!F11 -> 0 | G31: =Kesehatan!G11 -> #DIV/0! | H31: =Kesehatan!H11 -> 0 | I31: =Kesehatan!I11 -> 0 | J31: =Kesehatan!J11 -> #DIV/0! | ... W31: =Kesehatan!W11 -> 0
A32: 5 | C32: =Kesehatan!C12 -> Angka Kematian Ibu per 100.000 kelahiran hidup; | D32: =Kesehatan!D12 -> 0 | E32: =Kesehatan!E12 -> 0 | F32: =Kesehatan!F12 -> 0 | G32: =Kesehatan!G12 -> #DIV/0! | H32: =Kesehatan!H12 -> 0 | I32: =Kesehatan!I12 -> 0 | J32: =Kesehatan!J12 -> #DIV/0! | ... W32: =Kesehatan!W12 -> 0
A33: 6 | C33: =Kesehatan!C13 -> Rasio posyandu per satuan balita; | D33: =Kesehatan!D13 -> 0 | E33: =Kesehatan!E13 -> 0 | F33: =Kesehatan!F13 -> 0 | G33: =Kesehatan!G13 -> #DIV/0! | H33: =Kesehatan!H13 -> 0 | I33: =Kesehatan!I13 -> 0 | J33: =Kesehatan!J13 -> #DIV/0! | ... W33: =Kesehatan!W13 -> 0
A34: 7 | C34: =Kesehatan!C14 -> Rasio puskesmas, poliklinik, pustu per satuan penduduk; | D34: =Kesehatan!D14 -> 0 | E34: =Kesehatan!E14 -> 0 | F34: =Kesehatan!F14 -> 0 | G34: =Kesehatan!G14 -> #DIV/0! | H34: =Kesehatan!H14 -> 0 | I34: =Kesehatan!I14 -> 0 | J34: =Kesehatan!J14 -> #DIV/0! | ... W34: =Kesehatan!W14 -> 0
A35: 8 | C35: =Kesehatan!C15 -> Rasio Rumah Sakit per satuan penduduk; | D35: =Kesehatan!D15 -> 0 | E35: =Kesehatan!E15 -> 0 | F35: =Kesehatan!F15 -> 0 | G35: =Kesehatan!G15 -> #DIV/0! | H35: =Kesehatan!H15 -> 0 | I35: =Kesehatan!I15 -> 0 | J35: =Kesehatan!J15 -> #DIV/0! | ... W35: =Kesehatan!W15 -> 0
A36: 9 | C36: =Kesehatan!C16 -> Rasio Dokter per satuan penduduk; | D36: =Kesehatan!D16 -> 0 | E36: =Kesehatan!E16 -> 0 | F36: =Kesehatan!F16 -> 0 | G36: =Kesehatan!G16 -> #DIV/0! | H36: =Kesehatan!H16 -> 0 | I36: =Kesehatan!I16 -> 0 | J36: =Kesehatan!J16 -> #DIV/0! | ... W36: =Kesehatan!W16 -> 0
A37: 10 | C37: =Kesehatan!C17 -> Rasio Tenaga Medis per satuan penduduk; | D37: =Kesehatan!D17 -> 0 | E37: =Kesehatan!E17 -> 0 | F37: =Kesehatan!F17 -> 0 | G37: =Kesehatan!G17 -> #DIV/0! | H37: =Kesehatan!H17 -> 0 | I37: =Kesehatan!I17 -> 0 | J37: =Kesehatan!J17 -> #DIV/0! | ... W37: =Kesehatan!W17 -> 0
A38: 11 | C38: =Kesehatan!C18 -> Cakupan komplikasi kebidanan yang ditangani; | D38: =Kesehatan!D18 -> 0 | E38: =Kesehatan!E18 -> 0 | F38: =Kesehatan!F18 -> 0 | G38: =Kesehatan!G18 -> #DIV/0! | H38: =Kesehatan!H18 -> 0 | I38: =Kesehatan!I18 -> 0 | J38: =Kesehatan!J18 -> #DIV/0! | ... W38: =Kesehatan!W18 -> 0
A39: 12 | C39: =Kesehatan!C19 -> Cakupan pertolongan persalinan oleh tenaga kesehatan yang memiliki kompetensi kebidanan; | D39: =Kesehatan!D19 -> 0 | E39: =Kesehatan!E19 -> 0 | F39: =Kesehatan!F19 -> 0 | G39: =Kesehatan!G19 -> #DIV/0! | H39: =Kesehatan!H19 -> 0 | I39: =Kesehatan!I19 -> 0 | J39: =Kesehatan!J19 -> #DIV/0! | ... W39: =Kesehatan!W19 -> 0
... A60: 33 | C60: =Kesehatan!C40 -> Cakupan pelayanan kesehatan rujukan pasien masyarakat miskin. | D60: =Kesehatan!D40 -> 0 | E60: =Kesehatan!E40 -> 0 | F60: =Kesehatan!F40 -> 0 | G60: =Kesehatan!G40 -> #DIV/0! | H60: =Kesehatan!H40 -> 0 | I60: =Kesehatan!I40 -> 0 | J60: =Kesehatan!J40 -> #DIV/0! | ... W60: =Kesehatan!W40 -> 0
B61: c | C61: Pekerjaan Umum dan Penataan Ruang | G61: =AVERAGE(G62,G82) -> #DIV/0! | J61: =AVERAGE(J62,J82) -> #DIV/0! | M61: =AVERAGE(M62,M82) -> #DIV/0! | P61: =AVERAGE(P62,P82) -> #DIV/0! | S61: =AVERAGE(S62,S82) -> #DIV/0! | V61: =AVERAGE(V62,V82) -> #DIV/0!
B62: c.1 | C62: Pekerjaan Umum | G62: =AVERAGE(G63:G81) -> #DIV/0! | J62: =AVERAGE(J63:J81) -> #DIV/0! | M62: =AVERAGE(M63:M81) -> #DIV/0! | P62: =AVERAGE(P63:P81) -> #DIV/0! | S62: =AVERAGE(S63:S81) -> #DIV/0! | V62: =AVERAGE(V63:V81) -> #DIV/0!
A63: 1 | C63: =PUPR!C9 -> proporsi panjang jaringan jalan dalam kondisi baik | D63: =PUPR!D9 -> 0 | E63: =PUPR!E9 -> 0 | F63: =PUPR!F9 -> 0 | G63: =PUPR!G9 -> #DIV/0! | H63: =PUPR!H9 -> 0 | I63: =PUPR!I9 -> 0 | J63: =PUPR!J9 -> #DIV/0! | ... W63: =PUPR!W9 -> 0
A64: 2 | C64: =PUPR!C10 -> Rasio panjang Jalan dengan jumlah penduduk | D64: =PUPR!D10 -> 0 | E64: =PUPR!E10 -> 0 | F64: =PUPR!F10 -> 0 | G64: =PUPR!G10 -> #DIV/0! | H64: =PUPR!H10 -> 0 | I64: =PUPR!I10 -> 0 | J64: =PUPR!J10 -> #DIV/0! | ... W64: =PUPR!W10 -> 0
A65: 3 | C65: =PUPR!C11 -> Persentase kawasan permukiman yang belum dapat dilalui kendaraan roda 4 | D65: =PUPR!D11 -> 0 | E65: =PUPR!E11 -> 0 | F65: =PUPR!F11 -> 0 | G65: =PUPR!G11 -> #DIV/0! | H65: =PUPR!H11 -> 0 | I65: =PUPR!I11 -> 0 | J65: =PUPR!J11 -> #DIV/0! | ... W65: =PUPR!W11 -> 0
A66: 4 | C66: =PUPR!C12 -> persentase jalan kabupaten dalam kondisi baik (>40 KM/Jam) | D66: =PUPR!D12 -> 0 | E66: =PUPR!E12 -> 0 | F66: =PUPR!F12 -> 0 | G66: =PUPR!G12 -> #DIV/0! | H66: =PUPR!H12 -> 0 | I66: =PUPR!I12 -> 0 | J66: =PUPR!J12 -> #DIV/0! | ... W66: =PUPR!W12 -> 0
A67: 5 | C67: =PUPR!C13 -> persentase jalan yang memiliki trotoar dan drainase/saluran pembuangan air (minimal 1,5 m) | D67: =PUPR!D13 -> 0 | E67: =PUPR!E13 -> 0 | F67: =PUPR!F13 -> 0 | G67: =PUPR!G13 -> #DIV/0! | H67: =PUPR!H13 -> 0 | I67: =PUPR!I13 -> 0 | J67: =PUPR!J13 -> #DIV/0! | ... W67: =PUPR!W13 -> 0
A68: 6 | C68: =PUPR!C14 -> persentase sempedan jalan yang dipakai pedagang kaki lima atau bangunan rumah liar | D68: =PUPR!D14 -> 0 | E68: =PUPR!E14 -> 0 | F68: =PUPR!F14 -> 0 | G68: =PUPR!G14 -> #DIV/0! | H68: =PUPR!H14 -> 0 | I68: =PUPR!I14 -> 0 | J68: =PUPR!J14 -> #DIV/0! | ... W68: =PUPR!W14 -> 0
A69: 7 | C69: =PUPR!C15 -> persentase rumah tinggal bersanitasi | D69: =PUPR!D15 -> 0 | E69: =PUPR!E15 -> 0 | F69: =PUPR!F15 -> 0 | G69: =PUPR!G15 -> #DIV/0! | H69: =PUPR!H15 -> 0 | I69: =PUPR!I15 -> 0 | J69: =PUPR!J15 -> #DIV/0! | ... W69: =PUPR!W15 -> 0
A70: 8 | C70: =PUPR!C16 -> persentase sempedan sungai yang dipakai bangunan liar | D70: =PUPR!D16 -> 0 | E70: =PUPR!E16 -> 0 | F70: =PUPR!F16 -> 0 | G70: =PUPR!G16 -> #DIV/0! | H70: =PUPR!H16 -> 0 | I70: =PUPR!I16 -> 0 | J70: =PUPR!J16 -> #DIV/0! | ... W70: =PUPR!W16 -> 0
A71: 9 | C71: =PUPR!C17 -> persentase drainase dalam kondisi baik/pembuangan aliran air tidak tersumbat | D71: =PUPR!D17 -> 0 | E71: =PUPR!E17 -> 0 | F71: =PUPR!F17 -> 0 | G71: =PUPR!G17 -> #DIV/0! | H71: =PUPR!H17 -> 0 | I71: =PUPR!I17 -> 0 | J71: =PUPR!J17 -> #DIV/0! | ... W71: =PUPR!W17 -> 0
A72: 10 | C72: =PUPR!C18 -> tidak terjadi genangan >2 kali setahun | D72: =PUPR!D18 -> 0 | E72: =PUPR!E18 -> 0 | F72: =PUPR!F18 -> 0 | G72: =PUPR!G18 -> #DIV/0! | H72: =PUPR!H18 -> 0 | I72: =PUPR!I18 -> 0 | J72: =PUPR!J18 -> #DIV/0! | ... W72: =PUPR!W18 -> 0
A73: 11 | C73: =PUPR!C19 -> persentase pembangunan turap diwilayah jalan penghubung dan aliran sungai rawan longsor | D73: =PUPR!D19 -> 0 | E73: =PUPR!E19 -> 0 | F73: =PUPR!F19 -> 0 | G73: =PUPR!G19 -> #DIV/0! | H73: =PUPR!H19 -> 0 | I73: =PUPR!I19 -> 0 | J73: =PUPR!J19 -> #DIV/0! | ... W73: =PUPR!W19 -> 0
A74: 12 | C74: =PUPR!C20 -> persentase irigasi kabupaten dalam kondisi baik | D74: =PUPR!D20 -> 0 | E74: =PUPR!E20 -> 0 | F74: =PUPR!F20 -> 0 | G74: =PUPR!G20 -> #DIV/0! | H74: =PUPR!H20 -> 0 | I74: =PUPR!I20 -> 0 | J74: =PUPR!J20 -> #DIV/0! | ... W74: =PUPR!W20 -> 0
... A81: 19 | C81: =PUPR!C27 -> rasio tempat ibadah persatuan penduduk | D81: =PUPR!D27 -> 0 | E81: =PUPR!E27 -> 0 | F81: =PUPR!F27 -> 0 | G81: =PUPR!G27 -> #DIV/0! | H81: =PUPR!H27 -> 0 | I81: =PUPR!I27 -> 0 | J81: =PUPR!J27 -> #DIV/0! | ... W81: =PUPR!W27 -> 0
B82: c.2 | C82: Penataan Ruang | G82: =AVERAGE(G83:G88) -> #DIV/0! | J82: =AVERAGE(J83:J88) -> #DIV/0! | M82: =AVERAGE(M83:M88) -> #DIV/0! | P82: =AVERAGE(P83:P88) -> #DIV/0! | S82: =AVERAGE(S83:S88) -> #DIV/0! | V82: =AVERAGE(V83:V88) -> #DIV/0!
A83: 1 | C83: =PUPR!C29 -> Rasio ruang terbuka hijau persatuan luas wilayah ber HPL/HGB | D83: =PUPR!D29 -> 0 | E83: =PUPR!E29 -> 0 | F83: =PUPR!F29 -> 0 | G83: =PUPR!G29 -> #DIV/0! | H83: =PUPR!H29 -> 0 | I83: =PUPR!I29 -> 0 | J83: =PUPR!J29 -> #DIV/0! | ... W83: =PUPR!W29 -> 0
A84: 2 | C84: =PUPR!C30 -> luas RTH publik sebesar 20% dari luas wilayah kota/kawasan perkotaan | D84: =PUPR!D30 -> 0 | E84: =PUPR!E30 -> 0 | F84: =PUPR!F30 -> 0 | G84: =PUPR!G30 -> #DIV/0! | H84: =PUPR!H30 -> 0 | I84: =PUPR!I30 -> 0 | J84: =PUPR!J30 -> #DIV/0! | ... W84: =PUPR!W30 -> 0
A85: 3 | C85: =PUPR!C31 -> Rasio bangunan ber IMB persatuan bangunan | D85: =PUPR!D31 -> 0 | E85: =PUPR!E31 -> 0 | F85: =PUPR!F31 -> 0 | G85: =PUPR!G31 -> #DIV/0! | H85: =PUPR!H31 -> 0 | I85: =PUPR!I31 -> 0 | J85: =PUPR!J31 -> #DIV/0! | ... W85: =PUPR!W31 -> 0
A86: 4 | C86: =PUPR!C32 -> ruang publik yang berubah peruntukannya | D86: =PUPR!D32 -> 0 | E86: =PUPR!E32 -> 0 | F86: =PUPR!F32 -> 0 | G86: =PUPR!G32 -> #DIV/0! | H86: =PUPR!H32 -> 0 | I86: =PUPR!I32 -> 0 | J86: =PUPR!J32 -> #DIV/0! | ... W86: =PUPR!W32 -> 0
A87: 5 | C87: =PUPR!C33 -> rasio luas kawasan tertutup pepohonan berdasarkan hasil pemotretan citra satelit dan survei foto udara terhadap luas daratan | D87: =PUPR!D33 -> 0 | E87: =PUPR!E33 -> 0 | F87: =PUPR!F33 -> 0 | G87: =PUPR!G33 -> #DIV/0! | H87: =PUPR!H33 -> 0 | I87: =PUPR!I33 -> 0 | J87: =PUPR!J33 -> #DIV/0! | ... W87: =PUPR!W33 -> 0
A88: 6 | C88: =PUPR!C34 -> ketaatan terhadap RTRW | D88: =PUPR!D34 -> 0 | E88: =PUPR!E34 -> 0 | F88: =PUPR!F34 -> 0 | G88: =PUPR!G34 -> #DIV/0! | H88: =PUPR!H34 -> 0 | I88: =PUPR!I34 -> 0 | J88: =PUPR!J34 -> #DIV/0! | ... W88: =PUPR!W34 -> 0
B89: d | C89: Perumahan Rakyat dan Kawasan Pemukiman | G89: =AVERAGE(G90:G98) -> #DIV/0! | J89: =AVERAGE(J90:J98) -> #DIV/0! | M89: =AVERAGE(M90:M98) -> #DIV/0! | P89: =AVERAGE(P90:P98) -> #DIV/0! | S89: =AVERAGE(S90:S98) -> #DIV/0! | V89: =AVERAGE(V90:V98) -> #DIV/0!
A90: 1 | C90: ='Pera dan KP'!C8 -> Rasio rumah layak huni | D90: ='Pera dan KP'!D8 -> 0 | E90: ='Pera dan KP'!E8 -> 0 | F90: ='Pera dan KP'!F8 -> 0 | G90: ='Pera dan KP'!G8 -> #DIV/0! | H90: ='Pera dan KP'!H8 -> 0 | I90: ='Pera dan KP'!I8 -> 0 | J90: ='Pera dan KP'!J8 -> #DIV/0! | ... W90: ='Pera dan KP'!W8 -> 0
A91: 2 | C91: ='Pera dan KP'!C9 -> rasio permukiman layak huni | D91: ='Pera dan KP'!D9 -> 0 | E91: ='Pera dan KP'!E9 -> 0 | F91: ='Pera dan KP'!F9 -> 0 | G91: ='Pera dan KP'!G9 -> #DIV/0! | H91: ='Pera dan KP'!H9 -> 0 | I91: ='Pera dan KP'!I9 -> 0 | J91: ='Pera dan KP'!J9 -> #DIV/0! | ... W91: ='Pera dan KP'!W9 -> 0
A92: 3 | C92: ='Pera dan KP'!C10 -> cakupan ketersediaan rumah layak huni | D92: ='Pera dan KP'!D10 -> 0 | E92: ='Pera dan KP'!E10 -> 0 | F92: ='Pera dan KP'!F10 -> 0 | G92: ='Pera dan KP'!G10 -> #DIV/0! | H92: ='Pera dan KP'!H10 -> 0 | I92: ='Pera dan KP'!I10 -> 0 | J92: ='Pera dan KP'!J10 -> #DIV/0! | ... W92: ='Pera dan KP'!W10 -> 0
A93: 4 | C93: ='Pera dan KP'!C11 -> cakupan layanan rumah layak huni yang terjangkau | D93: ='Pera dan KP'!D11 -> 0 | E93: ='Pera dan KP'!E11 -> 0 | F93: ='Pera dan KP'!F11 -> 0 | G93: ='Pera dan KP'!G11 -> #DIV/0! | H93: ='Pera dan KP'!H11 -> 0 | I93: ='Pera dan KP'!I11 -> 0 | J93: ='Pera dan KP'!J11 -> #DIV/0! | ... W93: ='Pera dan KP'!W11 -> 0
A94: 5 | C94: ='Pera dan KP'!C12 -> persentase pemukiman yang tertata | D94: ='Pera dan KP'!D12 -> 0 | E94: ='Pera dan KP'!E12 -> 0 | F94: ='Pera dan KP'!F12 -> 0 | G94: ='Pera dan KP'!G12 -> #DIV/0! | H94: ='Pera dan KP'!H12 -> 0 | I94: ='Pera dan KP'!I12 -> 0 | J94: ='Pera dan KP'!J12 -> #DIV/0! | ... W94: ='Pera dan KP'!W12 -> 0
A95: 6 | C95: ='Pera dan KP'!C13 -> persentase lingkungan pemukiman kumuh | D95: ='Pera dan KP'!D13 -> 0 | E95: ='Pera dan KP'!E13 -> 0 | F95: ='Pera dan KP'!F13 -> 0 | G95: ='Pera dan KP'!G13 -> #DIV/0! | H95: ='Pera dan KP'!H13 -> 0 | I95: ='Pera dan KP'!I13 -> 0 | J95: ='Pera dan KP'!J13 -> #DIV/0! | ... W95: ='Pera dan KP'!W13 -> 0
A96: 7 | C96: ='Pera dan KP'!C14 -> persentase luasan permukiman kumuh di kawasan perkotaan | D96: ='Pera dan KP'!D14 -> 0 | E96: ='Pera dan KP'!E14 -> 0 | F96: ='Pera dan KP'!F14 -> 0 | G96: ='Pera dan KP'!G14 -> #DIV/0! | H96: ='Pera dan KP'!H14 -> 0 | I96: ='Pera dan KP'!I14 -> 0 | J96: ='Pera dan KP'!J14 -> #DIV/0! | ... W96: ='Pera dan KP'!W14 -> 0
A97: 8 | C97: ='Pera dan KP'!C15 -> proporsi rumah tangga kumuh perkotaan | D97: ='Pera dan KP'!D15 -> 0 | E97: ='Pera dan KP'!E15 -> 0 | F97: ='Pera dan KP'!F15 -> 0 | G97: ='Pera dan KP'!G15 -> #DIV/0! | H97: ='Pera dan KP'!H15 -> 0 | I97: ='Pera dan KP'!I15 -> 0 | J97: ='Pera dan KP'!J15 -> #DIV/0! | ... W97: ='Pera dan KP'!W15 -> 0
A98: 9 | C98: ='Pera dan KP'!C16 -> cukupan lingkungan yang sehat dan aman yang didukung dengan PSU | D98: ='Pera dan KP'!D16 -> 0 | E98: ='Pera dan KP'!E16 -> 0 | F98: ='Pera dan KP'!F16 -> 0 | G98: ='Pera dan KP'!G16 -> #DIV/0! | H98: ='Pera dan KP'!H16 -> 0 | I98: ='Pera dan KP'!I16 -> 0 | J98: ='Pera dan KP'!J16 -> #DIV/0! | ... W98: ='Pera dan KP'!W16 -> 0
B99: e | C99: Ketenteraman, Ketertiban Umum, dan Perlindungan Masyarakat | G99: =AVERAGE(G100:G104) -> #DIV/0! | J99: =AVERAGE(J100:J104) -> #DIV/0! | M99: =AVERAGE(M100:M104) -> #DIV/0! | P99: =AVERAGE(P100:P104) -> #DIV/0! | S99: =AVERAGE(S100:S104) -> #DIV/0! | V99: =AVERAGE(V100:V104) -> #DIV/0!
A100: 1 | C100: =Trantibumlinmas!C8 -> Cakupan petugas Perlindungan Masyarakat (Linmas) | D100: =Trantibumlinmas!D8 -> 0 | E100: =Trantibumlinmas!E8 -> 0 | F100: =Trantibumlinmas!F8 -> 0 | G100: =Trantibumlinmas!G8 -> #DIV/0! | H100: =Trantibumlinmas!H8 -> 0 | I100: =Trantibumlinmas!I8 -> 0 | J100: =Trantibumlinmas!J8 -> #DIV/0! | ... W100: =Trantibumlinmas!W8 -> 0
A101: 2 | C101: =Trantibumlinmas!C9 -> Tingkat penyelesaian pelanggaran K3 (Ketertiban, ketentraman, keindahan) | D101: =Trantibumlinmas!D9 -> 0 | E101: =Trantibumlinmas!E9 -> 0 | F101: =Trantibumlinmas!F9 -> 0 | G101: =Trantibumlinmas!G9 -> #DIV/0! | H101: =Trantibumlinmas!H9 -> 0 | I101: =Trantibumlinmas!I9 -> 0 | J101: =Trantibumlinmas!J9 -> #DIV/0! | ... W101: =Trantibumlinmas!W9 -> 0
A102: 3 | C102: =Trantibumlinmas!C10 -> Cakupan pelayanan bencana kebakaran kabupaten/kota | D102: =Trantibumlinmas!D10 -> 0 | E102: =Trantibumlinmas!E10 -> 0 | F102: =Trantibumlinmas!F10 -> 0 | G102: =Trantibumlinmas!G10 -> #DIV/0! | H102: =Trantibumlinmas!H10 -> 0 | I102: =Trantibumlinmas!I10 -> 0 | J102: =Trantibumlinmas!J10 -> #DIV/0! | ... W102: =Trantibumlinmas!W10 -> 0
A103: 4 | C103: =Trantibumlinmas!C11 -> Tingkat waktu tanggap (response time rate) daerah layanan Wilayah Manajemen Kebakaran (WMK) | D103: =Trantibumlinmas!D11 -> 0 | E103: =Trantibumlinmas!E11 -> 0 | F103: =Trantibumlinmas!F11 -> 0 | G103: =Trantibumlinmas!G11 -> #DIV/0! | H103: =Trantibumlinmas!H11 -> 0 | I103: =Trantibumlinmas!I11 -> 0 | J103: =Trantibumlinmas!J11 -> #DIV/0! | ... W103: =Trantibumlinmas!W11 -> 0
A104: 5 | C104: =Trantibumlinmas!C12 -> Persentase Penegakan PERDA | D104: =Trantibumlinmas!D12 -> 0 | E104: =Trantibumlinmas!E12 -> 0 | F104: =Trantibumlinmas!F12 -> 0 | G104: =Trantibumlinmas!G12 -> #DIV/0! | H104: =Trantibumlinmas!H12 -> 0 | I104: =Trantibumlinmas!I12 -> 0 | J104: =Trantibumlinmas!J12 -> #DIV/0! | ... W104: =Trantibumlinmas!W12 -> 0
B105: f | C105: Sosial | G105: =AVERAGE(G106:G114) -> #DIV/0! | J105: =AVERAGE(J106:J114) -> #DIV/0! | M105: =AVERAGE(M106:M114) -> #DIV/0! | P105: =AVERAGE(P106:P114) -> #DIV/0! | S105: =AVERAGE(S106:S114) -> #DIV/0! | V105: =AVERAGE(V106:V114) -> #DIV/0!
A106: 1 | C106: =Sosial!C8 -> Persentase PMKS yang memperoleh bantuan sosial; | D106: =Sosial!D8 -> 0 | E106: =Sosial!E8 -> 0 | F106: =Sosial!F8 -> 0 | G106: =Sosial!G8 -> #DIV/0! | H106: =Sosial!H8 -> 0 | I106: =Sosial!I8 -> 0 | J106: =Sosial!J8 -> #DIV/0! | ... W106: =Sosial!W8 -> 0
A107: 2 | C107: =Sosial!C9 -> Persentase PMKS yang tertangani; | D107: =Sosial!D9 -> 0 | E107: =Sosial!E9 -> 0 | F107: =Sosial!F9 -> 0 | G107: =Sosial!G9 -> #DIV/0! | H107: =Sosial!H9 -> 0 | I107: =Sosial!I9 -> 0 | J107: =Sosial!J9 -> #DIV/0! | ... W107: =Sosial!W9 -> 0
A108: 3 | C108: =Sosial!C10 -> Persentase PMKS skala yang memperoleh bantuan sosial untuk pemenuhan kebutuhan dasar; | D108: =Sosial!D10 -> 0 | E108: =Sosial!E10 -> 0 | F108: =Sosial!F10 -> 0 | G108: =Sosial!G10 -> #DIV/0! | H108: =Sosial!H10 -> 0 | I108: =Sosial!I10 -> 0 | J108: =Sosial!J10 -> #DIV/0! | ... W108: =Sosial!W10 -> 0
A109: 4 | C109: =Sosial!C11 -> Persentase panti sosial yang menerima program pemberdayaan sosial melalui kelompok usaha bersama (KUBE) atau kelompok sosial ekonomi sejenis lainnya; | D109: =Sosial!D11 -> 0 | E109: =Sosial!E11 -> 0 | F109: =Sosial!F11 -> 0 | G109: =Sosial!G11 -> #DIV/0! | H109: =Sosial!H11 -> 0 | I109: =Sosial!I11 -> 0 | J109: =Sosial!J11 -> #DIV/0! | ... W109: =Sosial!W11 -> 0
A110: 5 | C110: =Sosial!C12 -> Persentase panti sosial yang menyediakan sarana prasarana pelayanan kesehatan sosial; | D110: =Sosial!D12 -> 0 | E110: =Sosial!E12 -> 0 | F110: =Sosial!F12 -> 0 | G110: =Sosial!G12 -> #DIV/0! | H110: =Sosial!H12 -> 0 | I110: =Sosial!I12 -> 0 | J110: =Sosial!J12 -> #DIV/0! | ... W110: =Sosial!W12 -> 0
A111: 6 | C111: =Sosial!C13 -> Persentase wahana kesejahteraan sosial berbasis masyarakat (WKBSM) yang menyediakan sarana prasarana pelayanan kesejahteraan sosial; | D111: =Sosial!D13 -> 0 | E111: =Sosial!E13 -> 0 | F111: =Sosial!F13 -> 0 | G111: =Sosial!G13 -> #DIV/0! | H111: =Sosial!H13 -> 0 | I111: =Sosial!I13 -> 0 | J111: =Sosial!J13 -> #DIV/0! | ... W111: =Sosial!W13 -> 0
A112: 7 | C112: =Sosial!C14 -> Persentase korban bencana yang menerima bantuan sosial selama masa tanggap darurat; | D112: =Sosial!D14 -> 0 | E112: =Sosial!E14 -> 0 | F112: =Sosial!F14 -> 0 | G112: =Sosial!G14 -> #DIV/0! | H112: =Sosial!H14 -> 0 | I112: =Sosial!I14 -> 0 | J112: =Sosial!J14 -> #DIV/0! | ... W112: =Sosial!W14 -> 0
A113: 8 | C113: =Sosial!C15 -> Persentase korban bencana yang dievakuasi dengan menggunakan sarana prasarana tanggap darurat lengkap; | D113: =Sosial!D15 -> 0 | E113: =Sosial!E15 -> 0 | F113: =Sosial!F15 -> 0 | G113: =Sosial!G15 -> #DIV/0! | H113: =Sosial!H15 -> 0 | I113: =Sosial!I15 -> 0 | J113: =Sosial!J15 -> #DIV/0! | ... W113: =Sosial!W15 -> 0
A114: 9 | C114: =Sosial!C16 -> Persentase penyandang cacat fisik dan mental, serta lanjut usia tidak potensial yang telah menerima jaminan sosial. | D114: =Sosial!D16 -> 0 | E114: =Sosial!E16 -> 0 | F114: =Sosial!F16 -> 0 | G114: =Sosial!G16 -> #DIV/0! | H114: =Sosial!H16 -> 0 | I114: =Sosial!I16 -> 0 | J114: =Sosial!J16 -> #DIV/0! | ... W114: =Sosial!W16 -> 0
A115: 2 | B115: Urusan Wajib Non Pelayanan Dasar | G115: =AVERAGE(G116,G129,G149,G153,G157,G183,G191,G201,G233,G244,G250,G255,G260,G268,G272,G274,G279,G286) -> #DIV/0! | J115: =AVERAGE(J116,J129,J149,J153,J157,J183,J191,J201,J233,J244,J250,J255,J260,J268,J272,J274,J279,J286) -> #DIV/0! | M115: =AVERAGE(M116,M129,M149,M153,M157,M183,M191,M201,M233,M244,M250,M255,M260,M268,M272,M274,M279,M286) -> #DIV/0! | P115: =AVERAGE(P116,P129,P149,P153,P157,P183,P191,P201,P233,P244,P250,P255,P260,P268,P272,P274,P279,P286) -> #DIV/0! | S115: =AVERAGE(S116,S129,S149,S153,S157,S183,S191,S201,S233,S244,S250,S255,S260,S268,S272,S274,S279,S286) -> #DIV/0! | V115: =AVERAGE(V116,V129,V149,V153,V157,V183,V191,V201,V233,V244,V250,V255,V260,V268,V272,V274,V279,V286) -> #DIV/0!
B116: a | C116: Tenaga Kerja | G116: =AVERAGE(G117:G128) -> #DIV/0! | J116: =AVERAGE(J117:J128) -> #DIV/0! | M116: =AVERAGE(M117:M128) -> #DIV/0! | P116: =AVERAGE(P117:P128) -> #DIV/0! | S116: =AVERAGE(S117:S128) -> #DIV/0! | V116: =AVERAGE(V117:V128) -> #DIV/0!
A117: 1 | C117: ='Tenaga Kerja'!C8 -> Angka sengketa pengusaha-pekerja per tahun; | D117: ='Tenaga Kerja'!D8 -> 0 | E117: ='Tenaga Kerja'!E8 -> 0 | F117: ='Tenaga Kerja'!F8 -> 0 | G117: ='Tenaga Kerja'!G8 -> #DIV/0! | H117: ='Tenaga Kerja'!H8 -> 0 | I117: ='Tenaga Kerja'!I8 -> 0 | J117: ='Tenaga Kerja'!J8 -> #DIV/0! | ... W117: ='Tenaga Kerja'!W8 -> 0
A118: 2 | C118: ='Tenaga Kerja'!C9 -> Besaran kasus yang diselesaikan dengan Perjanjian Bersama (PB); | D118: ='Tenaga Kerja'!D9 -> 0 | E118: ='Tenaga Kerja'!E9 -> 0 | F118: ='Tenaga Kerja'!F9 -> 0 | G118: ='Tenaga Kerja'!G9 -> #DIV/0! | H118: ='Tenaga Kerja'!H9 -> 0 | I118: ='Tenaga Kerja'!I9 -> 0 | J118: ='Tenaga Kerja'!J9 -> #DIV/0! | ... W118: ='Tenaga Kerja'!W9 -> 0
A119: 3 | C119: ='Tenaga Kerja'!C10 -> Besaran pencari kerja yang terdaftar yang ditempatkan; | D119: ='Tenaga Kerja'!D10 -> 0 | E119: ='Tenaga Kerja'!E10 -> 0 | F119: ='Tenaga Kerja'!F10 -> 0 | G119: ='Tenaga Kerja'!G10 -> #DIV/0! | H119: ='Tenaga Kerja'!H10 -> 0 | I119: ='Tenaga Kerja'!I10 -> 0 | J119: ='Tenaga Kerja'!J10 -> #DIV/0! | ... W119: ='Tenaga Kerja'!W10 -> 0
A120: 4 | C120: ='Tenaga Kerja'!C11 -> Keselamatan dan perlindungan; | D120: ='Tenaga Kerja'!D11 -> 0 | E120: ='Tenaga Kerja'!E11 -> 0 | F120: ='Tenaga Kerja'!F11 -> 0 | G120: ='Tenaga Kerja'!G11 -> #DIV/0! | H120: ='Tenaga Kerja'!H11 -> 0 | I120: ='Tenaga Kerja'!I11 -> 0 | J120: ='Tenaga Kerja'!J11 -> #DIV/0! | ... W120: ='Tenaga Kerja'!W11 -> 0
A121: 5 | C121: ='Tenaga Kerja'!C12 -> Besaran pekerja/buruh yang menjadi peserta program Jamsostek; | D121: ='Tenaga Kerja'!D12 -> 0 | E121: ='Tenaga Kerja'!E12 -> 0 | F121: ='Tenaga Kerja'!F12 -> 0 | G121: ='Tenaga Kerja'!G12 -> #DIV/0! | H121: ='Tenaga Kerja'!H12 -> 0 | I121: ='Tenaga Kerja'!I12 -> 0 | J121: ='Tenaga Kerja'!J12 -> #DIV/0! | ... W121: ='Tenaga Kerja'!W12 -> 0
A122: 6 | C122: ='Tenaga Kerja'!C13 -> Perselisihan buruh dan pengusaha terhadap kebijakan pemerintah daerah; | D122: ='Tenaga Kerja'!D13 -> 0 | E122: ='Tenaga Kerja'!E13 -> 0 | F122: ='Tenaga Kerja'!F13 -> 0 | G122: ='Tenaga Kerja'!G13 -> #DIV/0! | H122: ='Tenaga Kerja'!H13 -> 0 | I122: ='Tenaga Kerja'!I13 -> 0 | J122: ='Tenaga Kerja'!J13 -> #DIV/0! | ... W122: ='Tenaga Kerja'!W13 -> 0
A123: 7 | C123: ='Tenaga Kerja'!C14 -> Besaran Pemeriksaan Perusahaan; | D123: ='Tenaga Kerja'!D14 -> 0 | E123: ='Tenaga Kerja'!E14 -> 0 | F123: ='Tenaga Kerja'!F14 -> 0 | G123: ='Tenaga Kerja'!G14 -> #DIV/0! | H123: ='Tenaga Kerja'!H14 -> 0 | I123: ='Tenaga Kerja'!I14 -> 0 | J123: ='Tenaga Kerja'!J14 -> #DIV/0! | ... W123: ='Tenaga Kerja'!W14 -> 0
A124: 8 | C124: ='Tenaga Kerja'!C15 -> Besaran pengujian peralatan di perusahaan; | D124: ='Tenaga Kerja'!D15 -> 0 | E124: ='Tenaga Kerja'!E15 -> 0 | F124: ='Tenaga Kerja'!F15 -> 0 | G124: ='Tenaga Kerja'!G15 -> #DIV/0! | H124: ='Tenaga Kerja'!H15 -> 0 | I124: ='Tenaga Kerja'!I15 -> 0 | J124: ='Tenaga Kerja'!J15 -> #DIV/0! | ... W124: ='Tenaga Kerja'!W15 -> 0
A125: 9 | C125: ='Tenaga Kerja'!C16 -> Besaran tenaga kerja yang mendapatkan pelatihan berbasis kompetensi; | D125: ='Tenaga Kerja'!D16 -> 0 | E125: ='Tenaga Kerja'!E16 -> 0 | F125: ='Tenaga Kerja'!F16 -> 0 | G125: ='Tenaga Kerja'!G16 -> #DIV/0! | H125: ='Tenaga Kerja'!H16 -> 0 | I125: ='Tenaga Kerja'!I16 -> 0 | J125: ='Tenaga Kerja'!J16 -> #DIV/0! | ... W125: ='Tenaga Kerja'!W16 -> 0
A126: 10 | C126: ='Tenaga Kerja'!C17 -> Besaran tenaga kerja yang mendapatkan pelatihan berbasis masyarakat; | D126: ='Tenaga Kerja'!D17 -> 0 | E126: ='Tenaga Kerja'!E17 -> 0 | F126: ='Tenaga Kerja'!F17 -> 0 | G126: ='Tenaga Kerja'!G17 -> #DIV/0! | H126: ='Tenaga Kerja'!H17 -> 0 | I126: ='Tenaga Kerja'!I17 -> 0 | J126: ='Tenaga Kerja'!J17 -> #DIV/0! | ... W126: ='Tenaga Kerja'!W17 -> 0
A127: 11 | C127: ='Tenaga Kerja'!C18 -> Besaran tenaga kerja yang mendapatkan pelatihan kewirausahaan; dan | D127: ='Tenaga Kerja'!D18 -> 0 | E127: ='Tenaga Kerja'!E18 -> 0 | F127: ='Tenaga Kerja'!F18 -> 0 | G127: ='Tenaga Kerja'!G18 -> #DIV/0! | H127: ='Tenaga Kerja'!H18 -> 0 | I127: ='Tenaga Kerja'!I18 -> 0 | J127: ='Tenaga Kerja'!J18 -> #DIV/0! | ... W127: ='Tenaga Kerja'!W18 -> 0
A128: 12 | C128: ='Tenaga Kerja'!C19 -> Rasio lulusan S1/S2/S3. | D128: ='Tenaga Kerja'!D19 -> 0 | E128: ='Tenaga Kerja'!E19 -> 0 | F128: ='Tenaga Kerja'!F19 -> 0 | G128: ='Tenaga Kerja'!G19 -> #DIV/0! | H128: ='Tenaga Kerja'!H19 -> 0 | I128: ='Tenaga Kerja'!I19 -> 0 | J128: ='Tenaga Kerja'!J19 -> #DIV/0! | ... W128: ='Tenaga Kerja'!W19 -> 0
B129: b | C129: Pemberdayaan Perempuan dan Perlindungan Anak | G129: =AVERAGE(G130:G148) -> #DIV/0! | J129: =AVERAGE(J130:J148) -> #DIV/0! | M129: =AVERAGE(M130:M148) -> #DIV/0! | P129: =AVERAGE(P130:P148) -> #DIV/0! | S129: =AVERAGE(S130:S148) -> #DIV/0! | V129: =AVERAGE(V130:V148) -> #DIV/0!
A130: 1 | C130: =PPPA!C8 -> Persentase partisipasi perempuan di lembaga pemerintah; | D130: =PPPA!D8 -> 0 | E130: =PPPA!E8 -> 0 | F130: =PPPA!F8 -> 0 | G130: =PPPA!G8 -> #DIV/0! | H130: =PPPA!H8 -> 0 | I130: =PPPA!I8 -> 0 | J130: =PPPA!J8 -> #DIV/0! | ... W130: =PPPA!W8 -> 0
A131: 2 | C131: =PPPA!C9 -> Proporsi kursi yang diduduki perempuan di DPR; | D131: =PPPA!D9 -> 0 | E131: =PPPA!E9 -> 0 | F131: =PPPA!F9 -> 0 | G131: =PPPA!G9 -> #DIV/0! | H131: =PPPA!H9 -> 0 | I131: =PPPA!I9 -> 0 | J131: =PPPA!J9 -> #DIV/0! | ... W131: =PPPA!W9 -> 0
A132: 3 | C132: =PPPA!C10 -> Partisipasi perempuan di lembaga swasta; | D132: =PPPA!D10 -> 0 | E132: =PPPA!E10 -> 0 | F132: =PPPA!F10 -> 0 | G132: =PPPA!G10 -> #DIV/0! | H132: =PPPA!H10 -> 0 | I132: =PPPA!I10 -> 0 | J132: =PPPA!J10 -> #DIV/0! | ... W132: =PPPA!W10 -> 0
...

Sheet Rekapitulasi Per Aspek
A1: Rekapitulasi Per Aspek
A3: No | B3: Aspek | C3: Bobot | D3: Rata-rata Capaian Kinerja | E3: Skor
A4: A | B4: Aspek Kesejahteraan Masyarakat | C4: 0.35 | D4: ='Aspek Kesejahteraan Masyarakat'!U51 -> #DIV/0! | E4: =C4*D4 -> #DIV/0!
A5: B | B5: Aspek Daya Saign Daerah | C5: 0.3 | D5: ='Aspek Daya Saing Daerah'!U16 -> #DIV/0! | E5: =C5*D5 -> #DIV/0!
A6: C | B6: Aspek Pelayanan Umum | C6: 0.35 | D6: ='Aspek Pelayanan Umum'!V363 -> #DIV/0! | E6: =C6*D6 -> #DIV/0!
A7: Total Skor | C7: 1 | D7: =AVERAGE(D4:D6) -> #DIV/0! | E7: =SUM(E4:E6) -> #DIV/0!
A8: Rata-Rata Capaian
A9: Predikat Kinerja
A10: Nilai Capaian Kinerja : | E10: =E7 -> #DIV/0!
A11: Kriteria Capaian Nilai Peringkat Kinerja : | E11: =IF(90%<=E10,"sangat baik",IF(75%<=E10<90%,"baik",IF(65%<=E10<75%,"sedang",IF(50%<=E10<65%,"kurang","sangat kurang")))) -> #DIV/0!

Sheet Pendidikan
D1: ASPEK PELAYANAN UMUM
A2: No | B2: Indikator Kinerja Program (Outcome) | D2: Kondisi Kinerja Awal RPJMD (Tahun 2012) | E2: Capaian Kinerja Program dan Kerangka Pendanaan | W2: SKPD Penanggung Jawab
E3: Tahun 2013 | H3: Tahun 2014 | K3: Tahun 2015 | N3: Tahun 2016 | Q3: Tahun 2017 | T3: Kondisi Pada akhir periode RPJMD
E4: target | F4: realisasi | G4: % | H4: target | I4: realisasi | J4: % | K4: target | L4: realisasi | M4: % | N4: target | O4: realisasi | P4: % | Q4: target | R4: realisasi | S4: % | T4: target | U4: realisasi | V4: %
A5: 1 | B5: 2 | D5: 3 | E5: 4 | F5: 5 | G5: 6 | H5: 7 | I5: 8 | J5: 9 | K5: 10 | L5: 11 | M5: 12 | N5: 13 | O5: 14 | P5: 15 | Q5: 16 | R5: 17 | S5: 18 | T5: 19 | U5: 20 | V5: 21 | W5: 22
A6: 1 | B6: Urusan Wajib Pelayanan Dasar | G6: =AVERAGE(G7,#REF!,#REF!,#REF!,#REF!,#REF!) -> #REF! | J6: =AVERAGE(J7,#REF!,#REF!,#REF!,#REF!,#REF!) -> #REF! | M6: =AVERAGE(M7,#REF!,#REF!,#REF!,#REF!,#REF!) -> #REF! | P6: =AVERAGE(P7,#REF!,#REF!,#REF!,#REF!,#REF!) -> #REF! | S6: =AVERAGE(S7,#REF!,#REF!,#REF!,#REF!,#REF!) -> #REF! | V6: =AVERAGE(V7,#REF!,#REF!,#REF!,#REF!,#REF!) -> #REF!
B7: a | C7: Pendidikan | G7: =AVERAGE(G8:G26) -> #DIV/0! | J7: =AVERAGE(J8:J26) -> #DIV/0! | M7: =AVERAGE(M8:M26) -> #DIV/0! | P7: =AVERAGE(P8:P26) -> #DIV/0! | S7: =AVERAGE(S8:S26) -> #DIV/0! | V7: =AVERAGE(V8:V26) -> #DIV/0!
A8: 1 | C8: Pendidikan Anak Usaha Dini | G8: =F8/E8 -> #DIV/0! | J8: =I8/H8 -> #DIV/0! | M8: =L8/K8 -> #DIV/0! | P8: =O8/N8 -> #DIV/0! | S8: =R8/Q8 -> #DIV/0! | V8: =U8/T8 -> #DIV/0!
A9: 2 | C9: Angka Partisipasi Kasar | G9: =F9/E9 -> #DIV/0! | J9: =I9/H9 -> #DIV/0! | M9: =L9/K9 -> #DIV/0! | P9: =O9/N9 -> #DIV/0! | S9: =R9/Q9 -> #DIV/0! | V9: =U9/T9 -> #DIV/0!
A10: 3 | C10: Angka Pendidikan yang ditamatkan | G10: =F10/E10 -> #DIV/0! | J10: =I10/H10 -> #DIV/0! | M10: =L10/K10 -> #DIV/0! | P10: =O10/N10 -> #DIV/0! | S10: =R10/Q10 -> #DIV/0! | V10: =U10/T10 -> #DIV/0!
A11: 4 | C11: Angka Partisipasi Murni | G11: =F11/E11 -> #DIV/0! | J11: =I11/H11 -> #DIV/0! | M11: =L11/K11 -> #DIV/0! | P11: =O11/N11 -> #DIV/0! | S11: =R11/Q11 -> #DIV/0! | V11: =U11/T11 -> #DIV/0!
A12: 5 | C12: Angka partisipasi Sekolah | G12: =F12/E12 -> #DIV/0! | J12: =I12/H12 -> #DIV/0! | M12: =L12/K12 -> #DIV/0! | P12: =O12/N12 -> #DIV/0! | S12: =R12/Q12 -> #DIV/0! | V12: =U12/T12 -> #DIV/0!
A13: 6 | C13: Angka Putus Sekolah | G13: =F13/E13 -> #DIV/0! | J13: =I13/H13 -> #DIV/0! | M13: =L13/K13 -> #DIV/0! | P13: =O13/N13 -> #DIV/0! | S13: =R13/Q13 -> #DIV/0! | V13: =U13/T13 -> #DIV/0!
A14: 7 | C14: Angka Kelulusan | G14: =F14/E14 -> #DIV/0! | J14: =I14/H14 -> #DIV/0! | M14: =L14/K14 -> #DIV/0! | P14: =O14/N14 -> #DIV/0! | S14: =R14/Q14 -> #DIV/0! | V14: =U14/T14 -> #DIV/0!
A15: 8 | C15: Angka Melanjutkan (AM) | G15: =F15/E15 -> #DIV/0! | J15: =I15/H15 -> #DIV/0! | M15: =L15/K15 -> #DIV/0! | P15: =O15/N15 -> #DIV/0! | S15: =R15/Q15 -> #DIV/0! | V15: =U15/T15 -> #DIV/0!
A16: 9 | C16: Fasilitas Pendidikan | G16: =F16/E16 -> #DIV/0! | J16: =I16/H16 -> #DIV/0! | M16: =L16/K16 -> #DIV/0! | P16: =O16/N16 -> #DIV/0! | S16: =R16/Q16 -> #DIV/0! | V16: =U16/T16 -> #DIV/0!
A17: 10 | C17: Rasio Ketersediaan Sekolah/Penduduk usia sekolah pendidikan dasar | G17: =F17/E17 -> #DIV/0! | J17: =I17/H17 -> #DIV/0! | M17: =L17/K17 -> #DIV/0! | P17: =O17/N17 -> #DIV/0! | S17: =R17/Q17 -> #DIV/0! | V17: =U17/T17 -> #DIV/0!
A18: 11 | C18: rasio ketersediaan sekolah terhadap penduduk usia sekolah pendidikan menengah | G18: =F18/E18 -> #DIV/0! | J18: =I18/H18 -> #DIV/0! | M18: =L18/K18 -> #DIV/0! | P18: =O18/N18 -> #DIV/0! | S18: =R18/Q18 -> #DIV/0! | V18: =U18/T18 -> #DIV/0!
A19: 12 | C19: rasio guru/murid sekolah pendidikan dasar | G19: =F19/E19 -> #DIV/0! | J19: =I19/H19 -> #DIV/0! | M19: =L19/K19 -> #DIV/0! | P19: =O19/N19 -> #DIV/0! | S19: =R19/Q19 -> #DIV/0! | V19: =U19/T19 -> #DIV/0!
... A26: 19 | C26: guru yang memenuhi kualifikasi S1 /DIV | G26: =F26/E26 -> #DIV/0! | J26: =I26/H26 -> #DIV/0! | M26: =L26/K26 -> #DIV/0! | P26: =O26/N26 -> #DIV/0! | S26: =R26/Q26 -> #DIV/0! | V26: =U26/T26 -> #DIV/0!
S28: Kepala OPD Penanggung Jawab
S31: ____________________________
S32: NIP.

Sheet Kesehatan
D1: ASPEK PELAYANAN UMUM
A2: No | B2: Indikator Kinerja Program (Outcome) | D2: Kondisi Kinerja Awal RPJMD (Tahun 2012) | E2: Capaian Kinerja Program dan Kerangka Pendanaan | W2: SKPD Penanggung Jawab
E3: Tahun 2013 | H3: Tahun 2014 | K3: Tahun 2015 | N3: Tahun 2016 | Q3: Tahun 2017 | T3: Kondisi Pada akhir periode RPJMD
E4: target | F4: realisasi | G4: % | H4: target | I4: realisasi | J4: % | K4: target | L4: realisasi | M4: % | N4: target | O4: realisasi | P4: % | Q4: target | R4: realisasi | S4: % | T4: target | U4: realisasi | V4: %
A5: 1 | B5: 2 | D5: 3 | E5: 4 | F5: 5 | G5: 6 | H5: 7 | I5: 8 | J5: 9 | K5: 10 | L5: 11 | M5: 12 | N5: 13 | O5: 14 | P5: 15 | Q5: 16 | R5: 17 | S5: 18 | T5: 19 | U5: 20 | V5: 21 | W5: 22
A6: 1 | B6: Urusan Wajib Pelayanan Dasar | G6: =AVERAGE(#REF!,G7,#REF!,#REF!,#REF!,#REF!) -> #REF! | J6: =AVERAGE(#REF!,J7,#REF!,#REF!,#REF!,#REF!) -> #REF! | M6: =AVERAGE(#REF!,M7,#REF!,#REF!,#REF!,#REF!) -> #REF! | P6: =AVERAGE(#REF!,P7,#REF!,#REF!,#REF!,#REF!) -> #REF! | S6: =AVERAGE(#REF!,S7,#REF!,#REF!,#REF!,#REF!) -> #REF! | V6: =AVERAGE(#REF!,V7,#REF!,#REF!,#REF!,#REF!) -> #REF!
B7: b | C7: Kesehatan | G7: =AVERAGE(G8:G40) -> #DIV/0! | J7: =AVERAGE(J8:J40) -> #DIV/0! | M7: =AVERAGE(M8:M40) -> #DIV/0! | P7: =AVERAGE(P8:P40) -> #DIV/0! | S7: =AVERAGE(S8:S40) -> #DIV/0! | V7: =AVERAGE(V8:V40) -> #DIV/0!
A8: 1 | C8: Angka Kematian Bayi (AKB) per 1.000 kelahiran hidup; | G8: =F8/E8 -> #DIV/0! | J8: =I8/H8 -> #DIV/0! | M8: =L8/K8 -> #DIV/0! | P8: =O8/N8 -> #DIV/0! | S8: =R8/Q8 -> #DIV/0! | V8: =U8/T8 -> #DIV/0!
A9: 2 | C9: Angka kelangsungan hidup bayi; | G9: =F9/E9 -> #DIV/0! | J9: =I9/H9 -> #DIV/0! | M9: =L9/K9 -> #DIV/0! | P9: =O9/N9 -> #DIV/0! | S9: =R9/Q9 -> #DIV/0! | V9: =U9/T9 -> #DIV/0!
A10: 3 | C10: Angka Kematian Balita per 1.000 kelahiran hidup; | G10: =F10/E10 -> #DIV/0! | J10: =I10/H10 -> #DIV/0! | M10: =L10/K10 -> #DIV/0! | P10: =O10/N10 -> #DIV/0! | S10: =R10/Q10 -> #DIV/0! | V10: =U10/T10 -> #DIV/0!
A11: 4 | C11: Angka Kematian Neonatal per 1.000 kelahiaran hidup; | G11: =F11/E11 -> #DIV/0! | J11: =I11/H11 -> #DIV/0! | M11: =L11/K11 -> #DIV/0! | P11: =O11/N11 -> #DIV/0! | S11: =R11/Q11 -> #DIV/0! | V11: =U11/T11 -> #DIV/0!
A12: 5 | C12: Angka Kematian Ibu per 100.000 kelahiran hidup; | G12: =F12/E12 -> #DIV/0! | J12: =I12/H12 -> #DIV/0! | M12: =L12/K12 -> #DIV/0! | P12: =O12/N12 -> #DIV/0! | S12: =R12/Q12 -> #DIV/0! | V12: =U12/T12 -> #DIV/0!
A13: 6 | C13: Rasio posyandu per satuan balita; | G13: =F13/E13 -> #DIV/0! | J13: =I13/H13 -> #DIV/0! | M13: =L13/K13 -> #DIV/0! | P13: =O13/N13 -> #DIV/0! | S13: =R13/Q13 -> #DIV/0! | V13: =U13/T13 -> #DIV/0!
A14: 7 | C14: Rasio puskesmas, poliklinik, pustu per satuan penduduk; | G14: =F14/E14 -> #DIV/0! | J14: =I14/H14 -> #DIV/0! | M14: =L14/K14 -> #DIV/0! | P14: =O14/N14 -> #DIV/0! | S14: =R14/Q14 -> #DIV/0! | V14: =U14/T14 -> #DIV/0!
A15: 8 | C15: Rasio Rumah Sakit per satuan penduduk; | G15: =F15/E15 -> #DIV/0! | J15: =I15/H15 -> #DIV/0! | M15: =L15/K15 -> #DIV/0! | P15: =O15/N15 -> #DIV/0! | S15: =R15/Q15 -> #DIV/0! | V15: =U15/T15 -> #DIV/0!
A16: 9 | C16: Rasio Dokter per satuan penduduk; | G16: =F16/E16 -> #DIV/0! | J16: =I16/H16 -> #DIV/0! | M16: =L16/K16 -> #DIV/0! | P16: =O16/N16 -> #DIV/0! | S16: =R16/Q16 -> #DIV/0! | V16: =U16/T16 -> #DIV/0!
A17: 10 | C17: Rasio Tenaga Medis per satuan penduduk; | G17: =F17/E17 -> #DIV/0! | J17: =I17/H17 -> #DIV/0! | M17: =L17/K17 -> #DIV/0! | P17: =O17/N17 -> #DIV/0! | S17: =R17/Q17 -> #DIV/0! | V17: =U17/T17 -> #DIV/0!
A18: 11 | C18: Cakupan komplikasi kebidanan yang ditangani; | G18: =F18/E18 -> #DIV/0! | J18: =I18/H18 -> #DIV/0! | M18: =L18/K18 -> #DIV/0! | P18: =O18/N18 -> #DIV/0! | S18: =R18/Q18 -> #DIV/0! | V18: =U18/T18 -> #DIV/0!
A19: 12 | C19: Cakupan pertolongan persalinan oleh tenaga kesehatan yang memiliki kompetensi kebidanan; | G19: =F19/E19 -> #DIV/0! | J19: =I19/H19 -> #DIV/0! | M19: =L19/K19 -> #DIV/0! | P19: =O19/N19 -> #DIV/0! | S19: =R19/Q19 -> #DIV/0! | V19: =U19/T19 -> #DIV/0!
... A40: 33 | C40: Cakupan pelayanan kesehatan rujukan pasien masyarakat miskin. | G40: =F40/E40 -> #DIV/0! | J40: =I40/H40 -> #DIV/0! | M40: =L40/K40 -> #DIV/0! | P40: =O40/N40 -> #DIV/0! | S40: =R40/Q40 -> #DIV/0! | V40: =U40/T40 -> #DIV/0!
S42: Kepala OPD Penanggung Jawab
S45: ____________________________
S46: NIP.

Sheet PUPR
D1: ASPEK PELAYANAN UMUM
A2: No | B2: Indikator Kinerja Program (Outcome) | D2: Kondisi Kinerja Awal RPJMD (Tahun 2012) | E2: Capaian Kinerja Program dan Kerangka Pendanaan | W2: SKPD Penanggung Jawab
E3: Tahun 2013 | H3: Tahun 2014 | K3: Tahun 2015 | N3: Tahun 2016 | Q3: Tahun 2017 | T3: Kondisi Pada akhir periode RPJMD
E4: target | F4: realisasi | G4: % | H4: target | I4: realisasi | J4: % | K4: target | L4: realisasi | M4: % | N4: target | O4: realisasi | P4: % | Q4: target | R4: realisasi | S4: % | T4: target | U4: realisasi | V4: %
A5: 1 | B5: 2 | D5: 3 | E5: 4 | F5: 5 | G5: 6 | H5: 7 | I5: 8 | J5: 9 | K5: 10 | L5: 11 | M5: 12 | N5: 13 | O5: 14 | P5: 15 | Q5: 16 | R5: 17 | S5: 18 | T5: 19 | U5: 20 | V5: 21 | W5: 22
A6: 1 | B6: Urusan Wajib Pelayanan Dasar | G6: =AVERAGE(#REF!,#REF!,G7,#REF!,#REF!,#REF!) -> #REF! | J6: =AVERAGE(#REF!,#REF!,J7,#REF!,#REF!,#REF!) -> #REF! | M6: =AVERAGE(#REF!,#REF!,M7,#REF!,#REF!,#REF!) -> #REF! | P6: =AVERAGE(#REF!,#REF!,P7,#REF!,#REF!,#REF!) -> #REF! | S6: =AVERAGE(#REF!,#REF!,S7,#REF!,#REF!,#REF!) -> #REF! | V6: =AVERAGE(#REF!,#REF!,V7,#REF!,#REF!,#REF!) -> #REF!
B7: c | C7: Pekerjaan Umum dan Penataan Ruang | G7: =AVERAGE(G8,G28) -> #DIV/0! | J7: =AVERAGE(J8,J28) -> #DIV/0! | M7: =AVERAGE(M8,M28) -> #DIV/0! | P7: =AVERAGE(P8,P28) -> #DIV/0! | S7: =AVERAGE(S8,S28) -> #DIV/0! | V7: =AVERAGE(V8,V28) -> #DIV/0!
B8: c.1 | C8: Pekerjaan Umum | G8: =AVERAGE(G9:G27) -> #DIV/0! | J8: =AVERAGE(J9:J27) -> #DIV/0! | M8: =AVERAGE(M9:M27) -> #DIV/0! | P8: =AVERAGE(P9:P27) -> #DIV/0! | S8: =AVERAGE(S9:S27) -> #DIV/0! | V8: =AVERAGE(V9:V27) -> #DIV/0!
A9: 1 | C9: proporsi panjang jaringan jalan dalam kondisi baik | G9: =F9/E9 -> #DIV/0! | J9: =I9/H9 -> #DIV/0! | M9: =L9/K9 -> #DIV/0! | P9: =O9/N9 -> #DIV/0! | S9: =R9/Q9 -> #DIV/0! | V9: =U9/T9 -> #DIV/0!
A10: 2 | C10: Rasio panjang Jalan dengan jumlah penduduk | G10: =F10/E10 -> #DIV/0! | J10: =I10/H10 -> #DIV/0! | M10: =L10/K10 -> #DIV/0! | P10: =O10/N10 -> #DIV/0! | S10: =R10/Q10 -> #DIV/0! | V10: =U10/T10 -> #DIV/0!
A11: 3 | C11: Persentase kawasan permukiman yang belum dapat dilalui kendaraan roda 4 | G11: =F11/E11 -> #DIV/0! | J11: =I11/H11 -> #DIV/0! | M11: =L11/K11 -> #DIV/0! | P11: =O11/N11 -> #DIV/0! | S11: =R11/Q11 -> #DIV/0! | V11: =U11/T11 -> #DIV/0!
A12: 4 | C12: persentase jalan kabupaten dalam kondisi baik (>40 KM/Jam) | G12: =F12/E12 -> #DIV/0! | J12: =I12/H12 -> #DIV/0! | M12: =L12/K12 -> #DIV/0! | P12: =O12/N12 -> #DIV/0! | S12: =R12/Q12 -> #DIV/0! | V12: =U12/T12 -> #DIV/0!
A13: 5 | C13: persentase jalan yang memiliki trotoar dan drainase/saluran pembuangan air (minimal 1,5 m) | G13: =F13/E13 -> #DIV/0! | J13: =I13/H13 -> #DIV/0! | M13: =L13/K13 -> #DIV/0! | P13: =O13/N13 -> #DIV/0! | S13: =R13/Q13 -> #DIV/0! | V13: =U13/T13 -> #DIV/0!
A14: 6 | C14: persentase sempedan jalan yang dipakai pedagang kaki lima atau bangunan rumah liar | G14: =F14/E14 -> #DIV/0! | J14: =I14/H14 -> #DIV/0! | M14: =L14/K14 -> #DIV/0! | P14: =O14/N14 -> #DIV/0! | S14: =R14/Q14 -> #DIV/0! | V14: =U14/T14 -> #DIV/0!
A15: 7 | C15: persentase rumah tinggal bersanitasi | G15: =F15/E15 -> #DIV/0! | J15: =I15/H15 -> #DIV/0! | M15: =L15/K15 -> #DIV/0! | P15: =O15/N15 -> #DIV/0! | S15: =R15/Q15 -> #DIV/0! | V15: =U15/T15 -> #DIV/0!
A16: 8 | C16: persentase sempedan sungai yang dipakai bangunan liar | G16: =F16/E16 -> #DIV/0! | J16: =I16/H16 -> #DIV/0! | M16: =L16/K16 -> #DIV/0! | P16: =O16/N16 -> #DIV/0! | S16: =R16/Q16 -> #DIV/0! | V16: =U16/T16 -> #DIV/0!
A17: 9 | C17: persentase drainase dalam kondisi baik/pembuangan aliran air tidak tersumbat | G17: =F17/E17 -> #DIV/0! | J17: =I17/H17 -> #DIV/0! | M17: =L17/K17 -> #DIV/0! | P17: =O17/N17 -> #DIV/0! | S17: =R17/Q17 -> #DIV/0! | V17: =U17/T17 -> #DIV/0!
A18: 10 | C18: tidak terjadi genangan >2 kali setahun | G18: =F18/E18 -> #DIV/0! | J18: =I18/H18 -> #DIV/0! | M18: =L18/K18 -> #DIV/0! | P18: =O18/N18 -> #DIV/0! | S18: =R18/Q18 -> #DIV/0! | V18: =U18/T18 -> #DIV/0!
A19: 11 | C19: persentase pembangunan turap diwilayah jalan penghubung dan aliran sungai rawan longsor | G19: =F19/E19 -> #DIV/0! | J19: =I19/H19 -> #DIV/0! | M19: =L19/K19 -> #DIV/0! | P19: =O19/N19 -> #DIV/0! | S19: =R19/Q19 -> #DIV/0! | V19: =U19/T19 -> #DIV/0!
A20: 12 | C20: persentase irigasi kabupaten dalam kondisi baik | G20: =F20/E20 -> #DIV/0! | J20: =I20/H20 -> #DIV/0! | M20: =L20/K20 -> #DIV/0! | P20: =O20/N20 -> #DIV/0! | S20: =R20/Q20 -> #DIV/0! | V20: =U20/T20 -> #DIV/0!
... A27: 19 | C27: rasio tempat ibadah persatuan penduduk | G27: =F27/E27 -> #DIV/0! | J27: =I27/H27 -> #DIV/0! | M27: =L27/K27 -> #DIV/0! | P27: =O27/N27 -> #DIV/0! | S27: =R27/Q27 -> #DIV/0! | V27: =U27/T27 -> #DIV/0!
B28: c.2 | C28: Penataan Ruang | G28: =AVERAGE(G29:G34) -> #DIV/0! | J28: =AVERAGE(J29:J34) -> #DIV/0! | M28: =AVERAGE(M29:M34) -> #DIV/0! | P28: =AVERAGE(P29:P34) -> #DIV/0! | S28: =AVERAGE(S29:S34) -> #DIV/0! | V28: =AVERAGE(V29:V34) -> #DIV/0!
A29: 1 | C29: Rasio ruang terbuka hijau persatuan luas wilayah ber HPL/HGB | G29: =F29/E29 -> #DIV/0! | J29: =I29/H29 -> #DIV/0! | M29: =L29/K29 -> #DIV/0! | P29: =O29/N29 -> #DIV/0! | S29: =R29/Q29 -> #DIV/0! | V29: =U29/T29 -> #DIV/0!
A30: 2 | C30: luas RTH publik sebesar 20% dari luas wilayah kota/kawasan perkotaan | G30: =F30/E30 -> #DIV/0! | J30: =I30/H30 -> #DIV/0! | M30: =L30/K30 -> #DIV/0! | P30: =O30/N30 -> #DIV/0! | S30: =R30/Q30 -> #DIV/0! | V30: =U30/T30 -> #DIV/0!
A31: 3 | C31: Rasio bangunan ber IMB persatuan bangunan | G31: =F31/E31 -> #DIV/0! | J31: =I31/H31 -> #DIV/0! | M31: =L31/K31 -> #DIV/0! | P31: =O31/N31 -> #DIV/0! | S31: =R31/Q31 -> #DIV/0! | V31: =U31/T31 -> #DIV/0!
A32: 4 | C32: ruang publik yang berubah peruntukannya | G32: =F32/E32 -> #DIV/0! | J32: =I32/H32 -> #DIV/0! | M32: =L32/K32 -> #DIV/0! | P32: =O32/N32 -> #DIV/0! | S32: =R32/Q32 -> #DIV/0! | V32: =U32/T32 -> #DIV/0!
A33: 5 | C33: rasio luas kawasan tertutup pepohonan berdasarkan hasil pemotretan citra satelit dan survei foto udara terhadap luas daratan | G33: =F33/E33 -> #DIV/0! | J33: =I33/H33 -> #DIV/0! | M33: =L33/K33 -> #DIV/0! | P33: =O33/N33 -> #DIV/0! | S33: =R33/Q33 -> #DIV/0! | V33: =U33/T33 -> #DIV/0!
A34: 6 | C34: ketaatan terhadap RTRW | G34: =F34/E34 -> #DIV/0! | J34: =I34/H34 -> #DIV/0! | M34: =L34/K34 -> #DIV/0! | P34: =O34/N34 -> #DIV/0! | S34: =R34/Q34 -> #DIV/0! | V34: =U34/T34 -> #DIV/0!
S36: Kepala OPD Penanggung Jawab
S39: ____________________________
S40: NIP.

Sheet Pera dan KP
D1: ASPEK PELAYANAN UMUM
A2: No | B2: Indikator Kinerja Program (Outcome) | D2: Kondisi Kinerja Awal RPJMD (Tahun 2012) | E2: Capaian Kinerja Program dan Kerangka Pendanaan | W2: SKPD Penanggung Jawab
E3: Tahun 2013 | H3: Tahun 2014 | K3: Tahun 2015 | N3: Tahun 2016 | Q3: Tahun 2017 | T3: Kondisi Pada akhir periode RPJMD
E4: target | F4: realisasi | G4: % | H4: target | I4: realisasi | J4: % | K4: target | L4: realisasi | M4: % | N4: target | O4: realisasi | P4: % | Q4: target | R4: realisasi | S4: % | T4: target | U4: realisasi | V4: %
A5: 1 | B5: 2 | D5: 3 | E5: 4 | F5: 5 | G5: 6 | H5: 7 | I5: 8 | J5: 9 | K5: 10 | L5: 11 | M5: 12 | N5: 13 | O5: 14 | P5: 15 | Q5: 16 | R5: 17 | S5: 18 | T5: 19 | U5: 20 | V5: 21 | W5: 22
A6: 1 | B6: Urusan Wajib Pelayanan Dasar | G6: =AVERAGE(#REF!,#REF!,#REF!,G7,#REF!,#REF!) -> #REF! | J6: =AVERAGE(#REF!,#REF!,#REF!,J7,#REF!,#REF!) -> #REF! | M6: =AVERAGE(#REF!,#REF!,#REF!,M7,#REF!,#REF!) -> #REF! | P6: =AVERAGE(#REF!,#REF!,#REF!,P7,#REF!,#REF!) -> #REF! | S6: =AVERAGE(#REF!,#REF!,#REF!,S7,#REF!,#REF!) -> #REF! | V6: =AVERAGE(#REF!,#REF!,#REF!,V7,#REF!,#REF!) -> #REF!
B7: d | C7: Perumahan Rakyat dan Kawasan Pemukiman | G7: =AVERAGE(G8:G16) -> #DIV/0! | J7: =AVERAGE(J8:J16) -> #DIV/0! | M7: =AVERAGE(M8:M16) -> #DIV/0! | P7: =AVERAGE(P8:P16) -> #DIV/0! | S7: =AVERAGE(S8:S16) -> #DIV/0! | V7: =AVERAGE(V8:V16) -> #DIV/0!
A8: 1 | C8: Rasio rumah layak huni | G8: =F8/E8 -> #DIV/0! | J8: =I8/H8 -> #DIV/0! | M8: =L8/K8 -> #DIV/0! | P8: =O8/N8 -> #DIV/0! | S8: =R8/Q8 -> #DIV/0! | V8: =U8/T8 -> #DIV/0!
A9: 2 | C9: rasio permukiman layak huni | G9: =F9/E9 -> #DIV/0! | J9: =I9/H9 -> #DIV/0! | M9: =L9/K9 -> #DIV/0! | P9: =O9/N9 -> #DIV/0! | S9: =R9/Q9 -> #DIV/0! | V9: =U9/T9 -> #DIV/0!
A10: 3 | C10: cakupan ketersediaan rumah layak huni | G10: =F10/E10 -> #DIV/0! | J10: =I10/H10 -> #DIV/0! | M10: =L10/K10 -> #DIV/0! | P10: =O10/N10 -> #DIV/0! | S10: =R10/Q10 -> #DIV/0! | V10: =U10/T10 -> #DIV/0!
A11: 4 | C11: cakupan layanan rumah layak huni yang terjangkau | G11: =F11/E11 -> #DIV/0! | J11: =I11/H11 -> #DIV/0! | M11: =L11/K11 -> #DIV/0! | P11: =O11/N11 -> #DIV/0! | S11: =R11/Q11 -> #DIV/0! | V11: =U11/T11 -> #DIV/0!
A12: 5 | C12: persentase pemukiman yang tertata | G12: =F12/E12 -> #DIV/0! | J12: =I12/H12 -> #DIV/0! | M12: =L12/K12 -> #DIV/0! | P12: =O12/N12 -> #DIV/0! | S12: =R12/Q12 -> #DIV/0! | V12: =U12/T12 -> #DIV/0!
A13: 6 | C13: persentase lingkungan pemukiman kumuh | G13: =F13/E13 -> #DIV/0! | J13: =I13/H13 -> #DIV/0! | M13: =L13/K13 -> #DIV/0! | P13: =O13/N13 -> #DIV/0! | S13: =R13/Q13 -> #DIV/0! | V13: =U13/T13 -> #DIV/0!
A14: 7 | C14: persentase luasan permukiman kumuh di kawasan perkotaan | G14: =F14/E14 -> #DIV/0! | J14: =I14/H14 -> #DIV/0! | M14: =L14/K14 -> #DIV/0! | P14: =O14/N14 -> #DIV/0! | S14: =R14/Q14 -> #DIV/0! | V14: =U14/T14 -> #DIV/0!
A15: 8 | C15: proporsi rumah tangga kumuh perkotaan | G15: =F15/E15 -> #DIV/0! | J15: =I15/H15 -> #DIV/0! | M15: =L15/K15 -> #DIV/0! | P15: =O15/N15 -> #DIV/0! | S15: =R15/Q15 -> #DIV/0! | V15: =U15/T15 -> #DIV/0!
A16: 9 | C16: cukupan lingkungan yang sehat dan aman yang didukung dengan PSU | G16: =F16/E16 -> #DIV/0! | J16: =I16/H16 -> #DIV/0! | M16: =L16/K16 -> #DIV/0! | P16: =O16/N16 -> #DIV/0! | S16: =R16/Q16 -> #DIV/0! | V16: =U16/T16 -> #DIV/0!
S18: Kepala OPD Penanggung Jawab
S21: ____________________________
S22: NIP.

Sheet Trantibumlinmas
D1: ASPEK PELAYANAN UMUM
A2: No | B2: Indikator Kinerja Program (Outcome) | D2: Kondisi Kinerja Awal RPJMD (Tahun 2012) | E2: Capaian Kinerja Program dan Kerangka Pendanaan | W2: SKPD Penanggung Jawab
E3: Tahun 2013 | H3: Tahun 2014 | K3: Tahun 2015 | N3: Tahun 2016 | Q3: Tahun 2017 | T3: Kondisi Pada akhir periode RPJMD
E4: target | F4: realisasi | G4: % | H4: target | I4: realisasi | J4: % | K4: target | L4: realisasi | M4: % | N4: target | O4: realisasi | P4: % | Q4: target | R4: realisasi | S4: % | T4: target | U4: realisasi | V4: %
A5: 1 | B5: 2 | D5: 3 | E5: 4 | F5: 5 | G5: 6 | H5: 7 | I5: 8 | J5: 9 | K5: 10 | L5: 11 | M5: 12 | N5: 13 | O5: 14 | P5: 15 | Q5: 16 | R5: 17 | S5: 18 | T5: 19 | U5: 20 | V5: 21 | W5: 22
A6: 1 | B6: Urusan Wajib Pelayanan Dasar | G6: =AVERAGE(#REF!,#REF!,#REF!,#REF!,G7,#REF!) -> #REF! | J6: =AVERAGE(#REF!,#REF!,#REF!,#REF!,J7,#REF!) -> #REF! | M6: =AVERAGE(#REF!,#REF!,#REF!,#REF!,M7,#REF!) -> #REF! | P6: =AVERAGE(#REF!,#REF!,#REF!,#REF!,P7,#REF!) -> #REF! | S6: =AVERAGE(#REF!,#REF!,#REF!,#REF!,S7,#REF!) -> #REF! | V6: =AVERAGE(#REF!,#REF!,#REF!,#REF!,V7,#REF!) -> #REF!
B7: e | C7: Ketenteraman, Ketertiban Umum, dan Perlindungan Masyarakat | G7: =AVERAGE(G8:G12) -> #DIV/0! | J7: =AVERAGE(J8:J12) -> #DIV/0! | M7: =AVERAGE(M8:M12) -> #DIV/0! | P7: =AVERAGE(P8:P12) -> #DIV/0! | S7: =AVERAGE(S8:S12) -> #DIV/0! | V7: =AVERAGE(V8:V12) -> #DIV/0!
A8: 1 | C8: Cakupan petugas Perlindungan Masyarakat (Linmas) | G8: =F8/E8 -> #DIV/0! | J8: =I8/H8 -> #DIV/0! | M8: =L8/K8 -> #DIV/0! | P8: =O8/N8 -> #DIV/0! | S8: =R8/Q8 -> #DIV/0! | V8: =U8/T8 -> #DIV/0!
A9: 2 | C9: Tingkat penyelesaian pelanggaran K3 (Ketertiban, ketentraman, keindahan) | G9: =F9/E9 -> #DIV/0! | J9: =I9/H9 -> #DIV/0! | M9: =L9/K9 -> #DIV/0! | P9: =O9/N9 -> #DIV/0! | S9: =R9/Q9 -> #DIV/0! | V9: =U9/T9 -> #DIV/0!
A10: 3 | C10: Cakupan pelayanan bencana kebakaran kabupaten/kota | G10: =F10/E10 -> #DIV/0! | J10: =I10/H10 -> #DIV/0! | M10: =L10/K10 -> #DIV/0! | P10: =O10/N10 -> #DIV/0! | S10: =R10/Q10 -> #DIV/0! | V10: =U10/T10 -> #DIV/0!
A11: 4 | C11: Tingkat waktu tanggap (response time rate) daerah layanan Wilayah Manajemen Kebakaran (WMK) | G11: =F11/E11 -> #DIV/0! | J11: =I11/H11 -> #DIV/0! | M11: =L11/K11 -> #DIV/0! | P11: =O11/N11 -> #DIV/0! | S11: =R11/Q11 -> #DIV/0! | V11: =U11/T11 -> #DIV/0!
A12: 5 | C12: Persentase Penegakan PERDA | G12: =F12/E12 -> #DIV/0! | J12: =I12/H12 -> #DIV/0! | M12: =L12/K12 -> #DIV/0! | P12: =O12/N12 -> #DIV/0! | S12: =R12/Q12 -> #DIV/0! | V12: =U12/T12 -> #DIV/0!
S14: Kepala OPD Penanggung Jawab
S17: ____________________________
S18: NIP.

Sheet Sosial
D1: ASPEK PELAYANAN UMUM
A2: No | B2: Indikator Kinerja Program (Outcome) | D2: Kondisi Kinerja Awal RPJMD (Tahun 2012) | E2: Capaian Kinerja Program dan Kerangka Pendanaan | W2: SKPD Penanggung Jawab
E3: Tahun 2013 | H3: Tahun 2014 | K3: Tahun 2015 | N3: Tahun 2016 | Q3: Tahun 2017 | T3: Kondisi Pada akhir periode RPJMD
E4: target | F4: realisasi | G4: % | H4: target | I4: realisasi | J4: % | K4: target | L4: realisasi | M4: % | N4: target | O4: realisasi | P4: % | Q4: target | R4: realisasi | S4: % | T4: target | U4: realisasi | V4: %
A5: 1 | B5: 2 | D5: 3 | E5: 4 | F5: 5 | G5: 6 | H5: 7 | I5: 8 | J5: 9 | K5: 10 | L5: 11 | M5: 12 | N5: 13 | O5: 14 | P5: 15 | Q5: 16 | R5: 17 | S5: 18 | T5: 19 | U5: 20 | V5: 21 | W5: 22
A6: 1 | B6: Urusan Wajib Pelayanan Dasar | G6: =AVERAGE(#REF!,#REF!,#REF!,#REF!,#REF!,G7) -> #REF! | J6: =AVERAGE(#REF!,#REF!,#REF!,#REF!,#REF!,J7) -> #REF! | M6: =AVERAGE(#REF!,#REF!,#REF!,#REF!,#REF!,M7) -> #REF! | P6: =AVERAGE(#REF!,#REF!,#REF!,#REF!,#REF!,P7) -> #REF! | S6: =AVERAGE(#REF!,#REF!,#REF!,#REF!,#REF!,S7) -> #REF! | V6: =AVERAGE(#REF!,#REF!,#REF!,#REF!,#REF!,V7) -> #REF!
B7: f | C7: Sosial | G7: =AVERAGE(G8:G16) -> #DIV/0! | J7: =AVERAGE(J8:J16) -> #DIV/0! | M7: =AVERAGE(M8:M16) -> #DIV/0! | P7: =AVERAGE(P8:P16) -> #DIV/0! | S7: =AVERAGE(S8:S16) -> #DIV/0! | V7: =AVERAGE(V8:V16) -> #DIV/0!
A8: 1 | C8: Persentase PMKS yang memperoleh bantuan sosial; | G8: =F8/E8 -> #DIV/0! | J8: =I8/H8 -> #DIV/0! | M8: =L8/K8 -> #DIV/0! | P8: =O8/N8 -> #DIV/0! | S8: =R8/Q8 -> #DIV/0! | V8: =U8/T8 -> #DIV/0!
A9: 2 | C9: Persentase PMKS yang tertangani; | G9: =F9/E9 -> #DIV/0! | J9: =I9/H9 -> #DIV/0! | M9: =L9/K9 -> #DIV/0! | P9: =O9/N9 -> #DIV/0! | S9: =R9/Q9 -> #DIV/0! | V9: =U9/T9 -> #DIV/0!
A10: 3 | C10: Persentase PMKS skala yang memperoleh bantuan sosial untuk pemenuhan kebutuhan dasar; | G10: =F10/E10 -> #DIV/0! | J10: =I10/H10 -> #DIV/0! | M10: =L10/K10 -> #DIV/0! | P10: =O10/N10 -> #DIV/0! | S10: =R10/Q10 -> #DIV/0! | V10: =U10/T10 -> #DIV/0!
A11: 4 | C11: Persentase panti sosial yang menerima program pemberdayaan sosial melalui kelompok usaha bersama (KUBE) atau kelompok sosial ekonomi sejenis lainnya; | G11: =F11/E11 -> #DIV/0! | J11: =I11/H11 -> #DIV/0! | M11: =L11/K11 -> #DIV/0! | P11: =O11/N11 -> #DIV/0! | S11: =R11/Q11 -> #DIV/0! | V11: =U11/T11 -> #DIV/0!
A12: 5 | C12: Persentase panti sosial yang menyediakan sarana prasarana pelayanan kesehatan sosial; | G12: =F12/E12 -> #DIV/0! | J12: =I12/H12 -> #DIV/0! | M12: =L12/K12 -> #DIV/0! | P12: =O12/N12 -> #DIV/0! | S12: =R12/Q12 -> #DIV/0! | V12: =U12/T12 -> #DIV/0!
A13: 6 | C13: Persentase wahana kesejahteraan sosial berbasis masyarakat (WKBSM) yang menyediakan sarana prasarana pelayanan kesejahteraan sosial; | G13: =F13/E13 -> #DIV/0! | J13: =I13/H13 -> #DIV/0! | M13: =L13/K13 -> #DIV/0! | P13: =O13/N13 -> #DIV/0! | S13: =R13/Q13 -> #DIV/0! | V13: =U13/T13 -> #DIV/0!
A14: 7 | C14: Persentase korban bencana yang menerima bantuan sosial selama masa tanggap darurat; | G14: =F14/E14 -> #DIV/0! | J14: =I14/H14 -> #DIV/0! | M14: =L14/K14 -> #DIV/0! | P14: =O14/N14 -> #DIV/0! | S14: =R14/Q14 -> #DIV/0! | V14: =U14/T14 -> #DIV/0!
A15: 8 | C15: Persentase korban bencana yang dievakuasi dengan menggunakan sarana prasarana tanggap darurat lengkap; | G15: =F15/E15 -> #DIV/0! | J15: =I15/H15 -> #DIV/0! | M15: =L15/K15 -> #DIV/0! | P15: =O15/N15 -> #DIV/0! | S15: =R15/Q15 -> #DIV/0! | V15: =U15/T15 -> #DIV/0!
A16: 9 | C16: Persentase penyandang cacat fisik dan mental, serta lanjut usia tidak potensial yang telah menerima jaminan sosial. | G16: =F16/E16 -> #DIV/0! | J16: =I16/H16 -> #DIV/0! | M16: =L16/K16 -> #DIV/0! | P16: =O16/N16 -> #DIV/0! | S16: =R16/Q16 -> #DIV/0! | V16: =U16/T16 -> #DIV/0!
S18: Kepala OPD Penanggung Jawab
S21: ____________________________
S22: NIP.

Sheet Tenaga Kerja
D1: ASPEK PELAYANAN UMUM
A2: No | B2: Indikator Kinerja Program (Outcome) | D2: Kondisi Kinerja Awal RPJMD (Tahun 2012) | E2: Capaian Kinerja Program dan Kerangka Pendanaan | W2: SKPD Penanggung Jawab
E3: Tahun 2013 | H3: Tahun 2014 | K3: Tahun 2015 | N3: Tahun 2016 | Q3: Tahun 2017 | T3: Kondisi Pada akhir periode RPJMD
E4: target | F4: realisasi | G4: % | H4: target | I4: realisasi | J4: % | K4: target | L4: realisasi | M4: % | N4: target | O4: realisasi | P4: % | Q4: target | R4: realisasi | S4: % | T4: target | U4: realisasi | V4: %
A5: 1 | B5: 2 | D5: 3 | E5: 4 | F5: 5 | G5: 6 | H5: 7 | I5: 8 | J5: 9 | K5: 10 | L5: 11 | M5: 12 | N5: 13 | O5: 14 | P5: 15 | Q5: 16 | R5: 17 | S5: 18 | T5: 19 | U5: 20 | V5: 21 | W5: 22
A6: 2 | B6: Urusan Wajib Non Pelayanan Dasar | G6: =AVERAGE(G7,#REF!,#REF!,#REF!,#REF!,#REF!,#REF!,#REF!,#REF!,#REF!,#REF!,#REF!,#REF!,#REF!,#REF!,#REF!,#REF!,#REF!) -> #REF! | J6: =AVERAGE(J7,#REF!,#REF!,#REF!,#REF!,#REF!,#REF!,#REF!,#REF!,#REF!,#REF!,#REF!,#REF!,#REF!,#REF!,#REF!,#REF!,#REF!) -> #REF! | M6: =AVERAGE(M7,#REF!,#REF!,#REF!,#REF!,#REF!,#REF!,#REF!,#REF!,#REF!,#REF!,#REF!,#REF!,#REF!,#REF!,#REF!,#REF!,#REF!) -> #REF! | P6: =AVERAGE(P7,#REF!,#REF!,#REF!,#REF!,#REF!,#REF!,#REF!,#REF!,#REF!,#REF!,#REF!,#REF!,#REF!,#REF!,#REF!,#REF!,#REF!) -> #REF! | S6: =AVERAGE(S7,#REF!,#REF!,#REF!,#REF!,#REF!,#REF!,#REF!,#REF!,#REF!,#REF!,#REF!,#REF!,#REF!,#REF!,#REF!,#REF!,#REF!) -> #REF! | V6: =AVERAGE(V7,#REF!,#REF!,#REF!,#REF!,#REF!,#REF!,#REF!,#REF!,#REF!,#REF!,#REF!,#REF!,#REF!,#REF!,#REF!,#REF!,#REF!) -> #REF!
B7: a | C7: Tenaga Kerja | G7: =AVERAGE(G8:G19) -> #DIV/0! | J7: =AVERAGE(J8:J19) -> #DIV/0! | M7: =AVERAGE(M8:M19) -> #DIV/0! | P7: =AVERAGE(P8:P19) -> #DIV/0! | S7: =AVERAGE(S8:S19) -> #DIV/0! | V7: =AVERAGE(V8:V19) -> #DIV/0!
A8: 1 | C8: Angka sengketa pengusaha-pekerja per tahun; | G8: =F8/E8 -> #DIV/0! | J8: =I8/H8 -> #DIV/0! | M8: =L8/K8 -> #DIV/0! | P8: =O8/N8 -> #DIV/0! | S8: =R8/Q8 -> #DIV/0! | V8: =U8/T8 -> #DIV/0!
A9: 2 | C9: Besaran kasus yang diselesaikan dengan Perjanjian Bersama (PB); | G9: =F9/E9 -> #DIV/0! | J9: =I9/H9 -> #DIV/0! | M9: =L9/K9 -> #DIV/0! | P9: =O9/N9 -> #DIV/0! | S9: =R9/Q9 -> #DIV/0! | V9: =U9/T9 -> #DIV/0!
A10: 3 | C10: Besaran pencari kerja yang terdaftar yang ditempatkan; | G10: =F10/E10 -> #DIV/0! | J10: =I10/H10 -> #DIV/0! | M10: =L10/K10 -> #DIV/0! | P10: =O10/N10 -> #DIV/0! | S10: =R10/Q10 -> #DIV/0! | V10: =U10/T10 -> #DIV/0!
A11: 4 | C11: Keselamatan dan perlindungan; | G11: =F11/E11 -> #DIV/0! | J11: =I11/H11 -> #DIV/0! | M11: =L11/K11 -> #DIV/0! | P11: =O11/N11 -> #DIV/0! | S11: =R11/Q11 -> #DIV/0! | V11: =U11/T11 -> #DIV/0!
A12: 5 | C12: Besaran pekerja/buruh yang menjadi peserta program Jamsostek; | G12: =F12/E12 -> #DIV/0! | J12: =I12/H12 -> #DIV/0! | M12: =L12/K12 -> #DIV/0! | P12: =O12/N12 -> #DIV/0! | S12: =R12/Q12 -> #DIV/0! | V12: =U12/T12 -> #DIV/0!
A13: 6 | C13: Perselisihan buruh dan pengusaha terhadap kebijakan pemerintah daerah; | G13: =F13/E13 -> #DIV/0! | J13: =I13/H13 -> #DIV/0! | M13: =L13/K13 -> #DIV/0! | P13: =O13/N13 -> #DIV/0! | S13: =R13/Q13 -> #DIV/0! | V13: =U13/T13 -> #DIV/0!
A14: 7 | C14: Besaran Pemeriksaan Perusahaan; | G14: =F14/E14 -> #DIV/0! | J14: =I14/H14 -> #DIV/0! | M14: =L14/K14 -> #DIV/0! | P14: =O14/N14 -> #DIV/0! | S14: =R14/Q14 -> #DIV/0! | V14: =U14/T14 -> #DIV/0!
A15: 8 | C15: Besaran pengujian peralatan di perusahaan; | G15: =F15/E15 -> #DIV/0! | J15: =I15/H15 -> #DIV/0! | M15: =L15/K15 -> #DIV/0! | P15: =O15/N15 -> #DIV/0! | S15: =R15/Q15 -> #DIV/0! | V15: =U15/T15 -> #DIV/0!
A16: 9 | C16: Besaran tenaga kerja yang mendapatkan pelatihan berbasis kompetensi; | G16: =F16/E16 -> #DIV/0! | J16: =I16/H16 -> #DIV/0! | M16: =L16/K16 -> #DIV/0! | P16: =O16/N16 -> #DIV/0! | S16: =R16/Q16 -> #DIV/0! | V16: =U16/T16 -> #DIV/0!
A17: 10 | C17: Besaran tenaga kerja yang mendapatkan pelatihan berbasis masyarakat; | G17: =F17/E17 -> #DIV/0! | J17: =I17/H17 -> #DIV/0! | M17: =L17/K17 -> #DIV/0! | P17: =O17/N17 -> #DIV/0! | S17: =R17/Q17 -> #DIV/0! | V17: =U17/T17 -> #DIV/0!
A18: 11 | C18: Besaran tenaga kerja yang mendapatkan pelatihan kewirausahaan; dan | G18: =F18/E18 -> #DIV/0! | J18: =I18/H18 -> #DIV/0! | M18: =L18/K18 -> #DIV/0! | P18: =O18/N18 -> #DIV/0! | S18: =R18/Q18 -> #DIV/0! | V18: =U18/T18 -> #DIV/0!
A19: 12 | C19: Rasio lulusan S1/S2/S3. | G19: =F19/E19 -> #DIV/0! | J19: =I19/H19 -> #DIV/0! | M19: =L19/K19 -> #DIV/0! | P19: =O19/N19 -> #DIV/0! | S19: =R19/Q19 -> #DIV/0! | V19: =U19/T19 -> #DIV/0!
S21: Kepala OPD Penanggung Jawab
S24: ____________________________
S25: NIP.

Sheet PPPA
D1: ASPEK PELAYANAN UMUM
A2: No | B2: Indikator Kinerja Program (Outcome) | D2: Kondisi Kinerja Awal RPJMD (Tahun 2012) | E2: Capaian Kinerja Program dan Kerangka Pendanaan | W2: SKPD Penanggung Jawab
E3: Tahun 2013 | H3: Tahun 2014 | K3: Tahun 2015 | N3: Tahun 2016 | Q3: Tahun 2017 | T3: Kondisi Pada akhir periode RPJMD
E4: target | F4: realisasi | G4: % | H4: target | I4: realisasi | J4: % | K4: target | L4: realisasi | M4: % | N4: target | O4: realisasi | P4: % | Q4: target | R4: realisasi | S4: % | T4: target | U4: realisasi | V4: %
A5: 1 | B5: 2 | D5: 3 | E5: 4 | F5: 5 | G5: 6 | H5: 7 | I5: 8 | J5: 9 | K5: 10 | L5: 11 | M5: 12 | N5: 13 | O5: 14 | P5: 15 | Q5: 16 | R5: 17 | S5: 18 | T5: 19 | U5: 20 | V5: 21 | W5: 22
A6: 2 | B6: Urusan Wajib Non Pelayanan Dasar | G6: =AVERAGE(#REF!,G7,#REF!,#REF!,#REF!,#REF!,#REF!,#REF!,#REF!,#REF!,#REF!,#REF!,#REF!,#REF!,#REF!,#REF!,#REF!,#REF!) -> #REF! | J6: =AVERAGE(#REF!,J7,#REF!,#REF!,#REF!,#REF!,#REF!,#REF!,#REF!,#REF!,#REF!,#REF!,#REF!,#REF!,#REF!,#REF!,#REF!,#REF!) -> #REF! | M6: =AVERAGE(#REF!,M7,#REF!,#REF!,#REF!,#REF!,#REF!,#REF!,#REF!,#REF!,#REF!,#REF!,#REF!,#REF!,#REF!,#REF!,#REF!,#REF!) -> #REF! | P6: =AVERAGE(#REF!,P7,#REF!,#REF!,#REF!,#REF!,#REF!,#REF!,#REF!,#REF!,#REF!,#REF!,#REF!,#REF!,#REF!,#REF!,#REF!,#REF!) -> #REF! | S6: =AVERAGE(#REF!,S7,#REF!,#REF!,#REF!,#REF!,#REF!,#REF!,#REF!,#REF!,#REF!,#REF!,#REF!,#REF!,#REF!,#REF!,#REF!,#REF!) -> #REF! | V6: =AVERAGE(#REF!,V7,#REF!,#REF!,#REF!,#REF!,#REF!,#REF!,#REF!,#REF!,#REF!,#REF!,#REF!,#REF!,#REF!,#REF!,#REF!,#REF!) -> #REF!
B7: b | C7: Pemberdayaan Perempuan dan Perlindungan Anak | G7: =AVERAGE(G8:G26) -> #DIV/0! | J7: =AVERAGE(J8:J26) -> #DIV/0! | M7: =AVERAGE(M8:M26) -> #DIV/0! | P7: =AVERAGE(P8:P26) -> #DIV/0! | S7: =AVERAGE(S8:S26) -> #DIV/0! | V7: =AVERAGE(V8:V26) -> #DIV/0!
A8: 1 | C8: Persentase partisipasi perempuan di lembaga pemerintah; | G8: =F8/E8 -> #DIV/0! | J8: =I8/H8 -> #DIV/0! | M8: =L8/K8 -> #DIV/0! | P8: =O8/N8 -> #DIV/0! | S8: =R8/Q8 -> #DIV/0! | V8: =U8/T8 -> #DIV/0!
A9: 2 | C9: Proporsi kursi yang diduduki perempuan di DPR; | G9: =F9/E9 -> #DIV/0! | J9: =I9/H9 -> #DIV/0! | M9: =L9/K9 -> #DIV/0! | P9: =O9/N9 -> #DIV/0! | S9: =R9/Q9 -> #DIV/0! | V9: =U9/T9 -> #DIV/0!
A10: 3 | C10: Partisipasi perempuan di lembaga swasta; | G10: =F10/E10 -> #DIV/0! | J10: =I10/H10 -> #DIV/0! | M10: =L10/K10 -> #DIV/0! | P10: =O10/N10 -> #DIV/0! | S10: =R10/Q10 -> #DIV/0! | V10: =U10/T10 -> #DIV/0!
A11: 4 | C11: Rasio KDRT | G11: =F11/E11 -> #DIV/0! | J11: =I11/H11 -> #DIV/0! | M11: =L11/K11 -> #DIV/0! | P11: =O11/N11 -> #DIV/0! | S11: =R11/Q11 -> #DIV/0! | V11: =U11/T11 -> #DIV/0!
A12: 5 | C12: Persentase jumlah tenaga kerja dibawah umur; | G12: =F12/E12 -> #DIV/0! | J12: =I12/H12 -> #DIV/0! | M12: =L12/K12 -> #DIV/0! | P12: =O12/N12 -> #DIV/0! | S12: =R12/Q12 -> #DIV/0! | V12: =U12/T12 -> #DIV/0!
A13: 6 | C13: Partisipasi angkatan kerja perempuan; | G13: =F13/E13 -> #DIV/0! | J13: =I13/H13 -> #DIV/0! | M13: =L13/K13 -> #DIV/0! | P13: =O13/N13 -> #DIV/0! | S13: =R13/Q13 -> #DIV/0! | V13: =U13/T13 -> #DIV/0!
A14: 7 | C14: Cakupan perempuan dan anak korban kekerasan yang mendapatkan penanganan pengaduan oleh petugas terlatih didalam unit pelayanan terpadu; | G14: =F14/E14 -> #DIV/0! | J14: =I14/H14 -> #DIV/0! | M14: =L14/K14 -> #DIV/0! | P14: =O14/N14 -> #DIV/0! | S14: =R14/Q14 -> #DIV/0! | V14: =U14/T14 -> #DIV/0!
A15: 8 | C15: Cakupan perempuan dan anak korban kekerasan yang mendapatkan layanan kesehatan oleh tenaga kesehatan terlatih di Puskesmas mampu tatalaksana KtP/A dan PPT/PKT di Rumah Sakit; | G15: =F15/E15 -> #DIV/0! | J15: =I15/H15 -> #DIV/0! | M15: =L15/K15 -> #DIV/0! | P15: =O15/N15 -> #DIV/0! | S15: =R15/Q15 -> #DIV/0! | V15: =U15/T15 -> #DIV/0!
A16: 9 | C16: Cakupan layanan rehabilitasi sosial yang diberikan oleh petugas rehabilitasi sosial terlatih bagi perempuan dan anak korban kekerasan di dalam unit pelayanan terpadu; | G16: =F16/E16 -> #DIV/0! | J16: =I16/H16 -> #DIV/0! | M16: =L16/K16 -> #DIV/0! | P16: =O16/N16 -> #DIV/0! | S16: =R16/Q16 -> #DIV/0! | V16: =U16/T16 -> #DIV/0!
A17: 10 | C17: Cakupan penegakan hukum dari tingkat penyidikan sampai dengan putusan pengadilan atas kasus-kasus kekerasan terhadap perempuan dan anak; | G17: =F17/E17 -> #DIV/0! | J17: =I17/H17 -> #DIV/0! | M17: =L17/K17 -> #DIV/0! | P17: =O17/N17 -> #DIV/0! | S17: =R17/Q17 -> #DIV/0! | V17: =U17/T17 -> #DIV/0!
A18: 11 | C18: Cakupan perempuan dan anak korban kekerasan yang mendapatkan layanan bantuan hukum; | G18: =F18/E18 -> #DIV/0! | J18: =I18/H18 -> #DIV/0! | M18: =L18/K18 -> #DIV/0! | P18: =O18/N18 -> #DIV/0! | S18: =R18/Q18 -> #DIV/0! | V18: =U18/T18 -> #DIV/0!
A19: 12 | C19: Cakupan layanan pemulangan bagi perempuan dan anak korban kekerasan; | G19: =F19/E19 -> #DIV/0! | J19: =I19/H19 -> #DIV/0! | M19: =L19/K19 -> #DIV/0! | P19: =O19/N19 -> #DIV/0! | S19: =R19/Q19 -> #DIV/0! | V19: =U19/T19 -> #DIV/0!
... A26: 19 | C26: Kontribusi perempuan dalam pekerjaan upahan di sector nonpertanian. | G26: =F26/E26 -> #DIV/0! | J26: =I26/H26 -> #DIV/0! | M26: =L26/K26 -> #DIV/0! | P26: =O26/N26 -> #DIV/0! | S26: =R26/Q26 -> #DIV/0! | V26: =U26/T26 -> #DIV/0!
S28: Kepala OPD Penanggung Jawab
S31: ____________________________
S32: NIP.

Sheet Pangan
D1: ASPEK PELAYANAN UMUM
A2: No | B2: Indikator Kinerja Program (Outcome) | D2: Kondisi Kinerja Awal RPJMD (Tahun 2012) | E2: Capaian Kinerja Program dan Kerangka Pendanaan | W2: SKPD Penanggung Jawab
E3: Tahun 2013 | H3: Tahun 2014 | K3: Tahun 2015 | N3: Tahun 2016 | Q3: Tahun 2017 | T3: Kondisi Pada akhir periode RPJMD
E4: target | F4: realisasi | G4: % | H4: target | I4: realisasi | J4: % | K4: target | L4: realisasi | M4: % | N4: target | O4: realisasi | P4: % | Q4: target | R4: realisasi | S4: % | T4: target | U4: realisasi | V4: %
A5: 1 | B5: 2 | D5: 3 | E5: 4 | F5: 5 | G5: 6 | H5: 7 | I5: 8 | J5: 9 | K5: 10 | L5: 11 | M5: 12 | N5: 13 | O5: 14 | P5: 15 | Q5: 16 | R5: 17 | S5: 18 | T5: 19 | U5: 20 | V5: 21 | W5: 22
A6: 2 | B6: Urusan Wajib Non Pelayanan Dasar | G6: =AVERAGE(#REF!,#REF!,G7,#REF!,#REF!,#REF!,#REF!,#REF!,#REF!,#REF!,#REF!,#REF!,#REF!,#REF!,#REF!,#REF!,#REF!,#REF!) -> #REF! | J6: =AVERAGE(#REF!,#REF!,J7,#REF!,#REF!,#REF!,#REF!,#REF!,#REF!,#REF!,#REF!,#REF!,#REF!,#REF!,#REF!,#REF!,#REF!,#REF!) -> #REF! | M6: =AVERAGE(#REF!,#REF!,M7,#REF!,#REF!,#REF!,#REF!,#REF!,#REF!,#REF!,#REF!,#REF!,#REF!,#REF!,#REF!,#REF!,#REF!,#REF!) -> #REF! | P6: =AVERAGE(#REF!,#REF!,P7,#REF!,#REF!,#REF!,#REF!,#REF!,#REF!,#REF!,#REF!,#REF!,#REF!,#REF!,#REF!,#REF!,#REF!,#REF!) -> #REF! | S6: =AVERAGE(#REF!,#REF!,S7,#REF!,#REF!,#REF!,#REF!,#REF!,#REF!,#REF!,#REF!,#REF!,#REF!,#REF!,#REF!,#REF!,#REF!,#REF!) -> #REF! | V6: =AVERAGE(#REF!,#REF!,V7,#REF!,#REF!,#REF!,#REF!,#REF!,#REF!,#REF!,#REF!,#REF!,#REF!,#REF!,#REF!,#REF!,#REF!,#REF!) -> #REF!
B7: c | C7: Pangan | G7: =AVERAGE(G8:G10) -> #DIV/0! | J7: =AVERAGE(J8:J10) -> #DIV/0! | M7: =AVERAGE(M8:M10) -> #DIV/0! | P7: =AVERAGE(P8:P10) -> #DIV/0! | S7: =AVERAGE(S8:S10) -> #DIV/0! | V7: =AVERAGE(V8:V10) -> #DIV/0!
A8: 1 | C8: Ketersediaan pangan Utama | G8: =F8/E8 -> #DIV/0! | J8: =I8/H8 -> #DIV/0! | M8: =L8/K8 -> #DIV/0! | P8: =O8/N8 -> #DIV/0! | S8: =R8/Q8 -> #DIV/0! | V8: =U8/T8 -> #DIV/0!
A9: 2 | C9: Ketersediaan energi dan protein perkapita | G9: =F9/E9 -> #DIV/0! | J9: =I9/H9 -> #DIV/0! | M9: =L9/K9 -> #DIV/0! | P9: =O9/N9 -> #DIV/0! | S9: =R9/Q9 -> #DIV/0! | V9: =U9/T9 -> #DIV/0!
A10: 3 | C10: Pengawasan dan pembinaan keamanan pangan | G10: =F10/E10 -> #DIV/0! | J10: =I10/H10 -> #DIV/0! | M10: =L10/K10 -> #DIV/0! | P10: =O10/N10 -> #DIV/0! | S10: =R10/Q10 -> #DIV/0! | V10: =U10/T10 -> #DIV/0!
S12: Kepala OPD Penanggung Jawab
S15: ____________________________
S16: NIP.

Sheet Pertanahan
D1: ASPEK PELAYANAN UMUM
A2: No | B2: Indikator Kinerja Program (Outcome) | D2: Kondisi Kinerja Awal RPJMD (Tahun 2012) | E2: Capaian Kinerja Program dan Kerangka Pendanaan | W2: SKPD Penanggung Jawab
E3: Tahun 2013 | H3: Tahun 2014 | K3: Tahun 2015 | N3: Tahun 2016 | Q3: Tahun 2017 | T3: Kondisi Pada akhir periode RPJMD
E4: target | F4: realisasi | G4: % | H4: target | I4: realisasi | J4: % | K4: target | L4: realisasi | M4: % | N4: target | O4: realisasi | P4: % | Q4: target | R4: realisasi | S4: % | T4: target | U4: realisasi | V4: %
A5: 1 | B5: 2 | D5: 3 | E5: 4 | F5: 5 | G5: 6 | H5: 7 | I5: 8 | J5: 9 | K5: 10 | L5: 11 | M5: 12 | N5: 13 | O5: 14 | P5: 15 | Q5: 16 | R5: 17 | S5: 18 | T5: 19 | U5: 20 | V5: 21 | W5: 22
A6: 2 | B6: Urusan Wajib Non Pelayanan Dasar | G6: =AVERAGE(#REF!,#REF!,#REF!,G7,#REF!,#REF!,#REF!,#REF!,#REF!,#REF!,#REF!,#REF!,#REF!,#REF!,#REF!,#REF!,#REF!,#REF!) -> #REF! | J6: =AVERAGE(#REF!,#REF!,#REF!,J7,#REF!,#REF!,#REF!,#REF!,#REF!,#REF!,#REF!,#REF!,#REF!,#REF!,#REF!,#REF!,#REF!,#REF!) -> #REF! | M6: =AVERAGE(#REF!,#REF!,#REF!,M7,#REF!,#REF!,#REF!,#REF!,#REF!,#REF!,#REF!,#REF!,#REF!,#REF!,#REF!,#REF!,#REF!,#REF!) -> #REF! | P6: =AVERAGE(#REF!,#REF!,#REF!,P7,#REF!,#REF!,#REF!,#REF!,#REF!,#REF!,#REF!,#REF!,#REF!,#REF!,#REF!,#REF!,#REF!,#REF!) -> #REF! | S6: =AVERAGE(#REF!,#REF!,#REF!,S7,#REF!,#REF!,#REF!,#REF!,#REF!,#REF!,#REF!,#REF!,#REF!,#REF!,#REF!,#REF!,#REF!,#REF!) -> #REF! | V6: =AVERAGE(#REF!,#REF!,#REF!,V7,#REF!,#REF!,#REF!,#REF!,#REF!,#REF!,#REF!,#REF!,#REF!,#REF!,#REF!,#REF!,#REF!,#REF!) -> #REF!
B7: d | C7: Pertanahan | G7: =AVERAGE(G8:G10) -> #DIV/0! | J7: =AVERAGE(J8:J10) -> #DIV/0! | M7: =AVERAGE(M8:M10) -> #DIV/0! | P7: =AVERAGE(P8:P10) -> #DIV/0! | S7: =AVERAGE(S8:S10) -> #DIV/0! | V7: =AVERAGE(V8:V10) -> #DIV/0!
A8: 1 | C8: Persentase luas lahan bersertifikat | G8: =F8/E8 -> #DIV/0! | J8: =I8/H8 -> #DIV/0! | M8: =L8/K8 -> #DIV/0! | P8: =O8/N8 -> #DIV/0! | S8: =R8/Q8 -> #DIV/0! | V8: =U8/T8 -> #DIV/0!
A9: 2 | C9: Penyelesaian kasus tanah negara | G9: =F9/E9 -> #DIV/0! | J9: =I9/H9 -> #DIV/0! | M9: =L9/K9 -> #DIV/0! | P9: =O9/N9 -> #DIV/0! | S9: =R9/Q9 -> #DIV/0! | V9: =U9/T9 -> #DIV/0!
A10: 3 | C10: Penyelesaian ijin lokasi | G10: =F10/E10 -> #DIV/0! | J10: =I10/H10 -> #DIV/0! | M10: =L10/K10 -> #DIV/0! | P10: =O10/N10 -> #DIV/0! | S10: =R10/Q10 -> #DIV/0! | V10: =U10/T10 -> #DIV/0!
S12: Kepala OPD Penanggung Jawab
S15: ____________________________
S16: NIP.

Sheet Lingkungan Hidup
D1: ASPEK PELAYANAN UMUM
A2: No | B2: Indikator Kinerja Program (Outcome) | D2: Kondisi Kinerja Awal RPJMD (Tahun 2012) | E2: Capaian Kinerja Program dan Kerangka Pendanaan | W2: SKPD Penanggung Jawab
E3: Tahun 2013 | H3: Tahun 2014 | K3: Tahun 2015 | N3: Tahun 2016 | Q3: Tahun 2017 | T3: Kondisi Pada akhir periode RPJMD
E4: target | F4: realisasi | G4: % | H4: target | I4: realisasi | J4: % | K4: target | L4: realisasi | M4: % | N4: target | O4: realisasi | P4: % | Q4: target | R4: realisasi | S4: % | T4: target | U4: realisasi | V4: %
A5: 1 | B5: 2 | D5: 3 | E5: 4 | F5: 5 | G5: 6 | H5: 7 | I5: 8 | J5: 9 | K5: 10 | L5: 11 | M5: 12 | N5: 13 | O5: 14 | P5: 15 | Q5: 16 | R5: 17 | S5: 18 | T5: 19 | U5: 20 | V5: 21 | W5: 22
A6: 2 | B6: Urusan Wajib Non Pelayanan Dasar | G6: =AVERAGE(#REF!,#REF!,#REF!,#REF!,G7,#REF!,#REF!,#REF!,#REF!,#REF!,#REF!,#REF!,#REF!,#REF!,#REF!,#REF!,#REF!,#REF!) -> #REF! | J6: =AVERAGE(#REF!,#REF!,#REF!,#REF!,J7,#REF!,#REF!,#REF!,#REF!,#REF!,#REF!,#REF!,#REF!,#REF!,#REF!,#REF!,#REF!,#REF!) -> #REF! | M6: =AVERAGE(#REF!,#REF!,#REF!,#REF!,M7,#REF!,#REF!,#REF!,#REF!,#REF!,#REF!,#REF!,#REF!,#REF!,#REF!,#REF!,#REF!,#REF!) -> #REF! | P6: =AVERAGE(#REF!,#REF!,#REF!,#REF!,P7,#REF!,#REF!,#REF!,#REF!,#REF!,#REF!,#REF!,#REF!,#REF!,#REF!,#REF!,#REF!,#REF!) -> #REF! | S6: =AVERAGE(#REF!,#REF!,#REF!,#REF!,S7,#REF!,#REF!,#REF!,#REF!,#REF!,#REF!,#REF!,#REF!,#REF!,#REF!,#REF!,#REF!,#REF!) -> #REF! | V6: =AVERAGE(#REF!,#REF!,#REF!,#REF!,V7,#REF!,#REF!,#REF!,#REF!,#REF!,#REF!,#REF!,#REF!,#REF!,#REF!,#REF!,#REF!,#REF!) -> #REF!
B7: e | C7: Lingkungan Hidup | G7: =AVERAGE(#REF!,G8) -> #REF! | J7: =AVERAGE(#REF!,J8) -> #REF! | M7: =AVERAGE(#REF!,M8) -> #REF! | P7: =AVERAGE(#REF!,P8) -> #REF! | S7: =AVERAGE(#REF!,S8) -> #REF! | V7: =AVERAGE(#REF!,V8) -> #REF!
B8: e.2 | C8: Kabupaten/Kota | G8: =AVERAGE(G9:G32) -> #DIV/0! | J8: =AVERAGE(J9:J32) -> #DIV/0! | M8: =AVERAGE(M9:M32) -> #DIV/0! | P8: =AVERAGE(P9:P32) -> #DIV/0! | S8: =AVERAGE(S9:S32) -> #DIV/0! | V8: =AVERAGE(V9:V32) -> #DIV/0!
A9: 1 | C9: tersusunnya RPPLH Kota | G9: =F9/E9 -> #DIV/0! | J9: =I9/H9 -> #DIV/0! | M9: =L9/K9 -> #DIV/0! | P9: =O9/N9 -> #DIV/0! | S9: =R9/Q9 -> #DIV/0! | V9: =U9/T9 -> #DIV/0!
A10: 2 | C10: Terintegrasi RPPLH dalam rencana pembangunan kota | G10: =F10/E10 -> #DIV/0! | J10: =I10/H10 -> #DIV/0! | M10: =L10/K10 -> #DIV/0! | P10: =O10/N10 -> #DIV/0! | S10: =R10/Q10 -> #DIV/0! | V10: =U10/T10 -> #DIV/0!
A11: 3 | C11: terselenggaranya KLHS untuk K/R/P tk.daerah provinsi | G11: =F11/E11 -> #DIV/0! | J11: =I11/H11 -> #DIV/0! | M11: =L11/K11 -> #DIV/0! | P11: =O11/N11 -> #DIV/0! | S11: =R11/Q11 -> #DIV/0! | V11: =U11/T11 -> #DIV/0!
A12: 4 | C12: hasil pengukuran indeks kualitas air | G12: =F12/E12 -> #DIV/0! | J12: =I12/H12 -> #DIV/0! | M12: =L12/K12 -> #DIV/0! | P12: =O12/N12 -> #DIV/0! | S12: =R12/Q12 -> #DIV/0! | V12: =U12/T12 -> #DIV/0!
A13: 5 | C13: hasil pengukuran indeks kualitas udara | G13: =F13/E13 -> #DIV/0! | J13: =I13/H13 -> #DIV/0! | M13: =L13/K13 -> #DIV/0! | P13: =O13/N13 -> #DIV/0! | S13: =R13/Q13 -> #DIV/0! | V13: =U13/T13 -> #DIV/0!
A14: 6 | C14: hasil pengukuran indeks kualitas tutupan lahan | G14: =F14/E14 -> #DIV/0! | J14: =I14/H14 -> #DIV/0! | M14: =L14/K14 -> #DIV/0! | P14: =O14/N14 -> #DIV/0! | S14: =R14/Q14 -> #DIV/0! | V14: =U14/T14 -> #DIV/0!
A15: 7 | C15: pembinaan dan pengawasan terkait ketaatan penanggung jawab usaha dan/atau kegiatan yang diawasi ketaatannya terhadap izin lingkungan,izin PPLH dan PUU LH D yang diterbitkan oleh pemerintah kota | G15: =F15/E15 -> #DIV/0! | J15: =I15/H15 -> #DIV/0! | M15: =L15/K15 -> #DIV/0! | P15: =O15/N15 -> #DIV/0! | S15: =R15/Q15 -> #DIV/0! | V15: =U15/T15 -> #DIV/0!
A16: 8 | C16: peningkatan kapasitas dan sarana prasarana pejabat pengawas lingkungan hidup di daerah (PPLHD) di Kota | G16: =F16/E16 -> #DIV/0! | J16: =I16/H16 -> #DIV/0! | M16: =L16/K16 -> #DIV/0! | P16: =O16/N16 -> #DIV/0! | S16: =R16/Q16 -> #DIV/0! | V16: =U16/T16 -> #DIV/0!
A17: 9 | C17: terfasilitasi pendampingan pengakuan MHA | G17: =F17/E17 -> #DIV/0! | J17: =I17/H17 -> #DIV/0! | M17: =L17/K17 -> #DIV/0! | P17: =O17/N17 -> #DIV/0! | S17: =R17/Q17 -> #DIV/0! | V17: =U17/T17 -> #DIV/0!
A18: 10 | C18: terverifikasinya MHA dan kearifan lokal atau pengetahuan tradisional | G18: =F18/E18 -> #DIV/0! | J18: =I18/H18 -> #DIV/0! | M18: =L18/K18 -> #DIV/0! | P18: =O18/N18 -> #DIV/0! | S18: =R18/Q18 -> #DIV/0! | V18: =U18/T18 -> #DIV/0!
A19: 11 | C19: terverifikasi hak kearifan lokal atau hak pengetahuan tradisional | G19: =F19/E19 -> #DIV/0! | J19: =I19/H19 -> #DIV/0! | M19: =L19/K19 -> #DIV/0! | P19: =O19/N19 -> #DIV/0! | S19: =R19/Q19 -> #DIV/0! | V19: =U19/T19 -> #DIV/0!
A20: 12 | C20: penetapan hak MHA | G20: =F20/E20 -> #DIV/0! | J20: =I20/H20 -> #DIV/0! | M20: =L20/K20 -> #DIV/0! | P20: =O20/N20 -> #DIV/0! | S20: =R20/Q20 -> #DIV/0! | V20: =U20/T20 -> #DIV/0!
... A32: 24 | C32: persentase pengelolaan sampah oleh swasta yang taat terhadap peraturan perundang-undangan | G32: =F32/E32 -> #DIV/0! | J32: =I32/H32 -> #DIV/0! | M32: =L32/K32 -> #DIV/0! | P32: =O32/N32 -> #DIV/0! | S32: =R32/Q32 -> #DIV/0! | V32: =U32/T32 -> #DIV/0!
S34: Kepala OPD Penanggung Jawab
S37: ____________________________
S38: NIP.

Sheet Adm Kependudukan
D1: ASPEK PELAYANAN UMUM
A2: No | B2: Indikator Kinerja Program (Outcome) | D2: Kondisi Kinerja Awal RPJMD (Tahun 2012) | E2: Capaian Kinerja Program dan Kerangka Pendanaan | W2: SKPD Penanggung Jawab
E3: Tahun 2013 | H3: Tahun 2014 | K3: Tahun 2015 | N3: Tahun 2016 | Q3: Tahun 2017 | T3: Kondisi Pada akhir periode RPJMD
E4: target | F4: realisasi | G4: % | H4: target | I4: realisasi | J4: % | K4: target | L4: realisasi | M4: % | N4: target | O4: realisasi | P4: % | Q4: target | R4: realisasi | S4: % | T4: target | U4: realisasi | V4: %
A5: 1 | B5: 2 | D5: 3 | E5: 4 | F5: 5 | G5: 6 | H5: 7 | I5: 8 | J5: 9 | K5: 10 | L5: 11 | M5: 12 | N5: 13 | O5: 14 | P5: 15 | Q5: 16 | R5: 17 | S5: 18 | T5: 19 | U5: 20 | V5: 21 | W5: 22
A6: 2 | B6: Urusan Wajib Non Pelayanan Dasar | G6: =AVERAGE(#REF!,#REF!,#REF!,#REF!,#REF!,G7,#REF!,#REF!,#REF!,#REF!,#REF!,#REF!,#REF!,#REF!,#REF!,#REF!,#REF!,#REF!) -> #REF! | J6: =AVERAGE(#REF!,#REF!,#REF!,#REF!,#REF!,J7,#REF!,#REF!,#REF!,#REF!,#REF!,#REF!,#REF!,#REF!,#REF!,#REF!,#REF!,#REF!) -> #REF! | M6: =AVERAGE(#REF!,#REF!,#REF!,#REF!,#REF!,M7,#REF!,#REF!,#REF!,#REF!,#REF!,#REF!,#REF!,#REF!,#REF!,#REF!,#REF!,#REF!) -> #REF! | P6: =AVERAGE(#REF!,#REF!,#REF!,#REF!,#REF!,P7,#REF!,#REF!,#REF!,#REF!,#REF!,#REF!,#REF!,#REF!,#REF!,#REF!,#REF!,#REF!) -> #REF! | S6: =AVERAGE(#REF!,#REF!,#REF!,#REF!,#REF!,S7,#REF!,#REF!,#REF!,#REF!,#REF!,#REF!,#REF!,#REF!,#REF!,#REF!,#REF!,#REF!) -> #REF! | V6: =AVERAGE(#REF!,#REF!,#REF!,#REF!,#REF!,V7,#REF!,#REF!,#REF!,#REF!,#REF!,#REF!,#REF!,#REF!,#REF!,#REF!,#REF!,#REF!) -> #REF!
B7: f | C7: Administrasi Kependudukan | G7: =AVERAGE(G8:G14) -> #DIV/0! | J7: =AVERAGE(J8:J14) -> #DIV/0! | M7: =AVERAGE(M8:M14) -> #DIV/0! | P7: =AVERAGE(P8:P14) -> #DIV/0! | S7: =AVERAGE(S8:S14) -> #DIV/0! | V7: =AVERAGE(V8:V14) -> #DIV/0!
A8: 1 | C8: rasio penduduk ber-KTP per satuan penduduk | G8: =F8/E8 -> #DIV/0! | J8: =I8/H8 -> #DIV/0! | M8: =L8/K8 -> #DIV/0! | P8: =O8/N8 -> #DIV/0! | S8: =R8/Q8 -> #DIV/0! | V8: =U8/T8 -> #DIV/0!
A9: 2 | C9: rasio bayi berakte kelahiran | G9: =F9/E9 -> #DIV/0! | J9: =I9/H9 -> #DIV/0! | M9: =L9/K9 -> #DIV/0! | P9: =O9/N9 -> #DIV/0! | S9: =R9/Q9 -> #DIV/0! | V9: =U9/T9 -> #DIV/0!
A10: 3 | C10: rasio pasangan berakte nikah | G10: =F10/E10 -> #DIV/0! | J10: =I10/H10 -> #DIV/0! | M10: =L10/K10 -> #DIV/0! | P10: =O10/N10 -> #DIV/0! | S10: =R10/Q10 -> #DIV/0! | V10: =U10/T10 -> #DIV/0!
A11: 4 | C11: ketersediaan database kependudukan skala provinsi | G11: =F11/E11 -> #DIV/0! | J11: =I11/H11 -> #DIV/0! | M11: =L11/K11 -> #DIV/0! | P11: =O11/N11 -> #DIV/0! | S11: =R11/Q11 -> #DIV/0! | V11: =U11/T11 -> #DIV/0!
A12: 5 | C12: penerapan KTP berbasis NIK | G12: =F12/E12 -> #DIV/0! | J12: =I12/H12 -> #DIV/0! | M12: =L12/K12 -> #DIV/0! | P12: =O12/N12 -> #DIV/0! | S12: =R12/Q12 -> #DIV/0! | V12: =U12/T12 -> #DIV/0!
A13: 6 | C13: cakupan penerbitan KTP | G13: =F13/E13 -> #DIV/0! | J13: =I13/H13 -> #DIV/0! | M13: =L13/K13 -> #DIV/0! | P13: =O13/N13 -> #DIV/0! | S13: =R13/Q13 -> #DIV/0! | V13: =U13/T13 -> #DIV/0!
A14: 7 | C14: cakupan penerbitan akta kelahiran | G14: =F14/E14 -> #DIV/0! | J14: =I14/H14 -> #DIV/0! | M14: =L14/K14 -> #DIV/0! | P14: =O14/N14 -> #DIV/0! | S14: =R14/Q14 -> #DIV/0! | V14: =U14/T14 -> #DIV/0!
S16: Kepala OPD Penanggung Jawab
S19: ____________________________
S20: NIP.

Sheet Pemdes
D1: ASPEK PELAYANAN UMUM
A2: No | B2: Indikator Kinerja Program (Outcome) | D2: Kondisi Kinerja Awal RPJMD (Tahun 2012) | E2: Capaian Kinerja Program dan Kerangka Pendanaan | W2: SKPD Penanggung Jawab
E3: Tahun 2013 | H3: Tahun 2014 | K3: Tahun 2015 | N3: Tahun 2016 | Q3: Tahun 2017 | T3: Kondisi Pada akhir periode RPJMD
E4: target | F4: realisasi | G4: % | H4: target | I4: realisasi | J4: % | K4: target | L4: realisasi | M4: % | N4: target | O4: realisasi | P4: % | Q4: target | R4: realisasi | S4: % | T4: target | U4: realisasi | V4: %
A5: 1 | B5: 2 | D5: 3 | E5: 4 | F5: 5 | G5: 6 | H5: 7 | I5: 8 | J5: 9 | K5: 10 | L5: 11 | M5: 12 | N5: 13 | O5: 14 | P5: 15 | Q5: 16 | R5: 17 | S5: 18 | T5: 19 | U5: 20 | V5: 21 | W5: 22
A6: 2 | B6: Urusan Wajib Non Pelayanan Dasar | G6: =AVERAGE(#REF!,#REF!,#REF!,#REF!,#REF!,#REF!,G7,#REF!,#REF!,#REF!,#REF!,#REF!,#REF!,#REF!,#REF!,#REF!,#REF!,#REF!) -> #REF! | J6: =AVERAGE(#REF!,#REF!,#REF!,#REF!,#REF!,#REF!,J7,#REF!,#REF!,#REF!,#REF!,#REF!,#REF!,#REF!,#REF!,#REF!,#REF!,#REF!) -> #REF! | M6: =AVERAGE(#REF!,#REF!,#REF!,#REF!,#REF!,#REF!,M7,#REF!,#REF!,#REF!,#REF!,#REF!,#REF!,#REF!,#REF!,#REF!,#REF!,#REF!) -> #REF! | P6: =AVERAGE(#REF!,#REF!,#REF!,#REF!,#REF!,#REF!,P7,#REF!,#REF!,#REF!,#REF!,#REF!,#REF!,#REF!,#REF!,#REF!,#REF!,#REF!) -> #REF! | S6: =AVERAGE(#REF!,#REF!,#REF!,#REF!,#REF!,#REF!,S7,#REF!,#REF!,#REF!,#REF!,#REF!,#REF!,#REF!,#REF!,#REF!,#REF!,#REF!) -> #REF! | V6: =AVERAGE(#REF!,#REF!,#REF!,#REF!,#REF!,#REF!,V7,#REF!,#REF!,#REF!,#REF!,#REF!,#REF!,#REF!,#REF!,#REF!,#REF!,#REF!) -> #REF!
B7: g | C7: Pemberdayaan Masyarakat dan Desa | G7: =AVERAGE(G8:G16) -> #DIV/0! | J7: =AVERAGE(J8:J16) -> #DIV/0! | M7: =AVERAGE(M8:M16) -> #DIV/0! | P7: =AVERAGE(P8:P16) -> #DIV/0! | S7: =AVERAGE(S8:S16) -> #DIV/0! | V7: =AVERAGE(V8:V16) -> #DIV/0!
A8: 1 | C8: Cakupan sarana prasarana perkantoran pemerintahan desa yang baik; | G8: =F8/E8 -> #DIV/0! | J8: =I8/H8 -> #DIV/0! | M8: =L8/K8 -> #DIV/0! | P8: =O8/N8 -> #DIV/0! | S8: =R8/Q8 -> #DIV/0! | V8: =U8/T8 -> #DIV/0!
A9: 2 | C9: Rata-rata jumlah kelompok binaan lembaga pemberdayaan masyarakat (LPM); | G9: =F9/E9 -> #DIV/0! | J9: =I9/H9 -> #DIV/0! | M9: =L9/K9 -> #DIV/0! | P9: =O9/N9 -> #DIV/0! | S9: =R9/Q9 -> #DIV/0! | V9: =U9/T9 -> #DIV/0!
A10: 3 | C10: Rata-rata jumlah kelompok binaan PKK; | G10: =F10/E10 -> #DIV/0! | J10: =I10/H10 -> #DIV/0! | M10: =L10/K10 -> #DIV/0! | P10: =O10/N10 -> #DIV/0! | S10: =R10/Q10 -> #DIV/0! | V10: =U10/T10 -> #DIV/0!
A11: 4 | C11: Persentase LSM aktif; | G11: =F11/E11 -> #DIV/0! | J11: =I11/H11 -> #DIV/0! | M11: =L11/K11 -> #DIV/0! | P11: =O11/N11 -> #DIV/0! | S11: =R11/Q11 -> #DIV/0! | V11: =U11/T11 -> #DIV/0!
A12: 5 | C12: Persentase LPM Berprestasi; | G12: =F12/E12 -> #DIV/0! | J12: =I12/H12 -> #DIV/0! | M12: =L12/K12 -> #DIV/0! | P12: =O12/N12 -> #DIV/0! | S12: =R12/Q12 -> #DIV/0! | V12: =U12/T12 -> #DIV/0!
A13: 6 | C13: Persentase PKK aktif; | G13: =F13/E13 -> #DIV/0! | J13: =I13/H13 -> #DIV/0! | M13: =L13/K13 -> #DIV/0! | P13: =O13/N13 -> #DIV/0! | S13: =R13/Q13 -> #DIV/0! | V13: =U13/T13 -> #DIV/0!
A14: 7 | C14: Persentase Posyandu aktif; | G14: =F14/E14 -> #DIV/0! | J14: =I14/H14 -> #DIV/0! | M14: =L14/K14 -> #DIV/0! | P14: =O14/N14 -> #DIV/0! | S14: =R14/Q14 -> #DIV/0! | V14: =U14/T14 -> #DIV/0!
A15: 8 | C15: Swadaya masyarakat terhadap Program Pemberdayaan Masyarakat; dan | G15: =F15/E15 -> #DIV/0! | J15: =I15/H15 -> #DIV/0! | M15: =L15/K15 -> #DIV/0! | P15: =O15/N15 -> #DIV/0! | S15: =R15/Q15 -> #DIV/0! | V15: =U15/T15 -> #DIV/0!
A16: 9 | C16: Pemeliharaan Pasca Program pemberdayaan masyarakat. | G16: =F16/E16 -> #DIV/0! | J16: =I16/H16 -> #DIV/0! | M16: =L16/K16 -> #DIV/0! | P16: =O16/N16 -> #DIV/0! | S16: =R16/Q16 -> #DIV/0! | V16: =U16/T16 -> #DIV/0!
S18: Kepala OPD Penanggung Jawab
S21: ____________________________
S22: NIP.

Sheet Pengendalian Penduduk KB
D1: ASPEK PELAYANAN UMUM
A2: No | B2: Indikator Kinerja Program (Outcome) | D2: Kondisi Kinerja Awal RPJMD (Tahun 2012) | E2: Capaian Kinerja Program dan Kerangka Pendanaan | W2: SKPD Penanggung Jawab
E3: Tahun 2013 | H3: Tahun 2014 | K3: Tahun 2015 | N3: Tahun 2016 | Q3: Tahun 2017 | T3: Kondisi Pada akhir periode RPJMD
E4: target | F4: realisasi | G4: % | H4: target | I4: realisasi | J4: % | K4: target | L4: realisasi | M4: % | N4: target | O4: realisasi | P4: % | Q4: target | R4: realisasi | S4: % | T4: target | U4: realisasi | V4: %
A5: 1 | B5: 2 | D5: 3 | E5: 4 | F5: 5 | G5: 6 | H5: 7 | I5: 8 | J5: 9 | K5: 10 | L5: 11 | M5: 12 | N5: 13 | O5: 14 | P5: 15 | Q5: 16 | R5: 17 | S5: 18 | T5: 19 | U5: 20 | V5: 21 | W5: 22
A6: 2 | B6: Urusan Wajib Non Pelayanan Dasar | G6: =AVERAGE(#REF!,#REF!,#REF!,#REF!,#REF!,#REF!,#REF!,G7,#REF!,#REF!,#REF!,#REF!,#REF!,#REF!,#REF!,#REF!,#REF!,#REF!) -> #REF! | J6: =AVERAGE(#REF!,#REF!,#REF!,#REF!,#REF!,#REF!,#REF!,J7,#REF!,#REF!,#REF!,#REF!,#REF!,#REF!,#REF!,#REF!,#REF!,#REF!) -> #REF! | M6: =AVERAGE(#REF!,#REF!,#REF!,#REF!,#REF!,#REF!,#REF!,M7,#REF!,#REF!,#REF!,#REF!,#REF!,#REF!,#REF!,#REF!,#REF!,#REF!) -> #REF! | P6: =AVERAGE(#REF!,#REF!,#REF!,#REF!,#REF!,#REF!,#REF!,P7,#REF!,#REF!,#REF!,#REF!,#REF!,#REF!,#REF!,#REF!,#REF!,#REF!) -> #REF! | S6: =AVERAGE(#REF!,#REF!,#REF!,#REF!,#REF!,#REF!,#REF!,S7,#REF!,#REF!,#REF!,#REF!,#REF!,#REF!,#REF!,#REF!,#REF!,#REF!) -> #REF! | V6: =AVERAGE(#REF!,#REF!,#REF!,#REF!,#REF!,#REF!,#REF!,V7,#REF!,#REF!,#REF!,#REF!,#REF!,#REF!,#REF!,#REF!,#REF!,#REF!) -> #REF!
B7: h | C7: Pengendalian Penduduk dan Keluarga Berencana | G7: =AVERAGE(G8:G38) -> #DIV/0! | J7: =AVERAGE(J8:J38) -> #DIV/0! | M7: =AVERAGE(M8:M38) -> #DIV/0! | P7: =AVERAGE(P8:P38) -> #DIV/0! | S7: =AVERAGE(S8:S38) -> #DIV/0! | V7: =AVERAGE(V8:V38) -> #DIV/0!
A8: 1 | C8: Laju pertumbuhan penduduk (LPP); | G8: =F8/E8 -> #DIV/0! | J8: =I8/H8 -> #DIV/0! | M8: =L8/K8 -> #DIV/0! | P8: =O8/N8 -> #DIV/0! | S8: =R8/Q8 -> #DIV/0! | V8: =U8/T8 -> #DIV/0!
A9: 2 | C9: Total Fertility Rate (TFR): | G9: =F9/E9 -> #DIV/0! | J9: =I9/H9 -> #DIV/0! | M9: =L9/K9 -> #DIV/0! | P9: =O9/N9 -> #DIV/0! | S9: =R9/Q9 -> #DIV/0! | V9: =U9/T9 -> #DIV/0!
A10: 3 | C10: Persentase Perangkat Daerah (Dinas/Badan) yang berperan aktif dalam pembangunan Daerah melalui Kampung KB; | G10: =F10/E10 -> #DIV/0! | J10: =I10/H10 -> #DIV/0! | M10: =L10/K10 -> #DIV/0! | P10: =O10/N10 -> #DIV/0! | S10: =R10/Q10 -> #DIV/0! | V10: =U10/T10 -> #DIV/0!
A11: 4 | C11: Persentase Perangkat Daerah (Dinas/Badan) yang menyusun dan memanfaatkan Rancangan Induk Pengendalian Penduduk; | G11: =F11/E11 -> #DIV/0! | J11: =I11/H11 -> #DIV/0! | M11: =L11/K11 -> #DIV/0! | P11: =O11/N11 -> #DIV/0! | S11: =R11/Q11 -> #DIV/0! | V11: =U11/T11 -> #DIV/0!
A12: 5 | C12: Jumlah kebijakan (Peraturan Daerah/Peraturan Kepala Daerah) yang mengatur tentang pengendalian kuantitas dan kualitas penduduk; | G12: =F12/E12 -> #DIV/0! | J12: =I12/H12 -> #DIV/0! | M12: =L12/K12 -> #DIV/0! | P12: =O12/N12 -> #DIV/0! | S12: =R12/Q12 -> #DIV/0! | V12: =U12/T12 -> #DIV/0!
A13: 6 | C13: Jumlah sektor yang menyepakati dan memanfaatkan data profil (parameter dan proyeksi penduduk) untuk perencanaan dan pelaksanaan program pembangunan; | G13: =F13/E13 -> #DIV/0! | J13: =I13/H13 -> #DIV/0! | M13: =L13/K13 -> #DIV/0! | P13: =O13/N13 -> #DIV/0! | S13: =R13/Q13 -> #DIV/0! | V13: =U13/T13 -> #DIV/0!
A14: 7 | C14: Jumlah kerjasama penyelenggaraan pendidikan formal, non formal, dan informal yang melakukan pendidikan kependudukan; | G14: =F14/E14 -> #DIV/0! | J14: =I14/H14 -> #DIV/0! | M14: =L14/K14 -> #DIV/0! | P14: =O14/N14 -> #DIV/0! | S14: =R14/Q14 -> #DIV/0! | V14: =U14/T14 -> #DIV/0!
A15: 8 | C15: Rata-rata jumlah anak per keluarga; | G15: =F15/E15 -> #DIV/0! | J15: =I15/H15 -> #DIV/0! | M15: =L15/K15 -> #DIV/0! | P15: =O15/N15 -> #DIV/0! | S15: =R15/Q15 -> #DIV/0! | V15: =U15/T15 -> #DIV/0!
A16: 9 | C16: Ratio akseptor KB; | G16: =F16/E16 -> #DIV/0! | J16: =I16/H16 -> #DIV/0! | M16: =L16/K16 -> #DIV/0! | P16: =O16/N16 -> #DIV/0! | S16: =R16/Q16 -> #DIV/0! | V16: =U16/T16 -> #DIV/0!
A17: 10 | C17: Angka pemakaian kontrasepsi/CPR bagi perempuan menikah usia 15-49 ; | G17: =F17/E17 -> #DIV/0! | J17: =I17/H17 -> #DIV/0! | M17: =L17/K17 -> #DIV/0! | P17: =O17/N17 -> #DIV/0! | S17: =R17/Q17 -> #DIV/0! | V17: =U17/T17 -> #DIV/0!
A18: 11 | C18: Angka kelahiran remaja(perempuan usia 15-19) per 1.000 perempuan usia 15-19 tahun (ASFR 15-19) | G18: =F18/E18 -> #DIV/0! | J18: =I18/H18 -> #DIV/0! | M18: =L18/K18 -> #DIV/0! | P18: =O18/N18 -> #DIV/0! | S18: =R18/Q18 -> #DIV/0! | V18: =U18/T18 -> #DIV/0!
A19: 12 | C19: Cakupan pasangan usia subur (PUS) yang istrinya dibawah 20 tahun; | G19: =F19/E19 -> #DIV/0! | J19: =I19/H19 -> #DIV/0! | M19: =L19/K19 -> #DIV/0! | P19: =O19/N19 -> #DIV/0! | S19: =R19/Q19 -> #DIV/0! | V19: =U19/T19 -> #DIV/0!
... A38: 31 | C38: Persentase Pembiayaan Program Kependudukan, Keluarga Berencana dan Pembangunan Keluarga melalui APBD dan APBDes. | G38: =F38/E38 -> #DIV/0! | J38: =I38/H38 -> #DIV/0! | M38: =L38/K38 -> #DIV/0! | P38: =O38/N38 -> #DIV/0! | S38: =R38/Q38 -> #DIV/0! | V38: =U38/T38 -> #DIV/0!
S40: Kepala OPD Penanggung Jawab
S43: ____________________________
S44: NIP.

Sheet Perhubungan
D1: ASPEK PELAYANAN UMUM
A2: No | B2: Indikator Kinerja Program (Outcome) | D2: Kondisi Kinerja Awal RPJMD (Tahun 2012) | E2: Capaian Kinerja Program dan Kerangka Pendanaan | W2: SKPD Penanggung Jawab
E3: Tahun 2013 | H3: Tahun 2014 | K3: Tahun 2015 | N3: Tahun 2016 | Q3: Tahun 2017 | T3: Kondisi Pada akhir periode RPJMD
E4: target | F4: realisasi | G4: % | H4: target | I4: realisasi | J4: % | K4: target | L4: realisasi | M4: % | N4: target | O4: realisasi | P4: % | Q4: target | R4: realisasi | S4: % | T4: target | U4: realisasi | V4: %
A5: 1 | B5: 2 | D5: 3 | E5: 4 | F5: 5 | G5: 6 | H5: 7 | I5: 8 | J5: 9 | K5: 10 | L5: 11 | M5: 12 | N5: 13 | O5: 14 | P5: 15 | Q5: 16 | R5: 17 | S5: 18 | T5: 19 | U5: 20 | V5: 21 | W5: 22
A6: 2 | B6: Urusan Wajib Non Pelayanan Dasar | G6: =AVERAGE(#REF!,#REF!,#REF!,#REF!,#REF!,#REF!,#REF!,#REF!,G7,#REF!,#REF!,#REF!,#REF!,#REF!,#REF!,#REF!,#REF!,#REF!) -> #REF! | J6: =AVERAGE(#REF!,#REF!,#REF!,#REF!,#REF!,#REF!,#REF!,#REF!,J7,#REF!,#REF!,#REF!,#REF!,#REF!,#REF!,#REF!,#REF!,#REF!) -> #REF! | M6: =AVERAGE(#REF!,#REF!,#REF!,#REF!,#REF!,#REF!,#REF!,#REF!,M7,#REF!,#REF!,#REF!,#REF!,#REF!,#REF!,#REF!,#REF!,#REF!) -> #REF! | P6: =AVERAGE(#REF!,#REF!,#REF!,#REF!,#REF!,#REF!,#REF!,#REF!,P7,#REF!,#REF!,#REF!,#REF!,#REF!,#REF!,#REF!,#REF!,#REF!) -> #REF! | S6: =AVERAGE(#REF!,#REF!,#REF!,#REF!,#REF!,#REF!,#REF!,#REF!,S7,#REF!,#REF!,#REF!,#REF!,#REF!,#REF!,#REF!,#REF!,#REF!) -> #REF! | V6: =AVERAGE(#REF!,#REF!,#REF!,#REF!,#REF!,#REF!,#REF!,#REF!,V7,#REF!,#REF!,#REF!,#REF!,#REF!,#REF!,#REF!,#REF!,#REF!) -> #REF!
B7: i | C7: Perhubungan | G7: =AVERAGE(G8:G17) -> #DIV/0! | J7: =AVERAGE(J8:J17) -> #DIV/0! | M7: =AVERAGE(M8:M17) -> #DIV/0! | P7: =AVERAGE(P8:P17) -> #DIV/0! | S7: =AVERAGE(S8:S17) -> #DIV/0! | V7: =AVERAGE(V8:V17) -> #DIV/0!
A8: 1 | C8: Jumlah arus penumpang angkutan umum | G8: =F8/E8 -> #DIV/0! | J8: =I8/H8 -> #DIV/0! | M8: =L8/K8 -> #DIV/0! | P8: =O8/N8 -> #DIV/0! | S8: =R8/Q8 -> #DIV/0! | V8: =U8/T8 -> #DIV/0!
A9: 2 | C9: rasio ijin trayek | G9: =F9/E9 -> #DIV/0! | J9: =I9/H9 -> #DIV/0! | M9: =L9/K9 -> #DIV/0! | P9: =O9/N9 -> #DIV/0! | S9: =R9/Q9 -> #DIV/0! | V9: =U9/T9 -> #DIV/0!
A10: 3 | C10: jumlah uji KIR angkutan umum | G10: =F10/E10 -> #DIV/0! | J10: =I10/H10 -> #DIV/0! | M10: =L10/K10 -> #DIV/0! | P10: =O10/N10 -> #DIV/0! | S10: =R10/Q10 -> #DIV/0! | V10: =U10/T10 -> #DIV/0!
A11: 4 | C11: Jumlah pelabuhan laut/udara/terminal bis | G11: =F11/E11 -> #DIV/0! | J11: =I11/H11 -> #DIV/0! | M11: =L11/K11 -> #DIV/0! | P11: =O11/N11 -> #DIV/0! | S11: =R11/Q11 -> #DIV/0! | V11: =U11/T11 -> #DIV/0!
A12: 5 | C12: persentase layanan angkutan darat | G12: =F12/E12 -> #DIV/0! | J12: =I12/H12 -> #DIV/0! | M12: =L12/K12 -> #DIV/0! | P12: =O12/N12 -> #DIV/0! | S12: =R12/Q12 -> #DIV/0! | V12: =U12/T12 -> #DIV/0!
A13: 6 | C13: persentase kepemilikan KIR angkutan umum | G13: =F13/E13 -> #DIV/0! | J13: =I13/H13 -> #DIV/0! | M13: =L13/K13 -> #DIV/0! | P13: =O13/N13 -> #DIV/0! | S13: =R13/Q13 -> #DIV/0! | V13: =U13/T13 -> #DIV/0!
A14: 7 | C14: pemasangan rambu rambu | G14: =F14/E14 -> #DIV/0! | J14: =I14/H14 -> #DIV/0! | M14: =L14/K14 -> #DIV/0! | P14: =O14/N14 -> #DIV/0! | S14: =R14/Q14 -> #DIV/0! | V14: =U14/T14 -> #DIV/0!
A15: 8 | C15: rasio panjang jalan per jumlah kendaraan | G15: =F15/E15 -> #DIV/0! | J15: =I15/H15 -> #DIV/0! | M15: =L15/K15 -> #DIV/0! | P15: =O15/N15 -> #DIV/0! | S15: =R15/Q15 -> #DIV/0! | V15: =U15/T15 -> #DIV/0!
A16: 9 | C16: jumlah orang/barang yang tersangkut angkutan umum | G16: =F16/E16 -> #DIV/0! | J16: =I16/H16 -> #DIV/0! | M16: =L16/K16 -> #DIV/0! | P16: =O16/N16 -> #DIV/0! | S16: =R16/Q16 -> #DIV/0! | V16: =U16/T16 -> #DIV/0!
A17: 10 | C17: jumlah orang/barang melalui dermaga/bandara/ terminal pertahun | G17: =F17/E17 -> #DIV/0! | J17: =I17/H17 -> #DIV/0! | M17: =L17/K17 -> #DIV/0! | P17: =O17/N17 -> #DIV/0! | S17: =R17/Q17 -> #DIV/0! | V17: =U17/T17 -> #DIV/0!
S19: Kepala OPD Penanggung Jawab
S22: ____________________________
S23: NIP.

Sheet Kominfo
D1: ASPEK PELAYANAN UMUM
A2: No | B2: Indikator Kinerja Program (Outcome) | D2: Kondisi Kinerja Awal RPJMD (Tahun 2012) | E2: Capaian Kinerja Program dan Kerangka Pendanaan | W2: SKPD Penanggung Jawab
E3: Tahun 2013 | H3: Tahun 2014 | K3: Tahun 2015 | N3: Tahun 2016 | Q3: Tahun 2017 | T3: Kondisi Pada akhir periode RPJMD
E4: target | F4: realisasi | G4: % | H4: target | I4: realisasi | J4: % | K4: target | L4: realisasi | M4: % | N4: target | O4: realisasi | P4: % | Q4: target | R4: realisasi | S4: % | T4: target | U4: realisasi | V4: %
A5: 1 | B5: 2 | D5: 3 | E5: 4 | F5: 5 | G5: 6 | H5: 7 | I5: 8 | J5: 9 | K5: 10 | L5: 11 | M5: 12 | N5: 13 | O5: 14 | P5: 15 | Q5: 16 | R5: 17 | S5: 18 | T5: 19 | U5: 20 | V5: 21 | W5: 22
A6: 2 | B6: Urusan Wajib Non Pelayanan Dasar
B7: j | C7: Komunikasi dan Informasi
A8: 1 | C8: cakupan pengembangan dan pemberdayaan kelompok informasi masyarakat di tingkat kecamatan | D8: 1 Kec | E8: 1 Kec | F8: 1 Kec | G8: 1 | H8: 1 Kec | I8: 1 Kec | J8: 1 | K8: 1 Kec | L8: 1 Kec | M8: 1 | N8: 1 Kec | O8: 1 Kec | P8: 1 | Q8: 2 Kec | R8: 2 Kec | S8: 1 | T8: 2 Kec | U8: 2 Kec | V8: 1 | W8: DISKOMINFO
A9: 2 | C9: cakupan layanan telekomunikasi | D9: 8 Kec 62 Kel | E9: 8 Kec 62 Kel | F9: 8 Kec 62 Kel | G9: 1 | H9: 8 Kec 62 Kel | I9: 8 Kec 62 Kel | J9: 1 | K9: 11 Kec 62 Kel | L9: 11 Kec 62 Kel | M9: 1 | N9: 11 Kec 62 Kel | O9: 11 Kec 62 Kel | P9: 1 | Q9: 11 Kec 62 Kel | R9: 11 Kec 62 Kel | S9: 1 | T9: 11 Kec 62 Kel | U9: 11 Kec 62 Kel | V9: 1 | W9: PT. TELKOM DAN DISKOMINFO
A10: 3 | C10: persentase penduduk yang menggunakan HP/telepon | D10: 0.5 | E10: 0.5 | F10: 0.5 | G10: 1 | H10: 0.6 | I10: 0.6 | J10: 1 | K10: 0.7 | L10: 0.7 | M10: 1 | N10: 0.8 | O10: 0.8 | P10: 1 | Q10: 0.95 | R10: 0.95 | S10: 1 | T10: 0.95 | U10: 0.98 | V10: 1.03 | W10: DISKOMINFO, TELKOM, DAN TELKOMSEL
A11: 4 | C11: proporsi rumah tangga dengan akses internet | D11: 0.25 | E11: 0.25 | F11: 0.25 | G11: 1 | H11: 0.3 | I11: 0.3 | J11: 1 | K11: 0.5 | L11: 0.5 | M11: 1 | N11: 0.7 | O11: 0.7 | P11: 1 | Q11: 0.8 | R11: 0.9 | S11: 1.13 | T11: 0.9 | U11: 0.95 | V11: 1.05 | W11: DISKOMINFO DAN TELKOM
A12: 5 | C12: proporsi rumah tangga yang memiliki komputer pribadi | D12: 0.25 | E12: 0.25 | F12: 0.25 | G12: 1 | H12: 0.3 | I12: 0.3 | J12: 1 | K12: 0.35 | L12: 0.35 | M12: 1 | N12: 0.4 | O12: 0.4 | P12: 1 | Q12: 0.4 | R12: 0.4 | S12: 1 | T12: 0.4 | U12: 0.6 | V12: 1.5 | W12: DISKOMINFO
S14: Kepala Dinas Komunikasi Dan Informatika
S15: Kota Jambi
S19: Drs. NIRWAN, ME
S20: NIP. 19670222 198512 1 001

Sheet KUKM
D1: ASPEK PELAYANAN UMUM
A2: No | B2: Indikator Kinerja Program (Outcome) | D2: Kondisi Kinerja Awal RPJMD (Tahun 2012) | E2: Capaian Kinerja Program dan Kerangka Pendanaan | W2: SKPD Penanggung Jawab
E3: Tahun 2013 | H3: Tahun 2014 | K3: Tahun 2015 | N3: Tahun 2016 | Q3: Tahun 2017 | T3: Kondisi Pada akhir periode RPJMD
E4: target | F4: realisasi | G4: % | H4: target | I4: realisasi | J4: % | K4: target | L4: realisasi | M4: % | N4: target | O4: realisasi | P4: % | Q4: target | R4: realisasi | S4: % | T4: target | U4: realisasi | V4: %
A5: 1 | B5: 2 | D5: 3 | E5: 4 | F5: 5 | G5: 6 | H5: 7 | I5: 8 | J5: 9 | K5: 10 | L5: 11 | M5: 12 | N5: 13 | O5: 14 | P5: 15 | Q5: 16 | R5: 17 | S5: 18 | T5: 19 | U5: 20 | V5: 21 | W5: 22
A6: 2 | B6: Urusan Wajib Non Pelayanan Dasar | G6: =AVERAGE(#REF!,#REF!,#REF!,#REF!,#REF!,#REF!,#REF!,#REF!,#REF!,#REF!,G7,#REF!,#REF!,#REF!,#REF!,#REF!,#REF!,#REF!) -> #REF! | J6: =AVERAGE(#REF!,#REF!,#REF!,#REF!,#REF!,#REF!,#REF!,#REF!,#REF!,#REF!,J7,#REF!,#REF!,#REF!,#REF!,#REF!,#REF!,#REF!) -> #REF! | M6: =AVERAGE(#REF!,#REF!,#REF!,#REF!,#REF!,#REF!,#REF!,#REF!,#REF!,#REF!,M7,#REF!,#REF!,#REF!,#REF!,#REF!,#REF!,#REF!) -> #REF! | P6: =AVERAGE(#REF!,#REF!,#REF!,#REF!,#REF!,#REF!,#REF!,#REF!,#REF!,#REF!,P7,#REF!,#REF!,#REF!,#REF!,#REF!,#REF!,#REF!) -> #REF! | S6: =AVERAGE(#REF!,#REF!,#REF!,#REF!,#REF!,#REF!,#REF!,#REF!,#REF!,#REF!,S7,#REF!,#REF!,#REF!,#REF!,#REF!,#REF!,#REF!) -> #REF! | V6: =AVERAGE(#REF!,#REF!,#REF!,#REF!,#REF!,#REF!,#REF!,#REF!,#REF!,#REF!,V7,#REF!,#REF!,#REF!,#REF!,#REF!,#REF!,#REF!) -> #REF!
B7: k | C7: Koperasi, Usaha Kecil dan Menengah | G7: =AVERAGE(G8:G11) -> #DIV/0! | J7: =AVERAGE(J8:J11) -> #DIV/0! | M7: =AVERAGE(M8:M11) -> #DIV/0! | P7: =AVERAGE(P8:P11) -> #DIV/0! | S7: =AVERAGE(S8:S11) -> #DIV/0! | V7: =AVERAGE(V8:V11) -> #DIV/0!
A8: 1 | C8: Persentase koperasi aktif; | G8: =F8/E8 -> #DIV/0! | J8: =I8/H8 -> #DIV/0! | M8: =L8/K8 -> #DIV/0! | P8: =O8/N8 -> #DIV/0! | S8: =R8/Q8 -> #DIV/0! | V8: =U8/T8 -> #DIV/0!
A9: 2 | C9: Pesentase UKM non BPR/LKM aktif; | G9: =F9/E9 -> #DIV/0! | J9: =I9/H9 -> #DIV/0! | M9: =L9/K9 -> #DIV/0! | P9: =O9/N9 -> #DIV/0! | S9: =R9/Q9 -> #DIV/0! | V9: =U9/T9 -> #DIV/0!
A10: 3 | C10: Persentase BPR/LKM aktif; dan | G10: =F10/E10 -> #DIV/0! | J10: =I10/H10 -> #DIV/0! | M10: =L10/K10 -> #DIV/0! | P10: =O10/N10 -> #DIV/0! | S10: =R10/Q10 -> #DIV/0! | V10: =U10/T10 -> #DIV/0!
A11: 4 | C11: Pesentase Usaha Mikro dan Kecil. | G11: =F11/E11 -> #DIV/0! | J11: =I11/H11 -> #DIV/0! | M11: =L11/K11 -> #DIV/0! | P11: =O11/N11 -> #DIV/0! | S11: =R11/Q11 -> #DIV/0! | V11: =U11/T11 -> #DIV/0!
S13: Kepala OPD Penanggung Jawab
S16: ____________________________
S17: NIP.

Sheet Penanaman Modal
D1: ASPEK PELAYANAN UMUM
A2: No | B2: Indikator Kinerja Program (Outcome) | D2: Kondisi Kinerja Awal RPJMD (Tahun 2012) | E2: Capaian Kinerja Program dan Kerangka Pendanaan | W2: SKPD Penanggung Jawab
E3: Tahun 2013 | H3: Tahun 2014 | K3: Tahun 2015 | N3: Tahun 2016 | Q3: Tahun 2017 | T3: Kondisi Pada akhir periode RPJMD
E4: target | F4: realisasi | G4: % | H4: target | I4: realisasi | J4: % | K4: target | L4: realisasi | M4: % | N4: target | O4: realisasi | P4: % | Q4: target | R4: realisasi | S4: % | T4: target | U4: realisasi | V4: %
A5: 1 | B5: 2 | D5: 3 | E5: 4 | F5: 5 | G5: 6 | H5: 7 | I5: 8 | J5: 9 | K5: 10 | L5: 11 | M5: 12 | N5: 13 | O5: 14 | P5: 15 | Q5: 16 | R5: 17 | S5: 18 | T5: 19 | U5: 20 | V5: 21 | W5: 22
A6: 2 | B6: Urusan Wajib Non Pelayanan Dasar | G6: =AVERAGE(#REF!,#REF!,#REF!,#REF!,#REF!,#REF!,#REF!,#REF!,#REF!,#REF!,#REF!,G7,#REF!,#REF!,#REF!,#REF!,#REF!,#REF!) -> #REF! | J6: =AVERAGE(#REF!,#REF!,#REF!,#REF!,#REF!,#REF!,#REF!,#REF!,#REF!,#REF!,#REF!,J7,#REF!,#REF!,#REF!,#REF!,#REF!,#REF!) -> #REF! | M6: =AVERAGE(#REF!,#REF!,#REF!,#REF!,#REF!,#REF!,#REF!,#REF!,#REF!,#REF!,#REF!,M7,#REF!,#REF!,#REF!,#REF!,#REF!,#REF!) -> #REF! | P6: =AVERAGE(#REF!,#REF!,#REF!,#REF!,#REF!,#REF!,#REF!,#REF!,#REF!,#REF!,#REF!,P7,#REF!,#REF!,#REF!,#REF!,#REF!,#REF!) -> #REF! | S6: =AVERAGE(#REF!,#REF!,#REF!,#REF!,#REF!,#REF!,#REF!,#REF!,#REF!,#REF!,#REF!,S7,#REF!,#REF!,#REF!,#REF!,#REF!,#REF!) -> #REF! | V6: =AVERAGE(#REF!,#REF!,#REF!,#REF!,#REF!,#REF!,#REF!,#REF!,#REF!,#REF!,#REF!,V7,#REF!,#REF!,#REF!,#REF!,#REF!,#REF!) -> #REF!
B7: l | C7: Penanaman Modal | G7: =AVERAGE(G8:G11) -> #DIV/0! | J7: =AVERAGE(J8:J11) -> #DIV/0! | M7: =AVERAGE(M8:M11) -> #DIV/0! | P7: =AVERAGE(P8:P11) -> #DIV/0! | S7: =AVERAGE(S8:S11) -> #DIV/0! | V7: =AVERAGE(V8:V11) -> #DIV/0!
A8: 1 | C8: jumlah investor berskala nasional (PMDN/PMA) | G8: =F8/E8 -> #DIV/0! | J8: =I8/H8 -> #DIV/0! | M8: =L8/K8 -> #DIV/0! | P8: =O8/N8 -> #DIV/0! | S8: =R8/Q8 -> #DIV/0! | V8: =U8/T8 -> #DIV/0!
A9: 2 | C9: jumlah nilai investasi berskala nasional (PMDN/PMA) | G9: =F9/E9 -> #DIV/0! | J9: =I9/H9 -> #DIV/0! | M9: =L9/K9 -> #DIV/0! | P9: =O9/N9 -> #DIV/0! | S9: =R9/Q9 -> #DIV/0! | V9: =U9/T9 -> #DIV/0!
A10: 3 | C10: rasio daya serap tenaga kerja | G10: =F10/E10 -> #DIV/0! | J10: =I10/H10 -> #DIV/0! | M10: =L10/K10 -> #DIV/0! | P10: =O10/N10 -> #DIV/0! | S10: =R10/Q10 -> #DIV/0! | V10: =U10/T10 -> #DIV/0!
A11: 4 | C11: kenaikan/penurunan nilai realisasi PMDN (milyar rupiah) | G11: =F11/E11 -> #DIV/0! | J11: =I11/H11 -> #DIV/0! | M11: =L11/K11 -> #DIV/0! | P11: =O11/N11 -> #DIV/0! | S11: =R11/Q11 -> #DIV/0! | V11: =U11/T11 -> #DIV/0!
S13: Kepala OPD Penanggung Jawab
S16: ____________________________
S17: NIP.

Sheet Pora
D1: ASPEK PELAYANAN UMUM
A2: No | B2: Indikator Kinerja Program (Outcome) | D2: Kondisi Kinerja Awal RPJMD (Tahun 2012) | E2: Capaian Kinerja Program dan Kerangka Pendanaan | W2: SKPD Penanggung Jawab
E3: Tahun 2013 | H3: Tahun 2014 | K3: Tahun 2015 | N3: Tahun 2016 | Q3: Tahun 2017 | T3: Kondisi Pada akhir periode RPJMD
E4: target | F4: realisasi | G4: % | H4: target | I4: realisasi | J4: % | K4: target | L4: realisasi | M4: % | N4: target | O4: realisasi | P4: % | Q4: target | R4: realisasi | S4: % | T4: target | U4: realisasi | V4: %
A5: 1 | B5: 2 | D5: 3 | E5: 4 | F5: 5 | G5: 6 | H5: 7 | I5: 8 | J5: 9 | K5: 10 | L5: 11 | M5: 12 | N5: 13 | O5: 14 | P5: 15 | Q5: 16 | R5: 17 | S5: 18 | T5: 19 | U5: 20 | V5: 21 | W5: 22
A6: 2 | B6: Urusan Wajib Non Pelayanan Dasar | G6: =AVERAGE(#REF!,#REF!,#REF!,#REF!,#REF!,#REF!,#REF!,#REF!,#REF!,#REF!,#REF!,#REF!,G7,#REF!,#REF!,#REF!,#REF!,#REF!) -> #REF! | J6: =AVERAGE(#REF!,#REF!,#REF!,#REF!,#REF!,#REF!,#REF!,#REF!,#REF!,#REF!,#REF!,#REF!,J7,#REF!,#REF!,#REF!,#REF!,#REF!) -> #REF! | M6: =AVERAGE(#REF!,#REF!,#REF!,#REF!,#REF!,#REF!,#REF!,#REF!,#REF!,#REF!,#REF!,#REF!,M7,#REF!,#REF!,#REF!,#REF!,#REF!) -> #REF! | P6: =AVERAGE(#REF!,#REF!,#REF!,#REF!,#REF!,#REF!,#REF!,#REF!,#REF!,#REF!,#REF!,#REF!,P7,#REF!,#REF!,#REF!,#REF!,#REF!) -> #REF! | S6: =AVERAGE(#REF!,#REF!,#REF!,#REF!,#REF!,#REF!,#REF!,#REF!,#REF!,#REF!,#REF!,#REF!,S7,#REF!,#REF!,#REF!,#REF!,#REF!) -> #REF! | V6: =AVERAGE(#REF!,#REF!,#REF!,#REF!,#REF!,#REF!,#REF!,#REF!,#REF!,#REF!,#REF!,#REF!,V7,#REF!,#REF!,#REF!,#REF!,#REF!) -> #REF!
B7: m | C7: Kepemudaan dan Olahraga | G7: =AVERAGE(G8:G14) -> #DIV/0! | J7: =AVERAGE(J8:J14) -> #DIV/0! | M7: =AVERAGE(M8:M14) -> #DIV/0! | P7: =AVERAGE(P8:P14) -> #DIV/0! | S7: =AVERAGE(S8:S14) -> #DIV/0! | V7: =AVERAGE(V8:V14) -> #DIV/0!
A8: 1 | C8: persentase organisasi pemuda yang aktif | G8: =F8/E8 -> #DIV/0! | J8: =I8/H8 -> #DIV/0! | M8: =L8/K8 -> #DIV/0! | P8: =O8/N8 -> #DIV/0! | S8: =R8/Q8 -> #DIV/0! | V8: =U8/T8 -> #DIV/0!
A9: 2 | C9: persentase wirausaha muda | G9: =F9/E9 -> #DIV/0! | J9: =I9/H9 -> #DIV/0! | M9: =L9/K9 -> #DIV/0! | P9: =O9/N9 -> #DIV/0! | S9: =R9/Q9 -> #DIV/0! | V9: =U9/T9 -> #DIV/0!
A10: 3 | C10: cakupan pembinaan olahrag | G10: =F10/E10 -> #DIV/0! | J10: =I10/H10 -> #DIV/0! | M10: =L10/K10 -> #DIV/0! | P10: =O10/N10 -> #DIV/0! | S10: =R10/Q10 -> #DIV/0! | V10: =U10/T10 -> #DIV/0!
A11: 4 | C11: cakupan pelatih yang bersertifikasi | G11: =F11/E11 -> #DIV/0! | J11: =I11/H11 -> #DIV/0! | M11: =L11/K11 -> #DIV/0! | P11: =O11/N11 -> #DIV/0! | S11: =R11/Q11 -> #DIV/0! | V11: =U11/T11 -> #DIV/0!
A12: 5 | C12: cakupan pembinaan atlet muda | G12: =F12/E12 -> #DIV/0! | J12: =I12/H12 -> #DIV/0! | M12: =L12/K12 -> #DIV/0! | P12: =O12/N12 -> #DIV/0! | S12: =R12/Q12 -> #DIV/0! | V12: =U12/T12 -> #DIV/0!
A13: 6 | C13: jumlah atlet berprestasi | G13: =F13/E13 -> #DIV/0! | J13: =I13/H13 -> #DIV/0! | M13: =L13/K13 -> #DIV/0! | P13: =O13/N13 -> #DIV/0! | S13: =R13/Q13 -> #DIV/0! | V13: =U13/T13 -> #DIV/0!
A14: 7 | C14: jumlah prestasi olahraga | G14: =F14/E14 -> #DIV/0! | J14: =I14/H14 -> #DIV/0! | M14: =L14/K14 -> #DIV/0! | P14: =O14/N14 -> #DIV/0! | S14: =R14/Q14 -> #DIV/0! | V14: =U14/T14 -> #DIV/0!
S16: Kepala OPD Penanggung Jawab
S19: ____________________________
S20: NIP.

Sheet Statistik
D1: ASPEK PELAYANAN UMUM
A2: No | B2: Indikator Kinerja Program (Outcome) | D2: Kondisi Kinerja Awal RPJMD (Tahun 2012) | E2: Capaian Kinerja Program dan Kerangka Pendanaan | W2: SKPD Penanggung Jawab
E3: Tahun 2013 | H3: Tahun 2014 | K3: Tahun 2015 | N3: Tahun 2016 | Q3: Tahun 2017 | T3: Kondisi Pada akhir periode RPJMD
E4: target | F4: realisasi | G4: % | H4: target | I4: realisasi | J4: % | K4: target | L4: realisasi | M4: % | N4: target | O4: realisasi | P4: % | Q4: target | R4: realisasi | S4: % | T4: target | U4: realisasi | V4: %
A5: 1 | B5: 2 | D5: 3 | E5: 4 | F5: 5 | G5: 6 | H5: 7 | I5: 8 | J5: 9 | K5: 10 | L5: 11 | M5: 12 | N5: 13 | O5: 14 | P5: 15 | Q5: 16 | R5: 17 | S5: 18 | T5: 19 | U5: 20 | V5: 21 | W5: 22
A6: 2 | B6: Urusan Wajib Non Pelayanan Dasar | G6: =AVERAGE(#REF!,#REF!,#REF!,#REF!,#REF!,#REF!,#REF!,#REF!,#REF!,#REF!,#REF!,#REF!,#REF!,G7,#REF!,#REF!,#REF!,#REF!) -> #REF! | J6: =AVERAGE(#REF!,#REF!,#REF!,#REF!,#REF!,#REF!,#REF!,#REF!,#REF!,#REF!,#REF!,#REF!,#REF!,J7,#REF!,#REF!,#REF!,#REF!) -> #REF! | M6: =AVERAGE(#REF!,#REF!,#REF!,#REF!,#REF!,#REF!,#REF!,#REF!,#REF!,#REF!,#REF!,#REF!,#REF!,M7,#REF!,#REF!,#REF!,#REF!) -> #REF! | P6: =AVERAGE(#REF!,#REF!,#REF!,#REF!,#REF!,#REF!,#REF!,#REF!,#REF!,#REF!,#REF!,#REF!,#REF!,P7,#REF!,#REF!,#REF!,#REF!) -> #REF! | S6: =AVERAGE(#REF!,#REF!,#REF!,#REF!,#REF!,#REF!,#REF!,#REF!,#REF!,#REF!,#REF!,#REF!,#REF!,S7,#REF!,#REF!,#REF!,#REF!) -> #REF! | V6: =AVERAGE(#REF!,#REF!,#REF!,#REF!,#REF!,#REF!,#REF!,#REF!,#REF!,#REF!,#REF!,#REF!,#REF!,V7,#REF!,#REF!,#REF!,#REF!) -> #REF!
B7: n | C7: Statistik | G7: =AVERAGE(G8:G10) -> #DIV/0! | J7: =AVERAGE(J8:J10) -> #DIV/0! | M7: =AVERAGE(M8:M10) -> #DIV/0! | P7: =AVERAGE(P8:P10) -> #DIV/0! | S7: =AVERAGE(S8:S10) -> #DIV/0! | V7: =AVERAGE(V8:V10) -> #DIV/0!
A8: 1 | C8: Tersedianya sistem data dan statistik yang terintegrasi | G8: =F8/E8 -> #DIV/0! | J8: =I8/H8 -> #DIV/0! | M8: =L8/K8 -> #DIV/0! | P8: =O8/N8 -> #DIV/0! | S8: =R8/Q8 -> #DIV/0! | V8: =U8/T8 -> #DIV/0!
A9: 2 | C9: Buku "Kota dalam Angka" | G9: =F9/E9 -> #DIV/0! | J9: =I9/H9 -> #DIV/0! | M9: =L9/K9 -> #DIV/0! | P9: =O9/N9 -> #DIV/0! | S9: =R9/Q9 -> #DIV/0! | V9: =U9/T9 -> #DIV/0!
A10: 3 | C10: Buku PDRB | G10: =F10/E10 -> #DIV/0! | J10: =I10/H10 -> #DIV/0! | M10: =L10/K10 -> #DIV/0! | P10: =O10/N10 -> #DIV/0! | S10: =R10/Q10 -> #DIV/0! | V10: =U10/T10 -> #DIV/0!
S12: Kepala OPD Penanggung Jawab
S15: ____________________________
S16: NIP.

Sheet Persandian
D1: ASPEK PELAYANAN UMUM
A2: No | B2: Indikator Kinerja Program (Outcome) | D2: Kondisi Kinerja Awal RPJMD (Tahun 2012) | E2: Capaian Kinerja Program dan Kerangka Pendanaan | W2: SKPD Penanggung Jawab
E3: Tahun 2013 | H3: Tahun 2014 | K3: Tahun 2015 | N3: Tahun 2016 | Q3: Tahun 2017 | T3: Kondisi Pada akhir periode RPJMD
E4: target | F4: realisasi | G4: % | H4: target | I4: realisasi | J4: % | K4: target | L4: realisasi | M4: % | N4: target | O4: realisasi | P4: % | Q4: target | R4: realisasi | S4: % | T4: target | U4: realisasi | V4: %
A5: 1 | B5: 2 | D5: 3 | E5: 4 | F5: 5 | G5: 6 | H5: 7 | I5: 8 | J5: 9 | K5: 10 | L5: 11 | M5: 12 | N5: 13 | O5: 14 | P5: 15 | Q5: 16 | R5: 17 | S5: 18 | T5: 19 | U5: 20 | V5: 21 | W5: 22
A6: 2 | B6: Urusan Wajib Non Pelayanan Dasar
B7: o | C7: Persandian | D7: 0.5 | G7: 1 | J7: 1 | M7: 1 | P7: 1 | S7: =S8 -> 1 | V7: =V8 -> 1
A8: 1 | C8: persentase perangkat daerah yang telah menggunakan sandi dalam komunikasi perangkat daerah | D8: 0.5 | E8: 50 | F8: 50 | G8: 1 | H8: 50 | I8: 50 | J8: 1 | K8: 50 | L8: 50 | M8: 1 | N8: 50 | O8: 50 | P8: 1 | Q8: 100 | R8: 100 | S8: 1 | T8: 100 | U8: 100 | V8: 1 | W8: DISKOMINFO
S11: Kepala OPD Penanggung Jawab
S14: Drs. NIRWAN, ME
S15: NIP. 19670222 198512 1 001

Sheet Kebudayaan
D1: ASPEK PELAYANAN UMUM
A2: No | B2: Indikator Kinerja Program (Outcome) | D2: Kondisi Kinerja Awal RPJMD (Tahun 2012) | E2: Capaian Kinerja Program dan Kerangka Pendanaan | W2: SKPD Penanggung Jawab
E3: Tahun 2013 | H3: Tahun 2014 | K3: Tahun 2015 | N3: Tahun 2016 | Q3: Tahun 2017 | T3: Kondisi Pada akhir periode RPJMD
E4: target | F4: realisasi | G4: % | H4: target | I4: realisasi | J4: % | K4: target | L4: realisasi | M4: % | N4: target | O4: realisasi | P4: % | Q4: target | R4: realisasi | S4: % | T4: target | U4: realisasi | V4: %
A5: 1 | B5: 2 | D5: 3 | E5: 4 | F5: 5 | G5: 6 | H5: 7 | I5: 8 | J5: 9 | K5: 10 | L5: 11 | M5: 12 | N5: 13 | O5: 14 | P5: 15 | Q5: 16 | R5: 17 | S5: 18 | T5: 19 | U5: 20 | V5: 21 | W5: 22
A6: 2 | B6: Urusan Wajib Non Pelayanan Dasar | G6: =AVERAGE(#REF!,#REF!,#REF!,#REF!,#REF!,#REF!,#REF!,#REF!,#REF!,#REF!,#REF!,#REF!,#REF!,#REF!,#REF!,G7,#REF!,#REF!) -> #REF! | J6: =AVERAGE(#REF!,#REF!,#REF!,#REF!,#REF!,#REF!,#REF!,#REF!,#REF!,#REF!,#REF!,#REF!,#REF!,#REF!,#REF!,J7,#REF!,#REF!) -> #REF! | M6: =AVERAGE(#REF!,#REF!,#REF!,#REF!,#REF!,#REF!,#REF!,#REF!,#REF!,#REF!,#REF!,#REF!,#REF!,#REF!,#REF!,M7,#REF!,#REF!) -> #REF! | P6: =AVERAGE(#REF!,#REF!,#REF!,#REF!,#REF!,#REF!,#REF!,#REF!,#REF!,#REF!,#REF!,#REF!,#REF!,#REF!,#REF!,P7,#REF!,#REF!) -> #REF! | S6: =AVERAGE(#REF!,#REF!,#REF!,#REF!,#REF!,#REF!,#REF!,#REF!,#REF!,#REF!,#REF!,#REF!,#REF!,#REF!,#REF!,S7,#REF!,#REF!) -> #REF! | V6: =AVERAGE(#REF!,#REF!,#REF!,#REF!,#REF!,#REF!,#REF!,#REF!,#REF!,#REF!,#REF!,#REF!,#REF!,#REF!,#REF!,V7,#REF!,#REF!) -> #REF!
B7: p | C7: Kebudayaan | G7: =AVERAGE(G8:G11) -> #DIV/0! | J7: =AVERAGE(J8:J11) -> #DIV/0! | M7: =AVERAGE(M8:M11) -> #DIV/0! | P7: =AVERAGE(P8:P11) -> #DIV/0! | S7: =AVERAGE(S8:S11) -> #DIV/0! | V7: =AVERAGE(V8:V11) -> #DIV/0!
A8: 1 | C8: Penyelengaraan festipal seni dan budaya | G8: =F8/E8 -> #DIV/0! | J8: =I8/H8 -> #DIV/0! | M8: =L8/K8 -> #DIV/0! | P8: =O8/N8 -> #DIV/0! | S8: =R8/Q8 -> #DIV/0! | V8: =U8/T8 -> #DIV/0!
A9: 2 | C9: Benda, situs dan Kawasan Cagar Budaya yang dilestarikan | G9: =F9/E9 -> #DIV/0! | J9: =I9/H9 -> #DIV/0! | M9: =L9/K9 -> #DIV/0! | P9: =O9/N9 -> #DIV/0! | S9: =R9/Q9 -> #DIV/0! | V9: =U9/T9 -> #DIV/0!
A10: 3 | C10: Jumlah Karya budaya yang direvitalisasi dan inventarisasi | G10: =F10/E10 -> #DIV/0! | J10: =I10/H10 -> #DIV/0! | M10: =L10/K10 -> #DIV/0! | P10: =O10/N10 -> #DIV/0! | S10: =R10/Q10 -> #DIV/0! | V10: =U10/T10 -> #DIV/0!
A11: 4 | C11: Jumlah cagar budaya yang dikelola secara terpadu | G11: =F11/E11 -> #DIV/0! | J11: =I11/H11 -> #DIV/0! | M11: =L11/K11 -> #DIV/0! | P11: =O11/N11 -> #DIV/0! | S11: =R11/Q11 -> #DIV/0! | V11: =U11/T11 -> #DIV/0!
S13: Kepala OPD Penanggung Jawab
S16: ____________________________
S17: NIP.

Sheet Perpustakaan dan Kearsipan
D1: ASPEK PELAYANAN UMUM
A2: No | B2: Indikator Kinerja Program (Outcome) | D2: Kondisi Kinerja Awal RPJMD (Tahun 2012) | E2: Capaian Kinerja Program dan Kerangka Pendanaan | W2: SKPD Penanggung Jawab
E3: Tahun 2013 | H3: Tahun 2014 | K3: Tahun 2015 | N3: Tahun 2016 | Q3: Tahun 2017 | T3: Kondisi Pada akhir periode RPJMD
E4: target | F4: realisasi | G4: % | H4: target | I4: realisasi | J4: % | K4: target | L4: realisasi | M4: % | N4: target | O4: realisasi | P4: % | Q4: target | R4: realisasi | S4: % | T4: target | U4: realisasi | V4: %
A5: 1 | B5: 2 | D5: 3 | E5: 4 | F5: 5 | G5: 6 | H5: 7 | I5: 8 | J5: 9 | K5: 10 | L5: 11 | M5: 12 | N5: 13 | O5: 14 | P5: 15 | Q5: 16 | R5: 17 | S5: 18 | T5: 19 | U5: 20 | V5: 21 | W5: 22
A6: 2 | B6: Urusan Wajib Non Pelayanan Dasar | G6: =AVERAGE(#REF!,#REF!,#REF!,#REF!,#REF!,#REF!,#REF!,#REF!,#REF!,#REF!,#REF!,#REF!,#REF!,#REF!,#REF!,#REF!,G7,G14) -> #REF! | J6: =AVERAGE(#REF!,#REF!,#REF!,#REF!,#REF!,#REF!,#REF!,#REF!,#REF!,#REF!,#REF!,#REF!,#REF!,#REF!,#REF!,#REF!,J7,J14) -> #REF! | M6: =AVERAGE(#REF!,#REF!,#REF!,#REF!,#REF!,#REF!,#REF!,#REF!,#REF!,#REF!,#REF!,#REF!,#REF!,#REF!,#REF!,#REF!,M7,M14) -> #REF! | P6: =AVERAGE(#REF!,#REF!,#REF!,#REF!,#REF!,#REF!,#REF!,#REF!,#REF!,#REF!,#REF!,#REF!,#REF!,#REF!,#REF!,#REF!,P7,P14) -> #REF! | S6: =AVERAGE(#REF!,#REF!,#REF!,#REF!,#REF!,#REF!,#REF!,#REF!,#REF!,#REF!,#REF!,#REF!,#REF!,#REF!,#REF!,#REF!,S7,S14) -> #REF! | V6: =AVERAGE(#REF!,#REF!,#REF!,#REF!,#REF!,#REF!,#REF!,#REF!,#REF!,#REF!,#REF!,#REF!,#REF!,#REF!,#REF!,#REF!,V7,V14) -> #REF!
B7: q | C7: Perpustakaan | G7: =AVERAGE(G8:G13) -> #DIV/0! | J7: =AVERAGE(J8:J13) -> #DIV/0! | M7: =AVERAGE(M8:M13) -> #DIV/0! | P7: =AVERAGE(P8:P13) -> #DIV/0! | S7: =AVERAGE(S8:S13) -> #DIV/0! | V7: =AVERAGE(V8:V13) -> #DIV/0!
A8: 1 | C8: Jumlah pengunjung perpustakaan per tahun | G8: =F8/E8 -> #DIV/0! | J8: =I8/H8 -> #DIV/0! | M8: =L8/K8 -> #DIV/0! | P8: =O8/N8 -> #DIV/0! | S8: =R8/Q8 -> #DIV/0! | V8: =U8/T8 -> #DIV/0!
A9: 2 | C9: koleksi buku yang tersedia di perpustakaan daerah | G9: =F9/E9 -> #DIV/0! | J9: =I9/H9 -> #DIV/0! | M9: =L9/K9 -> #DIV/0! | P9: =O9/N9 -> #DIV/0! | S9: =R9/Q9 -> #DIV/0! | V9: =U9/T9 -> #DIV/0!
A10: 3 | C10: rasio perpustakaan persatuan penduduk | G10: =F10/E10 -> #DIV/0! | J10: =I10/H10 -> #DIV/0! | M10: =L10/K10 -> #DIV/0! | P10: =O10/N10 -> #DIV/0! | S10: =R10/Q10 -> #DIV/0! | V10: =U10/T10 -> #DIV/0!
A11: 4 | C11: jumlah rata-rata pengunjung perpustakaan/ tahun | G11: =F11/E11 -> #DIV/0! | J11: =I11/H11 -> #DIV/0! | M11: =L11/K11 -> #DIV/0! | P11: =O11/N11 -> #DIV/0! | S11: =R11/Q11 -> #DIV/0! | V11: =U11/T11 -> #DIV/0!
A12: 5 | C12: jumlah koleksi judul buku perpustakaan | G12: =F12/E12 -> #DIV/0! | J12: =I12/H12 -> #DIV/0! | M12: =L12/K12 -> #DIV/0! | P12: =O12/N12 -> #DIV/0! | S12: =R12/Q12 -> #DIV/0! | V12: =U12/T12 -> #DIV/0!
A13: 6 | C13: jumlah pustakawan, tenaga teknis dan penilaian yang memiliki sertifikat | G13: =F13/E13 -> #DIV/0! | J13: =I13/H13 -> #DIV/0! | M13: =L13/K13 -> #DIV/0! | P13: =O13/N13 -> #DIV/0! | S13: =R13/Q13 -> #DIV/0! | V13: =U13/T13 -> #DIV/0!
B14: r | C14: Kearsipan | G14: =AVERAGE(G15:G16) -> #DIV/0! | J14: =AVERAGE(J15:J16) -> #DIV/0! | M14: =AVERAGE(M15:M16) -> #DIV/0! | P14: =AVERAGE(P15:P16) -> #DIV/0! | S14: =AVERAGE(S15:S16) -> #DIV/0! | V14: =AVERAGE(V15:V16) -> #DIV/0!
A15: 1 | C15: Persentase perangkat Daerah yang mengelola arsip secara baku | G15: =F15/E15 -> #DIV/0! | J15: =I15/H15 -> #DIV/0! | M15: =L15/K15 -> #DIV/0! | P15: =O15/N15 -> #DIV/0! | S15: =R15/Q15 -> #DIV/0! | V15: =U15/T15 -> #DIV/0!
A16: 2 | C16: Peningkatan SDM pengelola kearsipan | G16: =F16/E16 -> #DIV/0! | J16: =I16/H16 -> #DIV/0! | M16: =L16/K16 -> #DIV/0! | P16: =O16/N16 -> #DIV/0! | S16: =R16/Q16 -> #DIV/0! | V16: =U16/T16 -> #DIV/0!
S18: Kepala OPD Penanggung Jawab
S21: ____________________________
S22: NIP.

Sheet Pariwisata
D1: ASPEK PELAYANAN UMUM
A2: No | B2: Indikator Kinerja Program (Outcome) | D2: Kondisi Kinerja Awal RPJMD (Tahun 2012) | E2: Capaian Kinerja Program dan Kerangka Pendanaan | W2: SKPD Penanggung Jawab
E3: Tahun 2013 | H3: Tahun 2014 | K3: Tahun 2015 | N3: Tahun 2016 | Q3: Tahun 2017 | T3: Kondisi Pada akhir periode RPJMD
E4: target | F4: realisasi | G4: % | H4: target | I4: realisasi | J4: % | K4: target | L4: realisasi | M4: % | N4: target | O4: realisasi | P4: % | Q4: target | R4: realisasi | S4: % | T4: target | U4: realisasi | V4: %
A5: 1 | B5: 2 | D5: 3 | E5: 4 | F5: 5 | G5: 6 | H5: 7 | I5: 8 | J5: 9 | K5: 10 | L5: 11 | M5: 12 | N5: 13 | O5: 14 | P5: 15 | Q5: 16 | R5: 17 | S5: 18 | T5: 19 | U5: 20 | V5: 21 | W5: 22
A6: 3 | B6: Urusan Pilihan | G6: =AVERAGE(G7,#REF!,#REF!,#REF!,#REF!,#REF!,#REF!,#REF!) -> #REF! | J6: =AVERAGE(J7,#REF!,#REF!,#REF!,#REF!,#REF!,#REF!,#REF!) -> #REF! | M6: =AVERAGE(M7,#REF!,#REF!,#REF!,#REF!,#REF!,#REF!,#REF!) -> #REF! | P6: =AVERAGE(P7,#REF!,#REF!,#REF!,#REF!,#REF!,#REF!,#REF!) -> #REF! | S6: =AVERAGE(S7,#REF!,#REF!,#REF!,#REF!,#REF!,#REF!,#REF!) -> #REF! | V6: =AVERAGE(V7,#REF!,#REF!,#REF!,#REF!,#REF!,#REF!,#REF!) -> #REF!
B7: a | C7: Pariwisata | G7: =AVERAGE(G8:G10) -> #DIV/0! | J7: =AVERAGE(J8:J10) -> #DIV/0! | M7: =AVERAGE(M8:M10) -> #DIV/0! | P7: =AVERAGE(P8:P10) -> #DIV/0! | S7: =AVERAGE(S8:S10) -> #DIV/0! | V7: =AVERAGE(V8:V10) -> #DIV/0!
A8: 1 | C8: Kunjungan wisata | G8: =F8/E8 -> #DIV/0! | J8: =I8/H8 -> #DIV/0! | M8: =L8/K8 -> #DIV/0! | P8: =O8/N8 -> #DIV/0! | S8: =R8/Q8 -> #DIV/0! | V8: =U8/T8 -> #DIV/0!
A9: 2 | C9: Lama kunjungan Wisata | G9: =F9/E9 -> #DIV/0! | J9: =I9/H9 -> #DIV/0! | M9: =L9/K9 -> #DIV/0! | P9: =O9/N9 -> #DIV/0! | S9: =R9/Q9 -> #DIV/0! | V9: =U9/T9 -> #DIV/0!
A10: 3 | C10: PAD sektor Pariwisata | G10: =F10/E10 -> #DIV/0! | J10: =I10/H10 -> #DIV/0! | M10: =L10/K10 -> #DIV/0! | P10: =O10/N10 -> #DIV/0! | S10: =R10/Q10 -> #DIV/0! | V10: =U10/T10 -> #DIV/0!
S12: Kepala OPD Penanggung Jawab
S15: ____________________________
S16: NIP.

Sheet Pertanian
D1: ASPEK PELAYANAN UMUM
A2: No | B2: Indikator Kinerja Program (Outcome) | D2: Kondisi Kinerja Awal RPJMD (Tahun 2012) | E2: Capaian Kinerja Program dan Kerangka Pendanaan | W2: SKPD Penanggung Jawab
E3: Tahun 2013 | H3: Tahun 2014 | K3: Tahun 2015 | N3: Tahun 2016 | Q3: Tahun 2017 | T3: Kondisi Pada akhir periode RPJMD
E4: target | F4: realisasi | G4: % | H4: target | I4: realisasi | J4: % | K4: target | L4: realisasi | M4: % | N4: target | O4: realisasi | P4: % | Q4: target | R4: realisasi | S4: % | T4: target | U4: realisasi | V4: %
A5: 1 | B5: 2 | D5: 3 | E5: 4 | F5: 5 | G5: 6 | H5: 7 | I5: 8 | J5: 9 | K5: 10 | L5: 11 | M5: 12 | N5: 13 | O5: 14 | P5: 15 | Q5: 16 | R5: 17 | S5: 18 | T5: 19 | U5: 20 | V5: 21 | W5: 22
A6: 3 | B6: Urusan Pilihan | G6: =AVERAGE(#REF!,G7,#REF!,#REF!,#REF!,#REF!,#REF!,#REF!) -> #REF! | J6: =AVERAGE(#REF!,J7,#REF!,#REF!,#REF!,#REF!,#REF!,#REF!) -> #REF! | M6: =AVERAGE(#REF!,M7,#REF!,#REF!,#REF!,#REF!,#REF!,#REF!) -> #REF! | P6: =AVERAGE(#REF!,P7,#REF!,#REF!,#REF!,#REF!,#REF!,#REF!) -> #REF! | S6: =AVERAGE(#REF!,S7,#REF!,#REF!,#REF!,#REF!,#REF!,#REF!) -> #REF! | V6: =AVERAGE(#REF!,V7,#REF!,#REF!,#REF!,#REF!,#REF!,#REF!) -> #REF!
B7: b | C7: Pertanian | G7: =AVERAGE(G8:G13) -> #DIV/0! | J7: =AVERAGE(J8:J13) -> #DIV/0! | M7: =AVERAGE(M8:M13) -> #DIV/0! | P7: =AVERAGE(P8:P13) -> #DIV/0! | S7: =AVERAGE(S8:S13) -> #DIV/0! | V7: =AVERAGE(V8:V13) -> #DIV/0!
A8: 1 | C8: Kontribusi sektor pertanian / perkebunan terhadap PDRB | G8: =F8/E8 -> #DIV/0! | J8: =I8/H8 -> #DIV/0! | M8: =L8/K8 -> #DIV/0! | P8: =O8/N8 -> #DIV/0! | S8: =R8/Q8 -> #DIV/0! | V8: =U8/T8 -> #DIV/0!
A9: 2 | C9: Kontribusi sektor pertanian (palawija) terhadap PDRB | G9: =F9/E9 -> #DIV/0! | J9: =I9/H9 -> #DIV/0! | M9: =L9/K9 -> #DIV/0! | P9: =O9/N9 -> #DIV/0! | S9: =R9/Q9 -> #DIV/0! | V9: =U9/T9 -> #DIV/0!
A10: 3 | C10: Kontribusi sektor perkebunan (tanaman keras) terhadap PDRB | G10: =F10/E10 -> #DIV/0! | J10: =I10/H10 -> #DIV/0! | M10: =L10/K10 -> #DIV/0! | P10: =O10/N10 -> #DIV/0! | S10: =R10/Q10 -> #DIV/0! | V10: =U10/T10 -> #DIV/0!
A11: 4 | C11: Kontribusi Produksi kelompok petani terhadap PDRB | G11: =F11/E11 -> #DIV/0! | J11: =I11/H11 -> #DIV/0! | M11: =L11/K11 -> #DIV/0! | P11: =O11/N11 -> #DIV/0! | S11: =R11/Q11 -> #DIV/0! | V11: =U11/T11 -> #DIV/0!
A12: 5 | C12: Produktifitas padi atau bahan pangan utama lokal lainnya per hektar | G12: =F12/E12 -> #DIV/0! | J12: =I12/H12 -> #DIV/0! | M12: =L12/K12 -> #DIV/0! | P12: =O12/N12 -> #DIV/0! | S12: =R12/Q12 -> #DIV/0! | V12: =U12/T12 -> #DIV/0!
A13: 6 | C13: Cakupan bina kelompok petani | G13: =F13/E13 -> #DIV/0! | J13: =I13/H13 -> #DIV/0! | M13: =L13/K13 -> #DIV/0! | P13: =O13/N13 -> #DIV/0! | S13: =R13/Q13 -> #DIV/0! | V13: =U13/T13 -> #DIV/0!
S15: Kepala OPD Penanggung Jawab
S18: ____________________________
S19: NIP.

Sheet Kehutanan
D1: ASPEK PELAYANAN UMUM
A2: No | B2: Indikator Kinerja Program (Outcome) | D2: Kondisi Kinerja Awal RPJMD (Tahun 2012) | E2: Capaian Kinerja Program dan Kerangka Pendanaan | W2: SKPD Penanggung Jawab
E3: Tahun 2013 | H3: Tahun 2014 | K3: Tahun 2015 | N3: Tahun 2016 | Q3: Tahun 2017 | T3: Kondisi Pada akhir periode RPJMD
E4: target | F4: realisasi | G4: % | H4: target | I4: realisasi | J4: % | K4: target | L4: realisasi | M4: % | N4: target | O4: realisasi | P4: % | Q4: target | R4: realisasi | S4: % | T4: target | U4: realisasi | V4: %
A5: 1 | B5: 2 | D5: 3 | E5: 4 | F5: 5 | G5: 6 | H5: 7 | I5: 8 | J5: 9 | K5: 10 | L5: 11 | M5: 12 | N5: 13 | O5: 14 | P5: 15 | Q5: 16 | R5: 17 | S5: 18 | T5: 19 | U5: 20 | V5: 21 | W5: 22
A6: 3 | B6: Urusan Pilihan | G6: =AVERAGE(#REF!,#REF!,G7,#REF!,#REF!,#REF!,#REF!,#REF!) -> #REF! | J6: =AVERAGE(#REF!,#REF!,J7,#REF!,#REF!,#REF!,#REF!,#REF!) -> #REF! | M6: =AVERAGE(#REF!,#REF!,M7,#REF!,#REF!,#REF!,#REF!,#REF!) -> #REF! | P6: =AVERAGE(#REF!,#REF!,P7,#REF!,#REF!,#REF!,#REF!,#REF!) -> #REF! | S6: =AVERAGE(#REF!,#REF!,S7,#REF!,#REF!,#REF!,#REF!,#REF!) -> #REF! | V6: =AVERAGE(#REF!,#REF!,V7,#REF!,#REF!,#REF!,#REF!,#REF!) -> #REF!
B7: c | C7: Kehutanan | G7: =AVERAGE(G8:G10) -> #DIV/0! | J7: =AVERAGE(J8:J10) -> #DIV/0! | M7: =AVERAGE(M8:M10) -> #DIV/0! | P7: =AVERAGE(P8:P10) -> #DIV/0! | S7: =AVERAGE(S8:S10) -> #DIV/0! | V7: =AVERAGE(V8:V10) -> #DIV/0!
A8: 1 | C8: Rehibilitasi hutan dan lahan kritis | G8: =F8/E8 -> #DIV/0! | J8: =I8/H8 -> #DIV/0! | M8: =L8/K8 -> #DIV/0! | P8: =O8/N8 -> #DIV/0! | S8: =R8/Q8 -> #DIV/0! | V8: =U8/T8 -> #DIV/0!
A9: 2 | C9: Kerusakan kawasan hutan | G9: =F9/E9 -> #DIV/0! | J9: =I9/H9 -> #DIV/0! | M9: =L9/K9 -> #DIV/0! | P9: =O9/N9 -> #DIV/0! | S9: =R9/Q9 -> #DIV/0! | V9: =U9/T9 -> #DIV/0!
A10: 3 | C10: Rasio luas kawasan hutan lindung untuk menjaga kelestarian keanekaragaman hayati terhadap total luas kawasan hutan | G10: =F10/E10 -> #DIV/0! | J10: =I10/H10 -> #DIV/0! | M10: =L10/K10 -> #DIV/0! | P10: =O10/N10 -> #DIV/0! | S10: =R10/Q10 -> #DIV/0! | V10: =U10/T10 -> #DIV/0!
S12: Kepala OPD Penanggung Jawab
S15: ____________________________
S16: NIP.

Sheet ESDM
D1: ASPEK PELAYANAN UMUM
A2: No | B2: Indikator Kinerja Program (Outcome) | D2: Kondisi Kinerja Awal RPJMD (Tahun 2012) | E2: Capaian Kinerja Program dan Kerangka Pendanaan | W2: SKPD Penanggung Jawab
E3: Tahun 2013 | H3: Tahun 2014 | K3: Tahun 2015 | N3: Tahun 2016 | Q3: Tahun 2017 | T3: Kondisi Pada akhir periode RPJMD
E4: target | F4: realisasi | G4: % | H4: target | I4: realisasi | J4: % | K4: target | L4: realisasi | M4: % | N4: target | O4: realisasi | P4: % | Q4: target | R4: realisasi | S4: % | T4: target | U4: realisasi | V4: %
A5: 1 | B5: 2 | D5: 3 | E5: 4 | F5: 5 | G5: 6 | H5: 7 | I5: 8 | J5: 9 | K5: 10 | L5: 11 | M5: 12 | N5: 13 | O5: 14 | P5: 15 | Q5: 16 | R5: 17 | S5: 18 | T5: 19 | U5: 20 | V5: 21 | W5: 22
A6: 3 | B6: Urusan Pilihan | G6: =AVERAGE(#REF!,#REF!,#REF!,G7,#REF!,#REF!,#REF!,#REF!) -> #REF! | J6: =AVERAGE(#REF!,#REF!,#REF!,J7,#REF!,#REF!,#REF!,#REF!) -> #REF! | M6: =AVERAGE(#REF!,#REF!,#REF!,M7,#REF!,#REF!,#REF!,#REF!) -> #REF! | P6: =AVERAGE(#REF!,#REF!,#REF!,P7,#REF!,#REF!,#REF!,#REF!) -> #REF! | S6: =AVERAGE(#REF!,#REF!,#REF!,S7,#REF!,#REF!,#REF!,#REF!) -> #REF! | V6: =AVERAGE(#REF!,#REF!,#REF!,V7,#REF!,#REF!,#REF!,#REF!) -> #REF!
B7: d | C7: Energi dan SDM | G7: =AVERAGE(G8:G10) -> #DIV/0! | J7: =AVERAGE(J8:J10) -> #DIV/0! | M7: =AVERAGE(M8:M10) -> #DIV/0! | P7: =AVERAGE(P8:P10) -> #DIV/0! | S7: =AVERAGE(S8:S10) -> #DIV/0! | V7: =AVERAGE(V8:V10) -> #DIV/0!
A8: 1 | C8: Persentase rumah tangga pengguna listrik | G8: =F8/E8 -> #DIV/0! | J8: =I8/H8 -> #DIV/0! | M8: =L8/K8 -> #DIV/0! | P8: =O8/N8 -> #DIV/0! | S8: =R8/Q8 -> #DIV/0! | V8: =U8/T8 -> #DIV/0!
A9: 2 | C9: Rasio ketersediaan daya listrik | G9: =F9/E9 -> #DIV/0! | J9: =I9/H9 -> #DIV/0! | M9: =L9/K9 -> #DIV/0! | P9: =O9/N9 -> #DIV/0! | S9: =R9/Q9 -> #DIV/0! | V9: =U9/T9 -> #DIV/0!
A10: 3 | C10: Persentase pertambangan tanpa ijin | G10: =F10/E10 -> #DIV/0! | J10: =I10/H10 -> #DIV/0! | M10: =L10/K10 -> #DIV/0! | P10: =O10/N10 -> #DIV/0! | S10: =R10/Q10 -> #DIV/0! | V10: =U10/T10 -> #DIV/0!
S12: Kepala OPD Penanggung Jawab
S15: ____________________________
S16: NIP.

Sheet Perindag
D1: ASPEK PELAYANAN UMUM
A2: No | B2: Indikator Kinerja Program (Outcome) | D2: Kondisi Kinerja Awal RPJMD (Tahun 2012) | E2: Capaian Kinerja Program dan Kerangka Pendanaan | W2: SKPD Penanggung Jawab
E3: Tahun 2013 | H3: Tahun 2014 | K3: Tahun 2015 | N3: Tahun 2016 | Q3: Tahun 2017 | T3: Kondisi Pada akhir periode RPJMD
E4: target | F4: realisasi | G4: % | H4: target | I4: realisasi | J4: % | K4: target | L4: realisasi | M4: % | N4: target | O4: realisasi | P4: % | Q4: target | R4: realisasi | S4: % | T4: target | U4: realisasi | V4: %
A5: 1 | B5: 2 | D5: 3 | E5: 4 | F5: 5 | G5: 6 | H5: 7 | I5: 8 | J5: 9 | K5: 10 | L5: 11 | M5: 12 | N5: 13 | O5: 14 | P5: 15 | Q5: 16 | R5: 17 | S5: 18 | T5: 19 | U5: 20 | V5: 21 | W5: 22
A6: 3 | B6: Urusan Pilihan | G6: =AVERAGE(#REF!,#REF!,#REF!,#REF!,G7,G10,#REF!,#REF!) -> #REF! | J6: =AVERAGE(#REF!,#REF!,#REF!,#REF!,J7,J10,#REF!,#REF!) -> #REF! | M6: =AVERAGE(#REF!,#REF!,#REF!,#REF!,M7,M10,#REF!,#REF!) -> #REF! | P6: =AVERAGE(#REF!,#REF!,#REF!,#REF!,P7,P10,#REF!,#REF!) -> #REF! | S6: =AVERAGE(#REF!,#REF!,#REF!,#REF!,S7,S10,#REF!,#REF!) -> #REF! | V6: =AVERAGE(#REF!,#REF!,#REF!,#REF!,V7,V10,#REF!,#REF!) -> #REF!
B7: e | C7: Perdagangan | G7: =AVERAGE(G8:G9) -> #DIV/0! | J7: =AVERAGE(J8:J9) -> #DIV/0! | M7: =AVERAGE(M8:M9) -> #DIV/0! | P7: =AVERAGE(P8:P9) -> #DIV/0! | S7: =AVERAGE(S8:S9) -> #DIV/0! | V7: =AVERAGE(V8:V9) -> #DIV/0!
A8: 1 | C8: ekspor bersih perdagangan | G8: =F8/E8 -> #DIV/0! | J8: =I8/H8 -> #DIV/0! | M8: =L8/K8 -> #DIV/0! | P8: =O8/N8 -> #DIV/0! | S8: =R8/Q8 -> #DIV/0! | V8: =U8/T8 -> #DIV/0!
A9: 1 | C9: cakupan bina kelompok pedagang/usaha informal | G9: =F9/E9 -> #DIV/0! | J9: =I9/H9 -> #DIV/0! | M9: =L9/K9 -> #DIV/0! | P9: =O9/N9 -> #DIV/0! | S9: =R9/Q9 -> #DIV/0! | V9: =U9/T9 -> #DIV/0!
B10: f | C10: Perindustrian | G10: =G11 -> #DIV/0! | J10: =J11 -> #DIV/0! | M10: =M11 -> #DIV/0! | P10: =P11 -> #DIV/0! | S10: =S11 -> #DIV/0! | V10: =V11 -> #DIV/0!
A11: 1 | C11: cakupan bina kelompok pengrajin | G11: =F11/E11 -> #DIV/0! | J11: =I11/H11 -> #DIV/0! | M11: =L11/K11 -> #DIV/0! | P11: =O11/N11 -> #DIV/0! | S11: =R11/Q11 -> #DIV/0! | V11: =U11/T11 -> #DIV/0!
S13: Kepala OPD Penanggung Jawab
S16: ____________________________
S17: NIP.

Sheet Transmigrasi
D1: ASPEK PELAYANAN UMUM
A2: No | B2: Indikator Kinerja Program (Outcome) | D2: Kondisi Kinerja Awal RPJMD (Tahun 2012) | E2: Capaian Kinerja Program dan Kerangka Pendanaan | W2: SKPD Penanggung Jawab
E3: Tahun 2013 | H3: Tahun 2014 | K3: Tahun 2015 | N3: Tahun 2016 | Q3: Tahun 2017 | T3: Kondisi Pada akhir periode RPJMD
E4: target | F4: realisasi | G4: % | H4: target | I4: realisasi | J4: % | K4: target | L4: realisasi | M4: % | N4: target | O4: realisasi | P4: % | Q4: target | R4: realisasi | S4: % | T4: target | U4: realisasi | V4: %
A5: 1 | B5: 2 | D5: 3 | E5: 4 | F5: 5 | G5: 6 | H5: 7 | I5: 8 | J5: 9 | K5: 10 | L5: 11 | M5: 12 | N5: 13 | O5: 14 | P5: 15 | Q5: 16 | R5: 17 | S5: 18 | T5: 19 | U5: 20 | V5: 21 | W5: 22
A6: 3 | B6: Urusan Pilihan | G6: =AVERAGE(#REF!,#REF!,#REF!,#REF!,#REF!,#REF!,G7,#REF!) -> #REF! | J6: =AVERAGE(#REF!,#REF!,#REF!,#REF!,#REF!,#REF!,J7,#REF!) -> #REF! | M6: =AVERAGE(#REF!,#REF!,#REF!,#REF!,#REF!,#REF!,M7,#REF!) -> #REF! | P6: =AVERAGE(#REF!,#REF!,#REF!,#REF!,#REF!,#REF!,P7,#REF!) -> #REF! | S6: =AVERAGE(#REF!,#REF!,#REF!,#REF!,#REF!,#REF!,S7,#REF!) -> #REF! | V6: =AVERAGE(#REF!,#REF!,#REF!,#REF!,#REF!,#REF!,V7,#REF!) -> #REF!
B7: g | C7: Transmigrasi | G7: =G8 -> #DIV/0! | J7: =J8 -> #DIV/0! | M7: =M8 -> #DIV/0! | P7: =P8 -> #DIV/0! | S7: =S8 -> #DIV/0! | V7: =V8 -> #DIV/0!
A8: 1 | C8: Persentase transmigran swakarsa | G8: =F8/E8 -> #DIV/0! | J8: =I8/H8 -> #DIV/0! | M8: =L8/K8 -> #DIV/0! | P8: =O8/N8 -> #DIV/0! | S8: =R8/Q8 -> #DIV/0! | V8: =U8/T8 -> #DIV/0!
S10: Kepala OPD Penanggung Jawab
S13: ____________________________
S14: NIP.

Sheet Kelautan Perikanan
D1: ASPEK PELAYANAN UMUM
A2: No | B2: Indikator Kinerja Program (Outcome) | D2: Kondisi Kinerja Awal RPJMD (Tahun 2012) | E2: Capaian Kinerja Program dan Kerangka Pendanaan | W2: SKPD Penanggung Jawab
E3: Tahun 2013 | H3: Tahun 2014 | K3: Tahun 2015 | N3: Tahun 2016 | Q3: Tahun 2017 | T3: Kondisi Pada akhir periode RPJMD
E4: target | F4: realisasi | G4: % | H4: target | I4: realisasi | J4: % | K4: target | L4: realisasi | M4: % | N4: target | O4: realisasi | P4: % | Q4: target | R4: realisasi | S4: % | T4: target | U4: realisasi | V4: %
A5: 1 | B5: 2 | D5: 3 | E5: 4 | F5: 5 | G5: 6 | H5: 7 | I5: 8 | J5: 9 | K5: 10 | L5: 11 | M5: 12 | N5: 13 | O5: 14 | P5: 15 | Q5: 16 | R5: 17 | S5: 18 | T5: 19 | U5: 20 | V5: 21 | W5: 22
A6: 3 | B6: Urusan Pilihan | G6: =AVERAGE(#REF!,#REF!,#REF!,#REF!,#REF!,#REF!,#REF!,G7) -> #REF! | J6: =AVERAGE(#REF!,#REF!,#REF!,#REF!,#REF!,#REF!,#REF!,J7) -> #REF! | M6: =AVERAGE(#REF!,#REF!,#REF!,#REF!,#REF!,#REF!,#REF!,M7) -> #REF! | P6: =AVERAGE(#REF!,#REF!,#REF!,#REF!,#REF!,#REF!,#REF!,P7) -> #REF! | S6: =AVERAGE(#REF!,#REF!,#REF!,#REF!,#REF!,#REF!,#REF!,S7) -> #REF! | V6: =AVERAGE(#REF!,#REF!,#REF!,#REF!,#REF!,#REF!,#REF!,V7) -> #REF!
B7: h | C7: Kelautan dan Perikanan | G7: =AVERAGE(G8:G14) -> #DIV/0! | J7: =AVERAGE(J8:J14) -> #DIV/0! | M7: =AVERAGE(M8:M14) -> #DIV/0! | P7: =AVERAGE(P8:P14) -> #DIV/0! | S7: =AVERAGE(S8:S14) -> #DIV/0! | V7: =AVERAGE(V8:V14) -> #DIV/0!
A8: 1 | C8: Produksi perikanan | G8: =F8/E8 -> #DIV/0! | J8: =I8/H8 -> #DIV/0! | M8: =L8/K8 -> #DIV/0! | P8: =O8/N8 -> #DIV/0! | S8: =R8/Q8 -> #DIV/0! | V8: =U8/T8 -> #DIV/0!
A9: 2 | C9: Konsumsi ikan | G9: =F9/E9 -> #DIV/0! | J9: =I9/H9 -> #DIV/0! | M9: =L9/K9 -> #DIV/0! | P9: =O9/N9 -> #DIV/0! | S9: =R9/Q9 -> #DIV/0! | V9: =U9/T9 -> #DIV/0!
A10: 3 | C10: Cakupan bina kelompok nelayan | G10: =F10/E10 -> #DIV/0! | J10: =I10/H10 -> #DIV/0! | M10: =L10/K10 -> #DIV/0! | P10: =O10/N10 -> #DIV/0! | S10: =R10/Q10 -> #DIV/0! | V10: =U10/T10 -> #DIV/0!
A11: 4 | C11: Produksi perikanan kelompok nelayan | G11: =F11/E11 -> #DIV/0! | J11: =I11/H11 -> #DIV/0! | M11: =L11/K11 -> #DIV/0! | P11: =O11/N11 -> #DIV/0! | S11: =R11/Q11 -> #DIV/0! | V11: =U11/T11 -> #DIV/0!
A12: 5 | C12: Proporsi tangkap ikan yang berada dalam batasan biologis yang aman | G12: =F12/E12 -> #DIV/0! | J12: =I12/H12 -> #DIV/0! | M12: =L12/K12 -> #DIV/0! | P12: =O12/N12 -> #DIV/0! | S12: =R12/Q12 -> #DIV/0! | V12: =U12/T12 -> #DIV/0!
A13: 6 | C13: Rasio kawasa lindung perairan terhadap total luas perairan teritorial | G13: =F13/E13 -> #DIV/0! | J13: =I13/H13 -> #DIV/0! | M13: =L13/K13 -> #DIV/0! | P13: =O13/N13 -> #DIV/0! | S13: =R13/Q13 -> #DIV/0! | V13: =U13/T13 -> #DIV/0!
A14: 7 | C14: Nilai tukar nelayan | G14: =F14/E14 -> #DIV/0! | J14: =I14/H14 -> #DIV/0! | M14: =L14/K14 -> #DIV/0! | P14: =O14/N14 -> #DIV/0! | S14: =R14/Q14 -> #DIV/0! | V14: =U14/T14 -> #DIV/0!
S16: Kepala OPD Penanggung Jawab
S19: ____________________________
S20: NIP.

Sheet Perencanaan
D1: ASPEK PELAYANAN UMUM
A2: No | B2: Indikator Kinerja Program (Outcome) | D2: Kondisi Kinerja Awal RPJMD (Tahun 2012) | E2: Capaian Kinerja Program dan Kerangka Pendanaan | W2: SKPD Penanggung Jawab
E3: Tahun 2013 | H3: Tahun 2014 | K3: Tahun 2015 | N3: Tahun 2016 | Q3: Tahun 2017 | T3: Kondisi Pada akhir periode RPJMD
E4: target | F4: realisasi | G4: % | H4: target | I4: realisasi | J4: % | K4: target | L4: realisasi | M4: % | N4: target | O4: realisasi | P4: % | Q4: target | R4: realisasi | S4: % | T4: target | U4: realisasi | V4: %
A5: 1 | B5: 2 | D5: 3 | E5: 4 | F5: 5 | G5: 6 | H5: 7 | I5: 8 | J5: 9 | K5: 10 | L5: 11 | M5: 12 | N5: 13 | O5: 14 | P5: 15 | Q5: 16 | R5: 17 | S5: 18 | T5: 19 | U5: 20 | V5: 21 | W5: 22
A6: 4 | B6: Urusan Penunjang | G6: =AVERAGE(G7,#REF!,#REF!,#REF!,#REF!,#REF!) -> #REF! | J6: =AVERAGE(J7,#REF!,#REF!,#REF!,#REF!,#REF!) -> #REF! | M6: =AVERAGE(M7,#REF!,#REF!,#REF!,#REF!,#REF!) -> #REF! | P6: =AVERAGE(P7,#REF!,#REF!,#REF!,#REF!,#REF!) -> #REF! | S6: =AVERAGE(S7,#REF!,#REF!,#REF!,#REF!,#REF!) -> #REF! | V6: =AVERAGE(V7,#REF!,#REF!,#REF!,#REF!,#REF!) -> #REF!
B7: a | C7: Perencanaan Pembangunan | G7: =AVERAGE(G8:G14) -> #DIV/0! | J7: =AVERAGE(J8:J14) -> #DIV/0! | M7: =AVERAGE(M8:M14) -> #DIV/0! | P7: =AVERAGE(P8:P14) -> #DIV/0! | S7: =AVERAGE(S8:S14) -> #DIV/0! | V7: =AVERAGE(V8:V14) -> #DIV/0!
A8: 1 | C8: Tersedianya dokumen perencanaan RPJPD yang telah ditetapkan dengan PERDA | G8: =F8/E8 -> #DIV/0! | J8: =I8/H8 -> #DIV/0! | M8: =L8/K8 -> #DIV/0! | P8: =O8/N8 -> #DIV/0! | S8: =R8/Q8 -> #DIV/0! | V8: =U8/T8 -> #DIV/0!
A9: 2 | C9: tersedianya dokumen perencanaan RPJMD yang telah ditetapkan dengan PERDA/PERKADA | G9: =F9/E9 -> #DIV/0! | J9: =I9/H9 -> #DIV/0! | M9: =L9/K9 -> #DIV/0! | P9: =O9/N9 -> #DIV/0! | S9: =R9/Q9 -> #DIV/0! | V9: =U9/T9 -> #DIV/0!
A10: 3 | C10: Tersedianya dokumen perencananaan RKPD yang telah ditetapkan dengan PERKADA | G10: =F10/E10 -> #DIV/0! | J10: =I10/H10 -> #DIV/0! | M10: =L10/K10 -> #DIV/0! | P10: =O10/N10 -> #DIV/0! | S10: =R10/Q10 -> #DIV/0! | V10: =U10/T10 -> #DIV/0!
A11: 4 | C11: Tersediaanya dokumen RTRW yang telah ditetapkan dengan PERDA | G11: =F11/E11 -> #DIV/0! | J11: =I11/H11 -> #DIV/0! | M11: =L11/K11 -> #DIV/0! | P11: =O11/N11 -> #DIV/0! | S11: =R11/Q11 -> #DIV/0! | V11: =U11/T11 -> #DIV/0!
A12: 5 | C12: penjabaran konsistensi program RPJMD ke dalam RKPD | G12: =F12/E12 -> #DIV/0! | J12: =I12/H12 -> #DIV/0! | M12: =L12/K12 -> #DIV/0! | P12: =O12/N12 -> #DIV/0! | S12: =R12/Q12 -> #DIV/0! | V12: =U12/T12 -> #DIV/0!
A13: 6 | C13: penjabaran konsistensi program RKPD ke dalam APBD | G13: =F13/E13 -> #DIV/0! | J13: =I13/H13 -> #DIV/0! | M13: =L13/K13 -> #DIV/0! | P13: =O13/N13 -> #DIV/0! | S13: =R13/Q13 -> #DIV/0! | V13: =U13/T13 -> #DIV/0!
A14: 7 | C14: kesesuaian rencana pembangunan dengan RTRW | G14: =F14/E14 -> #DIV/0! | J14: =I14/H14 -> #DIV/0! | M14: =L14/K14 -> #DIV/0! | P14: =O14/N14 -> #DIV/0! | S14: =R14/Q14 -> #DIV/0! | V14: =U14/T14 -> #DIV/0!
R16: Kepala OPD Penanggung Jawab
R19: ____________________________
R20: NIP.

Sheet Keuangan
D1: ASPEK PELAYANAN UMUM
A2: No | B2: Indikator Kinerja Program (Outcome) | D2: Kondisi Kinerja Awal RPJMD (Tahun 2012) | E2: Capaian Kinerja Program dan Kerangka Pendanaan | W2: SKPD Penanggung Jawab
E3: Tahun 2013 | H3: Tahun 2014 | K3: Tahun 2015 | N3: Tahun 2016 | Q3: Tahun 2017 | T3: Kondisi Pada akhir periode RPJMD
E4: target | F4: realisasi | G4: % | H4: target | I4: realisasi | J4: % | K4: target | L4: realisasi | M4: % | N4: target | O4: realisasi | P4: % | Q4: target | R4: realisasi | S4: % | T4: target | U4: realisasi | V4: %
A5: 1 | B5: 2 | D5: 3 | E5: 4 | F5: 5 | G5: 6 | H5: 7 | I5: 8 | J5: 9 | K5: 10 | L5: 11 | M5: 12 | N5: 13 | O5: 14 | P5: 15 | Q5: 16 | R5: 17 | S5: 18 | T5: 19 | U5: 20 | V5: 21 | W5: 22
A6: 4 | B6: Urusan Penunjang | G6: =AVERAGE(#REF!,G7,#REF!,#REF!,#REF!,#REF!) -> #REF! | J6: =AVERAGE(#REF!,J7,#REF!,#REF!,#REF!,#REF!) -> #REF! | M6: =AVERAGE(#REF!,M7,#REF!,#REF!,#REF!,#REF!) -> #REF! | P6: =AVERAGE(#REF!,P7,#REF!,#REF!,#REF!,#REF!) -> #REF! | S6: =AVERAGE(#REF!,S7,#REF!,#REF!,#REF!,#REF!) -> #REF! | V6: =AVERAGE(#REF!,V7,#REF!,#REF!,#REF!,#REF!) -> #REF!
B7: b | C7: Keuangan | G7: =AVERAGE(G8:G16) -> #DIV/0! | J7: =AVERAGE(J8:J16) -> #DIV/0! | M7: =AVERAGE(M8:M16) -> #DIV/0! | P7: =AVERAGE(P8:P16) -> #DIV/0! | S7: =AVERAGE(S8:S16) -> #DIV/0! | V7: =AVERAGE(V8:V16) -> #DIV/0!
A8: 1 | C8: Opini BPK terhadap laporan keuangan | G8: =F8/E8 -> #DIV/0! | J8: =I8/H8 -> #DIV/0! | M8: =L8/K8 -> #DIV/0! | P8: =O8/N8 -> #DIV/0! | S8: =R8/Q8 -> #DIV/0! | V8: =U8/T8 -> #DIV/0!
A9: 2 | C9: Persentase SILPA | G9: =F9/E9 -> #DIV/0! | J9: =I9/H9 -> #DIV/0! | M9: =L9/K9 -> #DIV/0! | P9: =O9/N9 -> #DIV/0! | S9: =R9/Q9 -> #DIV/0! | V9: =U9/T9 -> #DIV/0!
A10: 3 | C10: Persentase SILPA terhadap APBD | G10: =F10/E10 -> #DIV/0! | J10: =I10/H10 -> #DIV/0! | M10: =L10/K10 -> #DIV/0! | P10: =O10/N10 -> #DIV/0! | S10: =R10/Q10 -> #DIV/0! | V10: =U10/T10 -> #DIV/0!
A11: 4 | C11: Persentase program/kegiatan yang tidak terlaksana | G11: =F11/E11 -> #DIV/0! | J11: =I11/H11 -> #DIV/0! | M11: =L11/K11 -> #DIV/0! | P11: =O11/N11 -> #DIV/0! | S11: =R11/Q11 -> #DIV/0! | V11: =U11/T11 -> #DIV/0!
A12: 5 | C12: Persentase belanja pendidikan (20%) | G12: =F12/E12 -> #DIV/0! | J12: =I12/H12 -> #DIV/0! | M12: =L12/K12 -> #DIV/0! | P12: =O12/N12 -> #DIV/0! | S12: =R12/Q12 -> #DIV/0! | V12: =U12/T12 -> #DIV/0!
A13: 6 | C13: Persentase belanja kesehatan (10%) | G13: =F13/E13 -> #DIV/0! | J13: =I13/H13 -> #DIV/0! | M13: =L13/K13 -> #DIV/0! | P13: =O13/N13 -> #DIV/0! | S13: =R13/Q13 -> #DIV/0! | V13: =U13/T13 -> #DIV/0!
A14: 7 | C14: Perbandingan antara belanja langsung dengan belanja tidak langsung | G14: =F14/E14 -> #DIV/0! | J14: =I14/H14 -> #DIV/0! | M14: =L14/K14 -> #DIV/0! | P14: =O14/N14 -> #DIV/0! | S14: =R14/Q14 -> #DIV/0! | V14: =U14/T14 -> #DIV/0!
A15: 8 | C15: Bagi hasil kabupaten/kota dan desa | G15: =F15/E15 -> #DIV/0! | J15: =I15/H15 -> #DIV/0! | M15: =L15/K15 -> #DIV/0! | P15: =O15/N15 -> #DIV/0! | S15: =R15/Q15 -> #DIV/0! | V15: =U15/T15 -> #DIV/0!
A16: 9 | C16: Penetapan APBD | G16: =F16/E16 -> #DIV/0! | J16: =I16/H16 -> #DIV/0! | M16: =L16/K16 -> #DIV/0! | P16: =O16/N16 -> #DIV/0! | S16: =R16/Q16 -> #DIV/0! | V16: =U16/T16 -> #DIV/0!
S18: Kepala OPD Penanggung Jawab
S21: ____________________________
S22: NIP.

Sheet Kepegawaian
D1: ASPEK PELAYANAN UMUM
A2: No | B2: Indikator Kinerja Program (Outcome) | D2: Kondisi Kinerja Awal RPJMD (Tahun 2012) | E2: Capaian Kinerja Program dan Kerangka Pendanaan | W2: SKPD Penanggung Jawab
E3: Tahun 2013 | H3: Tahun 2014 | K3: Tahun 2015 | N3: Tahun 2016 | Q3: Tahun 2017 | T3: Kondisi Pada akhir periode RPJMD
E4: target | F4: realisasi | G4: % | H4: target | I4: realisasi | J4: % | K4: target | L4: realisasi | M4: % | N4: target | O4: realisasi | P4: % | Q4: target | R4: realisasi | S4: % | T4: target | U4: realisasi | V4: %
A5: 1 | B5: 2 | D5: 3 | E5: 4 | F5: 5 | G5: 6 | H5: 7 | I5: 8 | J5: 9 | K5: 10 | L5: 11 | M5: 12 | N5: 13 | O5: 14 | P5: 15 | Q5: 16 | R5: 17 | S5: 18 | T5: 19 | U5: 20 | V5: 21 | W5: 22
A6: 4 | B6: Urusan Penunjang | G6: =AVERAGE(#REF!,#REF!,G7,#REF!,#REF!,#REF!) -> #REF! | J6: =AVERAGE(#REF!,#REF!,J7,#REF!,#REF!,#REF!) -> #REF! | M6: =AVERAGE(#REF!,#REF!,M7,#REF!,#REF!,#REF!) -> #REF! | P6: =AVERAGE(#REF!,#REF!,P7,#REF!,#REF!,#REF!) -> #REF! | S6: =AVERAGE(#REF!,#REF!,S7,#REF!,#REF!,#REF!) -> #REF! | V6: =AVERAGE(#REF!,#REF!,V7,#REF!,#REF!,#REF!) -> #REF!
B7: c | C7: Kepegawaian serta Pendidikan dan Pelatihan | G7: =AVERAGE(G8:G13) -> #DIV/0! | J7: =AVERAGE(J8:J13) -> #DIV/0! | M7: =AVERAGE(M8:M13) -> #DIV/0! | P7: =AVERAGE(P8:P13) -> #DIV/0! | S7: =AVERAGE(S8:S13) -> #DIV/0! | V7: =AVERAGE(V8:V13) -> #DIV/0!
A8: 1 | C8: Rata-rata lama pegawai mendapatkan pendidikan dan pelatihan; | G8: =F8/E8 -> #DIV/0! | J8: =I8/H8 -> #DIV/0! | M8: =L8/K8 -> #DIV/0! | P8: =O8/N8 -> #DIV/0! | S8: =R8/Q8 -> #DIV/0! | V8: =U8/T8 -> #DIV/0!
A9: 2 | C9: Persentase ASN yang mengikuti pendidikan dan pelatihan formal; | G9: =F9/E9 -> #DIV/0! | J9: =I9/H9 -> #DIV/0! | M9: =L9/K9 -> #DIV/0! | P9: =O9/N9 -> #DIV/0! | S9: =R9/Q9 -> #DIV/0! | V9: =U9/T9 -> #DIV/0!
A10: 3 | C10: Persentase Pejabat ASN yang telah mengikuti pendidikan dan pelatihan struktural; | G10: =F10/E10 -> #DIV/0! | J10: =I10/H10 -> #DIV/0! | M10: =L10/K10 -> #DIV/0! | P10: =O10/N10 -> #DIV/0! | S10: =R10/Q10 -> #DIV/0! | V10: =U10/T10 -> #DIV/0!
A11: 4 | C11: Jumlah jabatan pimpinan tinggi pada instansi pemerintah; | G11: =F11/E11 -> #DIV/0! | J11: =I11/H11 -> #DIV/0! | M11: =L11/K11 -> #DIV/0! | P11: =O11/N11 -> #DIV/0! | S11: =R11/Q11 -> #DIV/0! | V11: =U11/T11 -> #DIV/0!
A12: 5 | C12: Jumlah jabatan administrasi pada instansi pemerintah; dan | G12: =F12/E12 -> #DIV/0! | J12: =I12/H12 -> #DIV/0! | M12: =L12/K12 -> #DIV/0! | P12: =O12/N12 -> #DIV/0! | S12: =R12/Q12 -> #DIV/0! | V12: =U12/T12 -> #DIV/0!
A13: 6 | C13: Jumlah pemangku jabatan fungsional tertentu pada instansi pemerintah. | G13: =F13/E13 -> #DIV/0! | J13: =I13/H13 -> #DIV/0! | M13: =L13/K13 -> #DIV/0! | P13: =O13/N13 -> #DIV/0! | S13: =R13/Q13 -> #DIV/0! | V13: =U13/T13 -> #DIV/0!
S15: Kepala OPD Penanggung Jawab
S18: ____________________________
S19: NIP.

Sheet Litbang
D1: ASPEK PELAYANAN UMUM
A2: No | B2: Indikator Kinerja Program (Outcome) | D2: Kondisi Kinerja Awal RPJMD (Tahun 2012) | E2: Capaian Kinerja Program dan Kerangka Pendanaan | W2: SKPD Penanggung Jawab
E3: Tahun 2013 | H3: Tahun 2014 | K3: Tahun 2015 | N3: Tahun 2016 | Q3: Tahun 2017 | T3: Kondisi Pada akhir periode RPJMD
E4: target | F4: realisasi | G4: % | H4: target | I4: realisasi | J4: % | K4: target | L4: realisasi | M4: % | N4: target | O4: realisasi | P4: % | Q4: target | R4: realisasi | S4: % | T4: target | U4: realisasi | V4: %
A5: 1 | B5: 2 | D5: 3 | E5: 4 | F5: 5 | G5: 6 | H5: 7 | I5: 8 | J5: 9 | K5: 10 | L5: 11 | M5: 12 | N5: 13 | O5: 14 | P5: 15 | Q5: 16 | R5: 17 | S5: 18 | T5: 19 | U5: 20 | V5: 21 | W5: 22
A6: 4 | B6: Urusan Penunjang | G6: =AVERAGE(#REF!,#REF!,#REF!,G7,#REF!,#REF!) -> #REF! | J6: =AVERAGE(#REF!,#REF!,#REF!,J7,#REF!,#REF!) -> #REF! | M6: =AVERAGE(#REF!,#REF!,#REF!,M7,#REF!,#REF!) -> #REF! | P6: =AVERAGE(#REF!,#REF!,#REF!,P7,#REF!,#REF!) -> #REF! | S6: =AVERAGE(#REF!,#REF!,#REF!,S7,#REF!,#REF!) -> #REF! | V6: =AVERAGE(#REF!,#REF!,#REF!,V7,#REF!,#REF!) -> #REF!
B7: d | C7: Penelitian dan Pengembangan | G7: =AVERAGE(G8:G11) -> #DIV/0! | J7: =AVERAGE(J8:J11) -> #DIV/0! | M7: =AVERAGE(M8:M11) -> #DIV/0! | P7: =AVERAGE(P8:P11) -> #DIV/0! | S7: =AVERAGE(S8:S11) -> #DIV/0! | V7: =AVERAGE(V8:V11) -> #DIV/0!
A8: 1 | C8: Persentase implementasi rencana kelitbangan | G8: =F8/E8 -> #DIV/0! | J8: =I8/H8 -> #DIV/0! | M8: =L8/K8 -> #DIV/0! | P8: =O8/N8 -> #DIV/0! | S8: =R8/Q8 -> #DIV/0! | V8: =U8/T8 -> #DIV/0!
A9: 2 | C9: Persentase pemanfaatan hasil kelitbangan | G9: =F9/E9 -> #DIV/0! | J9: =I9/H9 -> #DIV/0! | M9: =L9/K9 -> #DIV/0! | P9: =O9/N9 -> #DIV/0! | S9: =R9/Q9 -> #DIV/0! | V9: =U9/T9 -> #DIV/0!
A10: 3 | C10: Persentase perangkat daerah yang difasilitasi dalam peneraiam SIDa | G10: =F10/E10 -> #DIV/0! | J10: =I10/H10 -> #DIV/0! | M10: =L10/K10 -> #DIV/0! | P10: =O10/N10 -> #DIV/0! | S10: =R10/Q10 -> #DIV/0! | V10: =U10/T10 -> #DIV/0!
A11: 4 | C11: Persentase kebijakan inovasi yang diterapkan di daerah penerapan SIDa | G11: =F11/E11 -> #DIV/0! | J11: =I11/H11 -> #DIV/0! | M11: =L11/K11 -> #DIV/0! | P11: =O11/N11 -> #DIV/0! | S11: =R11/Q11 -> #DIV/0! | V11: =U11/T11 -> #DIV/0!
S13: Kepala OPD Penanggung Jawab
S16: ____________________________
S17: NIP.

Sheet Pengawasan
D1: ASPEK PELAYANAN UMUM
A2: No | B2: Indikator Kinerja Program (Outcome) | D2: Kondisi Kinerja Awal RPJMD (Tahun 2012) | E2: Capaian Kinerja Program dan Kerangka Pendanaan | W2: SKPD Penanggung Jawab
E3: Tahun 2013 | H3: Tahun 2014 | K3: Tahun 2015 | N3: Tahun 2016 | Q3: Tahun 2017 | T3: Kondisi Pada akhir periode RPJMD
E4: target | F4: realisasi | G4: % | H4: target | I4: realisasi | J4: % | K4: target | L4: realisasi | M4: % | N4: target | O4: realisasi | P4: % | Q4: target | R4: realisasi | S4: % | T4: target | U4: realisasi | V4: %
A5: 1 | B5: 2 | D5: 3 | E5: 4 | F5: 5 | G5: 6 | H5: 7 | I5: 8 | J5: 9 | K5: 10 | L5: 11 | M5: 12 | N5: 13 | O5: 14 | P5: 15 | Q5: 16 | R5: 17 | S5: 18 | T5: 19 | U5: 20 | V5: 21 | W5: 22
A6: 4 | B6: Urusan Penunjang | G6: =AVERAGE(#REF!,#REF!,#REF!,#REF!,G7,#REF!) -> #REF! | J6: =AVERAGE(#REF!,#REF!,#REF!,#REF!,J7,#REF!) -> #REF! | M6: =AVERAGE(#REF!,#REF!,#REF!,#REF!,M7,#REF!) -> #REF! | P6: =AVERAGE(#REF!,#REF!,#REF!,#REF!,P7,#REF!) -> #REF! | S6: =AVERAGE(#REF!,#REF!,#REF!,#REF!,S7,#REF!) -> #REF! | V6: =AVERAGE(#REF!,#REF!,#REF!,#REF!,V7,#REF!) -> #REF!
B7: e | C7: Pengawasan | G7: =AVERAGE(G8:G10) -> #DIV/0! | J7: =AVERAGE(J8:J10) -> #DIV/0! | M7: =AVERAGE(M8:M10) -> #DIV/0! | P7: =AVERAGE(P8:P10) -> #DIV/0! | S7: =AVERAGE(S8:S10) -> #DIV/0! | V7: =AVERAGE(V8:V10) -> #DIV/0!
A8: 1 | C8: persentase tindak lanjut temuan | G8: =F8/E8 -> #DIV/0! | J8: =I8/H8 -> #DIV/0! | M8: =L8/K8 -> #DIV/0! | P8: =O8/N8 -> #DIV/0! | S8: =R8/Q8 -> #DIV/0! | V8: =U8/T8 -> #DIV/0!
A9: 2 | C9: persentase pelanggaran pegawai | G9: =F9/E9 -> #DIV/0! | J9: =I9/H9 -> #DIV/0! | M9: =L9/K9 -> #DIV/0! | P9: =O9/N9 -> #DIV/0! | S9: =R9/Q9 -> #DIV/0! | V9: =U9/T9 -> #DIV/0!
A10: 3 | C10: jumlah temuan BPK | G10: =F10/E10 -> #DIV/0! | J10: =I10/H10 -> #DIV/0! | M10: =L10/K10 -> #DIV/0! | P10: =O10/N10 -> #DIV/0! | S10: =R10/Q10 -> #DIV/0! | V10: =U10/T10 -> #DIV/0!
S12: Kepala OPD Penanggung Jawab
S15: ____________________________
S16: NIP.

Sheet Setwan
D1: ASPEK PELAYANAN UMUM
A2: No | B2: Indikator Kinerja Program (Outcome) | D2: Kondisi Kinerja Awal RPJMD (Tahun 2012) | E2: Capaian Kinerja Program dan Kerangka Pendanaan | W2: SKPD Penanggung Jawab
E3: Tahun 2013 | H3: Tahun 2014 | K3: Tahun 2015 | N3: Tahun 2016 | Q3: Tahun 2017 | T3: Kondisi Pada akhir periode RPJMD
E4: target | F4: realisasi | G4: % | H4: target | I4: realisasi | J4: % | K4: target | L4: realisasi | M4: % | N4: target | O4: realisasi | P4: % | Q4: target | R4: realisasi | S4: % | T4: target | U4: realisasi | V4: %
A5: 1 | B5: 2 | D5: 3 | E5: 4 | F5: 5 | G5: 6 | H5: 7 | I5: 8 | J5: 9 | K5: 10 | L5: 11 | M5: 12 | N5: 13 | O5: 14 | P5: 15 | Q5: 16 | R5: 17 | S5: 18 | T5: 19 | U5: 20 | V5: 21 | W5: 22
A6: 4 | B6: Urusan Penunjang | G6: =AVERAGE(#REF!,#REF!,#REF!,#REF!,#REF!,G7) -> #REF! | J6: =AVERAGE(#REF!,#REF!,#REF!,#REF!,#REF!,J7) -> #REF! | M6: =AVERAGE(#REF!,#REF!,#REF!,#REF!,#REF!,M7) -> #REF! | P6: =AVERAGE(#REF!,#REF!,#REF!,#REF!,#REF!,P7) -> #REF! | S6: =AVERAGE(#REF!,#REF!,#REF!,#REF!,#REF!,S7) -> #REF! | V6: =AVERAGE(#REF!,#REF!,#REF!,#REF!,#REF!,V7) -> #REF!
B7: f | C7: Sekretariat Dewan | G7: =AVERAGE(G8:G10) -> #DIV/0! | J7: =AVERAGE(J8:J10) -> #DIV/0! | M7: =AVERAGE(M8:M10) -> #DIV/0! | P7: =AVERAGE(P8:P10) -> #DIV/0! | S7: =AVERAGE(S8:S10) -> #DIV/0! | V7: =AVERAGE(V8:V10) -> #DIV/0!
A8: 1 | C8: Tersediaanya Rencana Kerja Tahunan pada setiap Alat-alat Kelengkapan DPRD Kota | G8: =F8/E8 -> #DIV/0! | J8: =I8/H8 -> #DIV/0! | M8: =L8/K8 -> #DIV/0! | P8: =O8/N8 -> #DIV/0! | S8: =R8/Q8 -> #DIV/0! | V8: =U8/T8 -> #DIV/0!
A9: 2 | C9: Tersusun dan terintegrasinya Program-Program Kerja DPRD untuk melaksanakan Perda, dan Fungsi Anggaran dalam Dokumen Rencana Lima Tahunan (RPJM) maupunDokumen Rencana Tahunan(RKPD | G9: =F9/E9 -> #DIV/0! | J9: =I9/H9 -> #DIV/0! | M9: =L9/K9 -> #DIV/0! | P9: =O9/N9 -> #DIV/0! | S9: =R9/Q9 -> #DIV/0! | V9: =U9/T9 -> #DIV/0!
A10: 3 | C10: Terintegrasi program-program DPRD untuk melaksanakan fungsi pengawasan, pembentukan Perda dan Anggaran ke dalam Dokumen Perencanaan dan Dokumen Anggaran Setwan DPRD | G10: =F10/E10 -> #DIV/0! | J10: =I10/H10 -> #DIV/0! | M10: =L10/K10 -> #DIV/0! | P10: =O10/N10 -> #DIV/0! | S10: =R10/Q10 -> #DIV/0! | V10: =U10/T10 -> #DIV/0!
S12: Kepala OPD Penanggung Jawab
S15: ____________________________
S16: NIP.

Sheet Sheet2
