Workbook

Sheet Aspek Kesejahteraan Masyarakat
A1: ASPEK KESEJAHTERAAN MASYARAKAT
A2: No | B2: Indikator Kinerja Program (Outcome) | C2: Kondisi Kinerja Awal RPJMD (Tahun 2012) | D2: Capaian Kinerja Program dan Kerangka Pendanaan | V2: SKPD Penanggung Jawab
D3: Tahun 2013 | G3: Tahun 2014 | J3: Tahun 2015 | M3: Tahun 2016 | P3: Tahun 2017 | S3: Kondisi Pada akhir periode RPJMD
D4: target | E4: realisasi | F4: % | G4: target | H4: realisasi | I4: % | J4: target | K4: realisasi | L4: % | M4: target | N4: realisasi | O4: % | P4: target | Q4: realisasi | R4: % | S4: target | T4: realisasi | U4: %
A5: 1 | B5: 2 | C5: 3 | D5: 4 | E5: 5 | F5: 6 | G5: 7 | H5: 8 | I5: 9 | J5: 10 | K5: 11 | L5: 12 | M5: 13 | N5: 14 | O5: 15 | P5: 16 | Q5: 17 | R5: 18 | S5: 19 | T5: 20 | U5: 21 | V5: 22
A6: 1 | B6: Pertumbuhan PDRB | C6: 7.37 | F6: =E6/D6 -> #DIV/0! | I6: =H6/G6 -> #DIV/0! | L6: =K6/J6 -> #DIV/0! | O6: =N6/M6 -> #DIV/0! | R6: =Q6/P6 -> #DIV/0! | U6: =T6/S6 -> #DIV/0!
A7: 2 | B7: Laju Inflasi | C7: 4.22 | F7: =E7/D7 -> #DIV/0! | I7: =H7/G7 -> #DIV/0! | L7: =K7/J7 -> #DIV/0! | O7: =N7/M7 -> #DIV/0! | R7: =Q7/P7 -> #DIV/0! | U7: =T7/S7 -> #DIV/0!
A8: 3 | B8: PDRB Per kapita | C8: 22183000 | F8: =E8/D8 -> #DIV/0! | I8: =H8/G8 -> #DIV/0! | L8: =K8/J8 -> #DIV/0! | O8: =N8/M8 -> #DIV/0! | R8: =Q8/P8 -> #DIV/0! | U8: =T8/S8 -> #DIV/0!
A9: 4 | B9: Indeks gini | F9: =E9/D9 -> #DIV/0! | I9: =H9/G9 -> #DIV/0! | L9: =K9/J9 -> #DIV/0! | O9: =N9/M9 -> #DIV/0! | R9: =Q9/P9 -> #DIV/0! | U9: =T9/S9 -> #DIV/0!
A10: 5 | B10: Pemerataan pendapatan versi bank dunia | F10: =E10/D10 -> #DIV/0! | I10: =H10/G10 -> #DIV/0! | L10: =K10/J10 -> #DIV/0! | O10: =N10/M10 -> #DIV/0! | R10: =Q10/P10 -> #DIV/0! | U10: =T10/S10 -> #DIV/0!
A11: 6 | B11: Indeks ketimpangan Williamson (indeks Ketimpangan Regional) | F11: =E11/D11 -> #DIV/0! | I11: =H11/G11 -> #DIV/0! | L11: =K11/J11 -> #DIV/0! | O11: =N11/M11 -> #DIV/0! | R11: =Q11/P11 -> #DIV/0! | U11: =T11/S11 -> #DIV/0!
A12: 7 | B12: Persentase penduduk diatas garis kemiskinan | F12: =E12/D12 -> #DIV/0! | I12: =H12/G12 -> #DIV/0! | L12: =K12/J12 -> #DIV/0! | O12: =N12/M12 -> #DIV/0! | R12: =Q12/P12 -> #DIV/0! | U12: =T12/S12 -> #DIV/0!
A13: 8 | B13: Rasio kesenjangan kemiskinan | F13: =E13/D13 -> #DIV/0! | I13: =H13/G13 -> #DIV/0! | L13: =K13/J13 -> #DIV/0! | O13: =N13/M13 -> #DIV/0! | R13: =Q13/P13 -> #DIV/0! | U13: =T13/S13 -> #DIV/0!
A14: 9 | B14: Proporsi penduduk dengan pendapatan kurang dari USD 1,00 (PPP) perkapita perhari | F14: =E14/D14 -> #DIV/0! | I14: =H14/G14 -> #DIV/0! | L14: =K14/J14 -> #DIV/0! | O14: =N14/M14 -> #DIV/0! | R14: =Q14/P14 -> #DIV/0! | U14: =T14/S14 -> #DIV/0!
A15: 10 | B15: Indeks Pembangunan Manusia (IPM) | F15: =E15/D15 -> #DIV/0! | I15: =H15/G15 -> #DIV/0! | L15: =K15/J15 -> #DIV/0! | O15: =N15/M15 -> #DIV/0! | R15: =Q15/P15 -> #DIV/0! | U15: =T15/S15 -> #DIV/0!
A16: 11 | B16: Angka melek huruf | F16: =E16/D16 -> #DIV/0! | I16: =H16/G16 -> #DIV/0! | L16: =K16/J16 -> #DIV/0! | O16: =N16/M16 -> #DIV/0! | R16: =Q16/P16 -> #DIV/0! | U16: =T16/S16 -> #DIV/0!
A17: 12 | B17: Angka rata-rata lama sekolah | F17: =E17/D17 -> #DIV/0! | I17: =H17/G17 -> #DIV/0! | L17: =K17/J17 -> #DIV/0! | O17: =N17/M17 -> #DIV/0! | R17: =Q17/P17 -> #DIV/0! | U17: =T17/S17 -> #DIV/0!
A18: 13 | B18: Angka usia harapan hidup | F18: =E18/D18 -> #DIV/0! | I18: =H18/G18 -> #DIV/0! | L18: =K18/J18 -> #DIV/0! | O18: =N18/M18 -> #DIV/0! | R18: =Q18/P18 -> #DIV/0! | U18: =T18/S18 -> #DIV/0!
A19: 14 | B19: persentase balita gizi buruk | F19: =E19/D19 -> #DIV/0! | I19: =H19/G19 -> #DIV/0! | L19: =K19/J19 -> #DIV/0! | O19: =N19/M19 -> #DIV/0! | R19: =Q19/P19 -> #DIV/0! | U19: =T19/S19 -> #DIV/0!
A20: 15 | B20: Prevalensi balita kuran | F20: =E20/D20 -> #DIV/0! | I20: =H20/G20 -> #DIV/0! | L20: =K20/J20 -> #DIV/0! | O20: =N20/M20 -> #DIV/0! | R20: =Q20/P20 -> #DIV/0! | U20: =T20/S20 -> #DIV/0!
... A50: 45 | B50: Kontribusi transmigrasi terhadap PDRB | F50: =E50/D50 -> #DIV/0! | I50: =H50/G50 -> #DIV/0! | L50: =K50/J50 -> #DIV/0! | O50: =N50/M50 -> #DIV/0! | R50: =Q50/P50 -> #DIV/0! | U50: =T50/S50 -> #DIV/0!
A51: Rata-Rata Capaian Kinerja (%) | U51: =AVERAGE(U6:U50) -> #DIV/0!
R53: Kepala OPD Penanggung Jawab
R56: ____________________________
R57: NIP.

Sheet Aspek Daya Saing Daerah
A1: ASPEK DAYA SAING DAERAH
A2: No | B2: Indikator Kinerja Program (Outcome) | C2: Kondisi Kinerja Awal RPJMD (Tahun 2012) | D2: Capaian Kinerja Program dan Kerangka Pendanaan | V2: SKPD Penanggung Jawab
D3: Tahun 2013 | G3: Tahun 2014 | J3: Tahun 2015 | M3: Tahun 2016 | P3: Tahun 2017 | S3: Kondisi Pada akhir periode RPJMD
D4: target | E4: realisasi | F4: % | G4: target | H4: realisasi | I4: % | J4: target | K4: realisasi | L4: % | M4: target | N4: realisasi | O4: % | P4: target | Q4: realisasi | R4: % | S4: target | T4: realisasi | U4: %
A5: 1 | B5: 2 | C5: 3 | D5: 4 | E5: 5 | F5: 6 | G5: 7 | H5: 8 | I5: 9 | J5: 10 | K5: 11 | L5: 12 | M5: 13 | N5: 14 | O5: 15 | P5: 16 | Q5: 17 | R5: 18 | S5: 19 | T5: 20 | U5: 21 | V5: 22
A6: 1 | B6: Pengeluaran konsumsi rumah tangga per kapita | F6: =E6/D6 -> #DIV/0! | I6: =H6/G6 -> #DIV/0! | L6: =K6/J6 -> #DIV/0! | O6: =N6/M6 -> #DIV/0! | R6: =Q6/P6 -> #DIV/0! | U6: =T6/S6 -> #DIV/0!
A7: 2 | B7: Nilai tukar petani | F7: =E7/D7 -> #DIV/0! | I7: =H7/G7 -> #DIV/0! | L7: =K7/J7 -> #DIV/0! | O7: =N7/M7 -> #DIV/0! | R7: =Q7/P7 -> #DIV/0! | U7: =T7/S7 -> #DIV/0!
A8: 3 | B8: Persentase pengeluaran konsumsi non pangan perkapita | F8: =E8/D8 -> #DIV/0! | I8: =H8/G8 -> #DIV/0! | L8: =K8/J8 -> #DIV/0! | O8: =N8/M8 -> #DIV/0! | R8: =Q8/P8 -> #DIV/0! | U8: =T8/S8 -> #DIV/0!
A9: 4 | B9: Produktivitas total daerah | F9: =E9/D9 -> #DIV/0! | I9: =H9/G9 -> #DIV/0! | L9: =K9/J9 -> #DIV/0! | O9: =N9/M9 -> #DIV/0! | R9: =Q9/P9 -> #DIV/0! | U9: =T9/S9 -> #DIV/0!
A10: 5 | B10: Persentase desa berstatus swasembada terhadap total desa | F10: =E10/D10 -> #DIV/0! | I10: =H10/G10 -> #DIV/0! | L10: =K10/J10 -> #DIV/0! | O10: =N10/M10 -> #DIV/0! | R10: =Q10/P10 -> #DIV/0! | U10: =T10/S10 -> #DIV/0!
A11: 6 | B11: Rasio ekspor+impor terhadap PDB (indikator keterbukaan ekonomi) | F11: =E11/D11 -> #DIV/0! | I11: =H11/G11 -> #DIV/0! | L11: =K11/J11 -> #DIV/0! | O11: =N11/M11 -> #DIV/0! | R11: =Q11/P11 -> #DIV/0! | U11: =T11/S11 -> #DIV/0!
A12: 7 | B12: Rasio pinjaman terhadap simpanan di bank umum | F12: =E12/D12 -> #DIV/0! | I12: =H12/G12 -> #DIV/0! | L12: =K12/J12 -> #DIV/0! | O12: =N12/M12 -> #DIV/0! | R12: =Q12/P12 -> #DIV/0! | U12: =T12/S12 -> #DIV/0!
A13: 8 | B13: Rasio pinjaman terhadap simpananan di BPR | F13: =E13/D13 -> #DIV/0! | I13: =H13/G13 -> #DIV/0! | L13: =K13/J13 -> #DIV/0! | O13: =N13/M13 -> #DIV/0! | R13: =Q13/P13 -> #DIV/0! | U13: =T13/S13 -> #DIV/0!
A14: 9 | B14: Angka kriminalitas yang tertangani | F14: =E14/D14 -> #DIV/0! | I14: =H14/G14 -> #DIV/0! | L14: =K14/J14 -> #DIV/0! | O14: =N14/M14 -> #DIV/0! | R14: =Q14/P14 -> #DIV/0! | U14: =T14/S14 -> #DIV/0!
A15: 10 | B15: Rasio ketergantungan | F15: =E15/D15 -> #DIV/0! | I15: =H15/G15 -> #DIV/0! | L15: =K15/J15 -> #DIV/0! | O15: =N15/M15 -> #DIV/0! | R15: =Q15/P15 -> #DIV/0! | U15: =T15/S15 -> #DIV/0!
A16: Rata-Rata Capaian Kinerja (%) | U16: =AVERAGE(U6:U15) -> #DIV/0!
R18: Kepala OPD Penanggung Jawab
R21: ____________________________
R22: NIP.

Sheet Aspek Pelayanan Umum
A1: ASPEK PELAYANAN UMUM
A2: No | B2: Indikator Kinerja Program (Outcome) | D2: Kondisi Kinerja Awal RPJMD (Tahun 2012) | E2: Capaian Kinerja Program dan Kerangka Pendanaan | W2: SKPD Penanggung Jawab
E3: Tahun 2013 | H3: Tahun 2014 | K3: Tahun 2015 | N3: Tahun 2016 | Q3: Tahun 2017 | T3: Kondisi Pada akhir periode RPJMD
E4: target | F4: realisasi | G4: % | H4: target | I4: realisasi | J4: % | K4: target | L4: realisasi | M4: % | N4: target | O4: realisasi | P4: % | Q4: target | R4: realisasi | S4: % | T4: target | U4: realisasi | V4: %
A5: 1 | B5: 2 | D5: 3 | E5: 4 | F5: 5 | G5: 6 | H5: 7 | I5: 8 | J5: 9 | K5: 10 | L5: 11 | M5: 12 | N5: 13 | O5: 14 | P5: 15 | Q5: 16 | R5: 17 | S5: 18 | T5: 19 | U5: 20 | V5: 21 | W5: 22
A6: 1 | B6: Urusan Wajib Pelayanan Dasar | G6: =AVERAGE(G7,G27,G61,G89,G99,G105) -> #DIV/0! | J6: =AVERAGE(J7,J27,J61,J89,J99,J105) -> #DIV/0! | M6: =AVERAGE(M7,M27,M61,M89,M99,M105) -> #DIV/0! | P6: =AVERAGE(P7,P27,P61,P89,P99,P105) -> #DIV/0! | S6: =AVERAGE(S7,S27,S61,S89,S99,S105) -> #DIV/0! | V6: =AVERAGE(V7,V27,V61,V89,V99,V105) -> #DIV/0!
B7: a | C7: Pendidikan | G7: =AVERAGE(G8:G26) -> #DIV/0! | J7: =AVERAGE(J8:J26) -> #DIV/0! | M7: =AVERAGE(M8:M26) -> #DIV/0! | P7: =AVERAGE(P8:P26) -> #DIV/0! | S7: =AVERAGE(S8:S26) -> #DIV/0! | V7: =AVERAGE(V8:V26) -> #DIV/0!
A8: 1 | C8: =Pendidikan!C8 -> Pendidikan Anak Usaha Dini | D8: =Pendidikan!D8 -> 0 | E8: =Pendidikan!E8 -> 0 | F8: =Pendidikan!F8 -> 0 | G8: =Pendidikan!G8 -> #DIV/0! | H8: =Pendidikan!H8 -> 0 | I8: =Pendidikan!I8 -> 0 | J8: =Pendidikan!J8 -> #DIV/0! | ... W8: =Pendidikan!W8 -> 0
A9: 2 | C9: =Pendidikan!C9 -> Angka Partisipasi Kasar | D9: =Pendidikan!D9 -> 0 | E9: =Pendidikan!E9 -> 0 | F9: =Pendidikan!F9 -> 0 | G9: =Pendidikan!G9 -> #DIV/0! | H9: =Pendidikan!H9 -> 0 | I9: =Pendidikan!I9 -> 0 | J9: =Pendidikan!J9 -> #DIV/0! | ... W9: =Pendidikan!W9 -> 0
A10: 3 | C10: =Pendidikan!C10 -> Angka Pendidikan yang ditamatkan | D10: =Pendidikan!D10 -> 0 | E10: =Pendidikan!E10 -> 0 | F10: =Pendidikan!F10 -> 0 | G10: =Pendidikan!G10 -> #DIV/0! | H10: =Pendidikan!H10 -> 0 | I10: =Pendidikan!I10 -> 0 | J10: =Pendidikan!J10 -> #DIV/0! | ... W10: =Pendidikan!W10 -> 0
A11: 4 | C11: =Pendidikan!C11 -> Angka Partisipasi Murni | D11: =Pendidikan!D11 -> 0 | E11: =Pendidikan!E11 -> 0 | F11: =Pendidikan!F11 -> 0 | G11: =Pendidikan!G11 -> #DIV/0! | H11: =Pendidikan!H11 -> 0 | I11: =Pendidikan!I11 -> 0 | J11: =Pendidikan!J11 -> #DIV/0! | ... W11: =Pendidikan!W11 -> 0
A12: 5 | C12: =Pendidikan!C12 -> Angka partisipasi Sekolah | D12: =Pendidikan!D12 -> 0 | E12: =Pendidikan!E12 -> 0 | F12: =Pendidikan!F12 -> 0 | G12: =Pendidikan!G12 -> #DIV/0! | H12: =Pendidikan!H12 -> 0 | I12: =Pendidikan!I12 -> 0 | J12: =Pendidikan!J12 -> #DIV/0! | ... W12: =Pendidikan!W12 -> 0
A13: 6 | C13: =Pendidikan!C13 -> Angka Putus Sekolah | D13: =Pendidikan!D13 -> 0 | E13: =Pendidikan!E13 -> 0 | F13: =Pendidikan!F13 -> 0 | G13: =Pendidikan!G13 -> #DIV/0! | H13: =Pendidikan!H13 -> 0 | I13: =Pendidikan!I13 -> 0 | J13: =Pendidikan!J13 -> #DIV/0! | ... W13: =Pendidikan!W13 -> 0
A14: 7 | C14: =Pendidikan!C14 -> Angka Kelulusan | D14: =Pendidikan!D14 -> 0 | E14: =Pendidikan!E14 -> 0 | F14: =Pendidikan!F14 -> 0 | G14: =Pendidikan!G14 -> #DIV/0! | H14: =Pendidikan!H14 -> 0 | I14: =Pendidikan!I14 -> 0 | J14: =Pendidikan!J14 -> #DIV/0! | ... W14: =Pendidikan!W14 -> 0
A15: 8 | C15: =Pendidikan!C15 -> Angka Melanjutkan (AM) | D15: =Pendidikan!D15 -> 0 | E15: =Pendidikan!E15 -> 0 | F15: =Pendidikan!F15 -> 0 | G15: =Pendidikan!G15 -> #DIV/0! | H15: =Pendidikan!H15 -> 0 | I15: =Pendidikan!I15 -> 0 | J15: =Pendidikan!J15 -> #DIV/0! | ... W15: =Pendidikan!W15 -> 0
A16: 9 | C16: =Pendidikan!C16 -> Fasilitas Pendidikan | D16: =Pendidikan!D16 -> 0 | E16: =Pendidikan!E16 -> 0 | F16: =Pendidikan!F16 -> 0 | G16: =Pendidikan!G16 -> #DIV/0! | H16: =Pendidikan!H16 -> 0 | I16: =Pendidikan!I16 -> 0 | J16: =Pendidikan!J16 -> #DIV/0! | ... W16: =Pendidikan!W16 -> 0
A17: 10 | C17: =Pendidikan!C17 -> Rasio Ketersediaan Sekolah/Penduduk usia sekolah pendidikan dasar | D17: =Pendidikan!D17 -> 0 | E17: =Pendidikan!E17 -> 0 | F17: =Pendidikan!F17 -> 0 | G17: =Pendidikan!G17 -> #DIV/0! | H17: =Pendidikan!H17 -> 0 | I17: =Pendidikan!I17 -> 0 | J17: =Pendidikan!J17 -> #DIV/0! | ... W17: =Pendidikan!W17 -> 0
A18: 11 | C18: =Pendidikan!C18 -> rasio ketersediaan sekolah terhadap penduduk usia sekolah pendidikan menengah | D18: =Pendidikan!D18 -> 0 | E18: =Pendidikan!E18 -> 0 | F18: =Pendidikan!F18 -> 0 | G18: =Pendidikan!G18 -> #DIV/0! | H18: =Pendidikan!H18 -> 0 | I18: =Pendidikan!I18 -> 0 | J18: =Pendidikan!J18 -> #DIV/0! | ... W18: =Pendidikan!W18 -> 0
A19: 12 | C19: =Pendidikan!C19 -> rasio guru/murid sekolah pendidikan dasar | D19: =Pendidikan!D19 -> 0 | E19: =Pendidikan!E19 -> 0 | F19: =Pendidikan!F19 -> 0 | G19: =Pendidikan!G19 -> #DIV/0! | H19: =Pendidikan!H19 -> 0 | I19: =Pendidikan!I19 -> 0 | J19: =Pendidikan!J19 -> #DIV/0! | ... W19: =Pendidikan!W19 -> 0
... A26: 19 | C26: =Pendidikan!C26 -> guru yang memenuhi kualifikasi S1 /DIV | D26: =Pendidikan!D26 -> 0 | E26: =Pendidikan!E26 -> 0 | F26: =Pendidikan!F26 -> 0 | G26: =Pendidikan!G26 -> #DIV/0! | H26: =Pendidikan!H26 -> 0 | I26: =Pendidikan!I26 -> 0 | J26: =Pendidikan!J26 -> #DIV/0! | ... W26: =Pendidikan!W26 -> 0
B27: b | C27: Kesehatan | G27: =AVERAGE(G28:G60) -> #DIV/0! | J27: =AVERAGE(J28:J60) -> #DIV/0! | M27: =AVERAGE(M28:M60) -> #DIV/0! | P27: =AVERAGE(P28:P60) -> #DIV/0! | S27: =AVERAGE(S28:S60) -> #DIV/0! | V27: =AVERAGE(V28:V60) -> #DIV/0!
A28: 1 | C28: =Kesehatan!C8 -> Angka Kematian Bayi (AKB) per 1.000 kelahiran hidup; | D28: =Kesehatan!D8 -> 0 | E28: =Kesehatan!E8 -> 0 | F28: =Kesehatan!F8 -> 0 | G28: =Kesehatan!G8 -> #DIV/0! | H28: =Kesehatan!H8 -> 0 | I28: =Kesehatan!I8 -> 0 | J28: =Kesehatan!J8 -> #DIV/0! | ... W28: =Kesehatan!W8 -> 0
A29: 2 | C29: =Kesehatan!C9 -> Angka kelangsungan hidup bayi; | D29: =Kesehatan!D9 -> 0 | E29: =Kesehatan!E9 -> 0 | F29: =Kesehatan!F9 -> 0 | G29: =Kesehatan!G9 -> #DIV/0! | H29: =Kesehatan!H9 -> 0 | I29: =Kesehatan!I9 -> 0 | J29: =Kesehatan!J9 -> #DIV/0! | ... W29: =Kesehatan!W9 -> 0
A30: 3 | C30: =Kesehatan!C10 -> Angka Kematian Balita per 1.000 kelahiran hidup; | D30: =Kesehatan!D10 -> 0 | E30: =Kesehatan!E10 -> 0 | F30: =Kesehatan!F10 -> 0 | G30: =Kesehatan!G10 -> #DIV/0! | H30: =Kesehatan!H10 -> 0 | I30: =Kesehatan!I10 -> 0 | J30: =Kesehatan!J10 -> #DIV/0! | ... W30: =Kesehatan!W10 -> 0
A31: 4 | C31: =Kesehatan!C11 -> Angka Kematian Neonatal per 1.000 kelahiaran hidup; | D31: =Kesehatan!D11 -> 0 | E31: =Kesehatan!E11 -> 0 | F31: =Kesehatan!F11 -> 0 | G31: =Kesehatan!G11 -> #DIV/0! | H31: =Kesehatan!H11 -> 0 | I31: =Kesehatan!I11 -> 0 | J31: =Kesehatan!J11 -> #DIV/0! | ... W31: =Kesehatan!W11 -> 0
A32: 5 | C32: =Kesehatan!C12 -> Angka Kematian Ibu per 100.000 kelahiran hidup; | D32: =Kesehatan!D12 -> 0 | E32: =Kesehatan!E12 -> 0 | F32: =Kesehatan!F12 -> 0 | G32: =Kesehatan!G12 -> #DIV/0! | H32: =Kesehatan!H12 -> 0 | I32: =Kesehatan!I12 -> 0 | J32: =Kesehatan!J12 -> #DIV/0! | ... W32: =Kesehatan!W12 -> 0
A33: 6 | C33: =Kesehatan!C13 -> Rasio posyandu per satuan balita; | D33: =Kesehatan!D13 -> 0 | E33: =Kesehatan!E13 -> 0 | F33: =Kesehatan!F13 -> 0 | G33: =Kesehatan!G13 -> #DIV/0! | H33: =Kesehatan!H13 -> 0 | I33: =Kesehatan!I13 -> 0 | J33: =Kesehatan!J13 -> #DIV/0! | ... W33: =Kesehatan!W13 -> 0
A34: 7 | C34: =Kesehatan!C14 -> Rasio puskesmas, poliklinik, pustu per satuan penduduk; | D34: =Kesehatan!D14 -> 0 | E34: =Kesehatan!E14 -> 0 | F34: =Kesehatan!F14 -> 0 | G34: =Kesehatan!G14 -> #DIV/0! | H34: =Kesehatan!H14 -> 0 | I34: =Kesehatan!I14 -> 0 | J34: =Kesehatan!J14 -> #DIV/0! | ... W34: =Kesehatan!W14 -> 0
A35: 8 | C35: =Kesehatan!C15 -> Rasio Rumah Sakit per satuan penduduk; | D35: =Kesehatan!D15 -> 0 | E35: =Kesehatan!E15 -> 0 | F35: =Kesehatan!F15 -> 0 | G35: =Kesehatan!G15 -> #DIV/0! | H35: =Kesehatan!H15 -> 0 | I35: =Kesehatan!I15 -> 0 | J35: =Kesehatan!J15 -> #DIV/0! | ... W35: =Kesehatan!W15 -> 0
A36: 9 | C36: =Kesehatan!C16 -> Rasio Dokter per satuan penduduk; | D36: =Kesehatan!D16 -> 0 | E36: =Kesehatan!E16 -> 0 | F36: =Kesehatan!F16 -> 0 | G36: =Kesehatan!G16 -> #DIV/0! | H36: =Kesehatan!H16 -> 0 | I36: =Kesehatan!I16 -> 0 | J36: =Kesehatan!J16 -> #DIV/0! | ... W36: =Kesehatan!W16 -> 0
A37: 10 | C37: =Kesehatan!C17 -> Rasio Tenaga Medis per satuan penduduk; | D37: =Kesehatan!D17 -> 0 | E37: =Kesehatan!E17 -> 0 | F37: =Kesehatan!F17 -> 0 | G37: =Kesehatan!G17 -> #DIV/0! | H37: =Kesehatan!H17 -> 0 | I37: =Kesehatan!I17 -> 0 | J37: =Kesehatan!J17 -> #DIV/0! | ... W37: =Kesehatan!W17 -> 0
A38: 11 | C38: =Kesehatan!C18 -> Cakupan komplikasi kebidanan yang ditangani; | D38: =Kesehatan!D18 -> 0 | E38: =Kesehatan!E18 -> 0 | F38: =Kesehatan!F18 -> 0 | G38: =Kesehatan!G18 -> #DIV/0! | H38: =Kesehatan!H18 -> 0 | I38: =Kesehatan!I18 -> 0 | J38: =Kesehatan!J18 -> #DIV/0! | ... W38: =Kesehatan!W18 -> 0
A39: 12 | C39: =Kesehatan!C19 -> Cakupan pertolongan persalinan oleh tenaga kesehatan yang memiliki kompetensi kebidanan; | D39: =Kesehatan!D19 -> 0 | E39: =Kesehatan!E19 -> 0 | F39: =Kesehatan!F19 -> 0 | G39: =Kesehatan!G19 -> #DIV/0! | H39: =Kesehatan!H19 -> 0 | I39: =Kesehatan!I19 -> 0 | J39: =Kesehatan!J19 -> #DIV/0! | ... W39: =Kesehatan!W19 -> 0
... A60: 33 | C60: =Kesehatan!C40 -> Cakupan pelayanan kesehatan rujukan pasien masyarakat miskin. | D60: =Kesehatan!D40 -> 0 | E60: =Kesehatan!E40 -> 0 | F60: =Kesehatan!F40 -> 0 | G60: =Kesehatan!G40 -> #DIV/0! | H60: =Kesehatan!H40 -> 0 | I60: =Kesehatan!I40 -> 0 | J60: =Kesehatan!J40 -> #DIV/0! | ... W60: =Kesehatan!W40 -> 0
B61: c | C61: Pekerjaan Umum dan Penataan Ruang | G61: =AVERAGE(G62,G82) -> #DIV/0! | J61: =AVERAGE(J62,J82) -> #DIV/0! | M61: =AVERAGE(M62,M82) -> #DIV/0! | P61: =AVERAGE(P62,P82) -> #DIV/0! | S61: =AVERAGE(S62,S82) -> #DIV/0! | V61: =AVERAGE(V62,V82) -> #DIV/0!
B62: c.1 | C62: Pekerjaan Umum | G62: =AVERAGE(G63:G81) -> #DIV/0! | J62: =AVERAGE(J63:J81) -> #DIV/0! | M62: =AVERAGE(M63:M81) -> #DIV/0! | P62: =AVERAGE(P63:P81) -> #DIV/0! | S62: =AVERAGE(S63:S81) -> #DIV/0! | V62: =AVERAGE(V63:V81) -> #DIV/0!
A63: 1 | C63: =PUPR!C9 -> proporsi panjang jaringan jalan dalam kondisi baik | D63: =PUPR!D9 -> 0 | E63: =PUPR!E9 -> 0 | F63: =PUPR!F9 -> 0 | G63: =PUPR!G9 -> #DIV/0! | H63: =PUPR!H9 -> 0 | I63: =PUPR!I9 -> 0 | J63: =PUPR!J9 -> #DIV/0! | ... W63: =PUPR!W9 -> 0
A64: 2 | C64: =PUPR!C10 -> Rasio panjang Jalan dengan jumlah penduduk | D64: =PUPR!D10 -> 0 | E64: =PUPR!E10 -> 0 | F64: =PUPR!F10 -> 0 | G64: =PUPR!G10 -> #DIV/0! | H64: =PUPR!H10 -> 0 | I64: =PUPR!I10 -> 0 | J64: =PUPR!J10 -> #DIV/0! | ... W64: =PUPR!W10 -> 0
A65: 3 | C65: =PUPR!C11 -> Persentase kawasan permukiman yang belum dapat dilalui kendaraan roda 4 | D65: =PUPR!D11 -> 0 | E65: =PUPR!E11 -> 0 | F65: =PUPR!F11 -> 0 | G65: =PUPR!G11 -> #DIV/0! | H65: =PUPR!H11 -> 0 | I65: =PUPR!I11 -> 0 | J65: =PUPR!J11 -> #DIV/0! | ... W65: =PUPR!W11 -> 0
A66: 4 | C66: =PUPR!C12 -> persentase jalan kabupaten dalam kondisi baik (>40 KM/Jam) | D66: =PUPR!D12 -> 0 | E66: =PUPR!E12 -> 0 | F66: =PUPR!F12 -> 0 | G66: =PUPR!G12 -> #DIV/0! | H66: =PUPR!H12 -> 0 | I66: =PUPR!I12 -> 0 | J66: =PUPR!J12 -> #DIV/0! | ... W66: =PUPR!W12 -> 0
...

Sheet Rekapitulasi Per Aspek
A1: Rekapitulasi Per Aspek
A3: No | B3: Aspek | C3: Bobot | D3: Rata-rata Capaian Kinerja | E3: Skor
A4: A | B4: Aspek Kesejahteraan Masyarakat | C4: 0.35 | D4: ='Aspek Kesejahteraan Masyarakat'!U51 -> #DIV/0! | E4: =C4*D4 -> #DIV/0!
A5: B | B5: Aspek Daya Saign Daerah | C5: 0.3 | D5: ='Aspek Daya Saing Daerah'!U16 -> #DIV/0! | E5: =C5*D5 -> #DIV/0!
A6: C | B6: Aspek Pelayanan Umum | C6: 0.35 | D6: ='Aspek Pelayanan Umum'!V363 -> #DIV/0! | E6: =C6*D6 -> #DIV/0!
A7: Total Skor | C7: 1 | D7: =AVERAGE(D4:D6) -> #DIV/0! | E7: =SUM(E4:E6) -> #DIV/0!
A8: Rata-Rata Capaian
A9: Predikat Kinerja
A10: Nilai Capaian Kinerja : | E10: =E7 -> #DIV/0!
A11: Kriteria Capaian Nilai Peringkat Kinerja : | E11: =IF(90%<=E10,"sangat baik",IF(75%<=E10<90%,"baik",IF(65%<=E10<75%,"sedang",IF(50%<=E10<65%,"kurang","sangat kurang")))) -> #DIV/0!

Sheet Pendidikan
D1: ASPEK PELAYANAN UMUM
A2: No | B2: Indikator Kinerja Program (Outcome) | D2: Kondisi Kinerja Awal RPJMD (Tahun 2012) | E2: Capaian Kinerja Program dan Kerangka Pendanaan | W2: SKPD Penanggung Jawab
E3: Tahun 2013 | H3: Tahun 2014 | K3: Tahun 2015 | N3: Tahun 2016 | Q3: Tahun 2017 | T3: Kondisi Pada akhir periode RPJMD
E4: target | F4: realisasi | G4: % | H4: target | I4: realisasi | J4: % | K4: target | L4: realisasi | M4: % | N4: target | O4: realisasi | P4: % | Q4: target | R4: realisasi | S4: % | T4: target | U4: realisasi | V4: %
A5: 1 | B5: 2 | D5: 3 | E5: 4 | F5: 5 | G5: 6 | H5: 7 | I5: 8 | J5: 9 | K5: 10 | L5: 11 | M5: 12 | N5: 13 | O5: 14 | P5: 15 | Q5: 16 | R5: 17 | S5: 18 | T5: 19 | U5: 20 | V5: 21 | W5: 22
A6: 1 | B6: Urusan Wajib Pelayanan Dasar | G6: =AVERAGE(G7,#REF!,#REF!,#REF!,#REF!,#REF!) -> #REF! | J6: =AVERAGE(J7,#REF!,#REF!,#REF!,#REF!,#REF!) -> #REF! | M6: =AVERAGE(M7,#REF!,#REF!,#REF!,#REF!,#REF!) -> #REF! | P6: =AVERAGE(P7,#REF!,#REF!,#REF!,#REF!,#REF!) -> #REF! | S6: =AVERAGE(S7,#REF!,#REF!,#REF!,#REF!,#REF!) -> #REF! | V6: =AVERAGE(V7,#REF!,#REF!,#REF!,#REF!,#REF!) -> #REF!
B7: a | C7: Pendidikan | G7: =AVERAGE(G8:G26) -> #DIV/0! | J7: =AVERAGE(J8:J26) -> #DIV/0! | M7: =AVERAGE(M8:M26) -> #DIV/0! | P7: =AVERAGE(P8:P26) -> #DIV/0! | S7: =AVERAGE(S8:S26) -> #DIV/0! | V7: =AVERAGE(V8:V26) -> #DIV/0!
A8: 1 | C8: Pendidikan Anak Usaha Dini | G8: =F8/E8 -> #DIV/0! | J8: =I8/H8 -> #DIV/0! | M8: =L8/K8 -> #DIV/0! | P8: =O8/N8 -> #DIV/0! | S8: =R8/Q8 -> #DIV/0! | V8: =U8/T8 -> #DIV/0!
A9: 2 | C9: Angka Partisipasi Kasar | G9: =F9/E9 -> #DIV/0! | J9: =I9/H9 -> #DIV/0! | M9: =L9/K9 -> #DIV/0! | P9: =O9/N9 -> #DIV/0! | S9: =R9/Q9 -> #DIV/0! | V9: =U9/T9 -> #DIV/0!
A10: 3 | C10: Angka Pendidikan yang ditamatkan | G10: =F10/E10 -> #DIV/0! | J10: =I10/H10 -> #DIV/0! | M10: =L10/K10 -> #DIV/0! | P10: =O10/N10 -> #DIV/0! | S10: =R10/Q10 -> #DIV/0! | V10: =U10/T10 -> #DIV/0!
A11: 4 | C11: Angka Partisipasi Murni | G11: =F11/E11 -> #DIV/0! | J11: =I11/H11 -> #DIV/0! | M11: =L11/K11 -> #DIV/0! | P11: =O11/N11 -> #DIV/0! | S11: =R11/Q11 -> #DIV/0! | V11: =U11/T11 -> #DIV/0!
A12: 5 | C12: Angka partisipasi Sekolah | G12: =F12/E12 -> #DIV/0! | J12: =I12/H12 -> #DIV/0! | M12: =L12/K12 -> #DIV/0! | P12: =O12/N12 -> #DIV/0! | S12: =R12/Q12 -> #DIV/0! | V12: =U12/T12 -> #DIV/0!
A13: 6 | C13: Angka Putus Sekolah | G13: =F13/E13 -> #DIV/0! | J13: =I13/H13 -> #DIV/0! | M13: =L13/K13 -> #DIV/0! | P13: =O13/N13 -> #DIV/0! | S13: =R13/Q13 -> #DIV/0! | V13: =U13/T13 -> #DIV/0!
A14: 7 | C14: Angka Kelulusan | G14: =F14/E14 -> #DIV/0! | J14: =I14/H14 -> #DIV/0! | M14: =L14/K14 -> #DIV/0! | P14: =O14/N14 -> #DIV/0! | S14: =R14/Q14 -> #DIV/0! | V14: =U14/T14 -> #DIV/0!
A15: 8 | C15: Angka Melanjutkan (AM) | G15: =F15/E15 -> #DIV/0! | J15: =I15/H15 -> #DIV/0! | M15: =L15/K15 -> #DIV/0! | P15: =O15/N15 -> #DIV/0! | S15: =R15/Q15 -> #DIV/0! | V15: =U15/T15 -> #DIV/0!
A16: 9 | C16: Fasilitas Pendidikan | G16: =F16/E16 -> #DIV/0! | J16: =I16/H16 -> #DIV/0! | M16: =L16/K16 -> #DIV/0! | P16: =O16/N16 -> #DIV/0! | S16: =R16/Q16 -> #DIV/0! | V16: =U16/T16 -> #DIV/0!
A17: 10 | C17: Rasio Ketersediaan Sekolah/Penduduk usia sekolah pendidikan dasar | G17: =F17/E17 -> #DIV/0! | J17: =I17/H17 -> #DIV/0! | M17: =L17/K17 -> #DIV/0! | P17: =O17/N17 -> #DIV/0! | S17: =R17/Q17 -> #DIV/0! | V17: =U17/T17 -> #DIV/0!
A18: 11 | C18: rasio ketersediaan sekolah terhadap penduduk usia sekolah pendidikan menengah | G18: =F18/E18 -> #DIV/0! | J18: =I18/H18 -> #DIV/0! | M18: =L18/K18 -> #DIV/0! | P18: =O18/N18 -> #DIV/0! | S18: =R18/Q18 -> #DIV/0! | V18: =U18/T18 -> #DIV/0!
A19: 12 | C19: rasio guru/murid sekolah pendidikan dasar | G19: =F19/E19 -> #DIV/0! | J19: =I19/H19 -> #DIV/0! | M19: =L19/K19 -> #DIV/0! | P19: =O19/N19 -> #DIV/0! | S19: =R19/Q19 -> #DIV/0! | V19: =U19/T19 -> #DIV/0!
... A26: 19 | C26: guru yang memenuhi kualifikasi S1 /DIV | G26: =F26/E26 -> #DIV/0! | J26: =I26/H26 -> #DIV/0! | M26: =L26/K26 -> #DIV/0! | P26: =O26/N26 -> #DIV/0! | S26: =R26/Q26 -> #DIV/0! | V26: =U26/T26 -> #DIV/0!
S28: Kepala OPD Penanggung Jawab
S31: ____________________________
S32: NIP.

Sheet Kesehatan
D1: ASPEK PELAYANAN UMUM
A2: No | B2: Indikator Kinerja Program (Outcome) | D2: Kondisi Kinerja Awal RPJMD (Tahun 2012) | E2: Capaian Kinerja Program dan Kerangka Pendanaan | W2: SKPD Penanggung Jawab
E3: Tahun 2013 | H3: Tahun 2014 | K3: Tahun 2015 | N3: Tahun 2016 | Q3: Tahun 2017 | T3: Kondisi Pada akhir periode RPJMD
E4: target | F4: realisasi | G4: % | H4: target | I4: realisasi | J4: % | K4: target | L4: realisasi | M4: % | N4: target | O4: realisasi | P4: % | Q4: target | R4: realisasi | S4: % | T4: target | U4: realisasi | V4: %
A5: 1 | B5: 2 | D5: 3 | E5: 4 | F5: 5 | G5: 6 | H5: 7 | I5: 8 | J5: 9 | K5: 10 | L5: 11 | M5: 12 | N5: 13 | O5: 14 | P5: 15 | Q5: 16 | R5: 17 | S5: 18 | T5: 19 | U5: 20 | V5: 21 | W5: 22
A6: 1 | B6: Urusan Wajib Pelayanan Dasar | G6: =AVERAGE(#REF!,G7,#REF!,#REF!,#REF!,#REF!) -> #REF! | J6: =AVERAGE(#REF!,J7,#REF!,#REF!,#REF!,#REF!) -> #REF! | M6: =AVERAGE(#REF!,M7,#REF!,#REF!,#REF!,#REF!) -> #REF! | P6: =AVERAGE(#REF!,P7,#REF!,#REF!,#REF!,#REF!) -> #REF! | S6: =AVERAGE(#REF!,S7,#REF!,#REF!,#REF!,#REF!) -> #REF! | V6: =AVERAGE(#REF!,V7,#REF!,#REF!,#REF!,#REF!) -> #REF!
B7: b | C7: Kesehatan | G7: =AVERAGE(G8:G40) -> #DIV/0! | J7: =AVERAGE(J8:J40) -> #DIV/0! | M7: =AVERAGE(M8:M40) -> #DIV/0! | P7: =AVERAGE(P8:P40) -> #DIV/0! | S7: =AVERAGE(S8:S40) -> #DIV/0! | V7: =AVERAGE(V8:V40) -> #DIV/0!
A8: 1 | C8: Angka Kematian Bayi (AKB) per 1.000 kelahiran hidup; | G8: =F8/E8 -> #DIV/0! | J8: =I8/H8 -> #DIV/0! | M8: =L8/K8 -> #DIV/0! | P8: =O8/N8 -> #DIV/0! | S8: =R8/Q8 -> #DIV/0! | V8: =U8/T8 -> #DIV/0!
A9: 2 | C9: Angka kelangsungan hidup bayi; | G9: =F9/E9 -> #DIV/0! | J9: =I9/H9 -> #DIV/0! | M9: =L9/K9 -> #DIV/0! | P9: =O9/N9 -> #DIV/0! | S9: =R9/Q9 -> #DIV/0! | V9: =U9/T9 -> #DIV/0!
A10: 3 | C10: Angka Kematian Balita per 1.000 kelahiran hidup; | G10: =F10/E10 -> #DIV/0! | J10: =I10/H10 -> #DIV/0! | M10: =L10/K10 -> #DIV/0! | P10: =O10/N10 -> #DIV/0! | S10: =R10/Q10 -> #DIV/0! | V10: =U10/T10 -> #DIV/0!
A11: 4 | C11: Angka Kematian Neonatal per 1.000 kelahiaran hidup; | G11: =F11/E11 -> #DIV/0! | J11: =I11/H11 -> #DIV/0! | M11: =L11/K11 -> #DIV/0! | P11: =O11/N11 -> #DIV/0! | S11: =R11/Q11 -> #DIV/0! | V11: =U11/T11 -> #DIV/0!
A12: 5 | C12: Angka Kematian Ibu per 100.000 kelahiran hidup; | G12: =F12/E12 -> #DIV/0! | J12: =I12/H12 -> #DIV/0! | M12: =L12/K12 -> #DIV/0! | P12: =O12/N12 -> #DIV/0! | S12: =R12/Q12 -> #DIV/0! | V12: =U12/T12 -> #DIV/0!
A13: 6 | C13: Rasio posyandu per satuan balita; | G13: =F13/E13 -> #DIV/0! | J13: =I13/H13 -> #DIV/0! | M13: =L13/K13 -> #DIV/0! | P13: =O13/N13 -> #DIV/0! | S13: =R13/Q13 -> #DIV/0! | V13: =U13/T13 -> #DIV/0!
A14: 7 | C14: Rasio puskesmas, poliklinik, pustu per satuan penduduk; | G14: =F14/E14 -> #DIV/0! | J14: =I14/H14 -> #DIV/0! | M14: =L14/K14 -> #DIV/0! | P14: =O14/N14 -> #DIV/0! | S14: =R14/Q14 -> #DIV/0! | V14: =U14/T14 -> #DIV/0!
A15: 8 | C15: Rasio Rumah Sakit per satuan penduduk; | G15: =F15/E15 -> #DIV/0! | J15: =I15/H15 -> #DIV/0! | M15: =L15/K15 -> #DIV/0! | P15: =O15/N15 -> #DIV/0! | S15: =R15/Q15 -> #DIV/0! | V15: =U15/T15 -> #DIV/0!
A16: 9 | C16: Rasio Dokter per satuan penduduk; | G16: =F16/E16 -> #DIV/0! | J16: =I16/H16 -> #DIV/0! | M16: =L16/K16 -> #DIV/0! | P16: =O16/N16 -> #DIV/0! | S16: =R16/Q16 -> #DIV/0! | V16: =U16/T16 -> #DIV/0!
A17: 10 | C17: Rasio Tenaga Medis per satuan penduduk; | G17: =F17/E17 -> #DIV/0! | J17: =I17/H17 -> #DIV/0! | M17: =L17/K17 -> #DIV/0! | P17: =O17/N17 -> #DIV/0! | S17: =R17/Q17 -> #DIV/0! | V17: =U17/T17 -> #DIV/0!
A18: 11 | C18: Cakupan komplikasi kebidanan yang ditangani; | G18: =F18/E18 -> #DIV/0! | J18: =I18/H18 -> #DIV/0! | M18: =L18/K18 -> #DIV/0! | P18: =O18/N18 -> #DIV/0! | S18: =R18/Q18 -> #DIV/0! | V18: =U18/T18 -> #DIV/0!
A19: 12 | C19: Cakupan pertolongan persalinan oleh tenaga kesehatan yang memiliki kompetensi kebidanan; | G19: =F19/E19 -> #DIV/0! | J19: =I19/H19 -> #DIV/0! | M19: =L19/K19 -> #DIV/0! | P19: =O19/N19 -> #DIV/0! | S19: =R19/Q19 -> #DIV/0! | V19: =U19/T19 -> #DIV/0!
... A40: 33 | C40: Cakupan pelayanan kesehatan rujukan pasien masyarakat miskin. | G40: =F40/E40 -> #DIV/0! | J40: =I40/H40 -> #DIV/0! | M40: =L40/K40 -> #DIV/0! | P40: =O40/N40 -> #DIV/0! | S40: =R40/Q40 -> #DIV/0! | V40: =U40/T40 -> #DIV/0!
S42: Kepala OPD Penanggung Jawab
S45: ____________________________
S46: NIP.

Sheet PUPR
D1: ASPEK PELAYANAN UMUM
A2: No | B2: Indikator Kinerja Program (Outcome) | D2: Kondisi Kinerja Awal RPJMD (Tahun 2012) | E2: Capaian Kinerja Program dan Kerangka Pendanaan | W2: SKPD Penanggung Jawab
E3: Tahun 2013 | H3: Tahun 2014 | K3: Tahun 2015 | N3: Tahun 2016 | Q3: Tahun 2017 | T3: Kondisi Pada akhir periode RPJMD
E4: target | F4: realisasi | G4: % | H4: target | I4: realisasi | J4: % | K4: target | L4: realisasi | M4: % | N4: target | O4: realisasi | P4: % | Q4: target | R4: realisasi | S4: % | T4: target | U4: realisasi | V4: %
A5: 1 | B5: 2 | D5: 3 | E5: 4 | F5: 5 | G5: 6 | H5: 7 | I5: 8 | J5: 9 | K5: 10 | L5: 11 | M5: 12 | N5: 13 | O5: 14 | P5: 15 | Q5: 16 | R5: 17 | S5: 18 | T5: 19 | U5: 20 | V5: 21 | W5: 22
A6: 1 | B6: Urusan Wajib Pelayanan Dasar | G6: =AVERAGE(#REF!,#REF!,G7,#REF!,#REF!,#REF!) -> #REF! | J6: =AVERAGE(#REF!,#REF!,J7,#REF!,#REF!,#REF!) -> #REF! | M6: =AVERAGE(#REF!,#REF!,M7,#REF!,#REF!,#REF!) -> #REF! | P6: =AVERAGE(#REF!,#REF!,P7,#REF!,#REF!,#REF!) -> #REF! | S6: =AVERAGE(#REF!,#REF!,S7,#REF!,#REF!,#REF!) -> #REF! | V6: =AVERAGE(#REF!,#REF!,V7,#REF!,#REF!,#REF!) -> #REF!
B7: c | C7: Pekerjaan Umum dan Penataan Ruang | G7: =AVERAGE(G8,G28) -> #DIV/0! | J7: =AVERAGE(J8,J28) -> #DIV/0! | M7: =AVERAGE(M8,M28) -> #DIV/0! | P7: =AVERAGE(P8,P28) -> #DIV/0! | S7: =AVERAGE(S8,S28) -> #DIV/0! | V7: =AVERAGE(V8,V28) -> #DIV/0!
B8: c.1 | C8: Pekerjaan Umum | G8: =AVERAGE(G9:G27) -> #DIV/0! | J8: =AVERAGE(J9:J27) -> #DIV/0! | M8: =AVERAGE(M9:M27) -> #DIV/0! | P8: =AVERAGE(P9:P27) -> #DIV/0! | S8: =AVERAGE(S9:S27) -> #DIV/0! | V8: =AVERAGE(V9:V27) -> #DIV/0!
A9: 1 | C9: proporsi panjang jaringan jalan dalam kondisi baik | G9: =F9/E9 -> #DIV/0! | J9: =I9/H9 -> #DIV/0! | M9: =L9/K9 -> #DIV/0! | P9: =O9/N9 -> #DIV/0! | S9: =R9/Q9 -> #DIV/0! | V9: =U9/T9 -> #DIV/0!
A10: 2 | C10: Rasio panjang Jalan dengan jumlah penduduk | G10: =F10/E10 -> #DIV/0! | J10: =I10/H10 -> #DIV/0! | M10: =L10/K10 -> #DIV/0! | P10: =O10/N10 -> #DIV/0! | S10: =R10/Q10 -> #DIV/0! | V10: =U10/T10 -> #DIV/0!
A11: 3 | C11: Persentase kawasan permukiman yang belum dapat dilalui kendaraan roda 4 | G11: =F11/E11 -> #DIV/0! | J11: =I11/H11 -> #DIV/0! | M11: =L11/K11 -> #DIV/0! | P11: =O11/N11 -> #DIV/0! | S11: =R11/Q11 -> #DIV/0! | V11: =U11/T11 -> #DIV/0!
A12: 4 | C12: persentase jalan kabupaten dalam kondisi baik (>40 KM/Jam) | G12: =F12/E12 -> #DIV/0! | J12: =I12/H12 -> #DIV/0! | M12: =L12/K12 -> #DIV/0! | P12: =O12/N12 -> #DIV/0! | S12: =R12/Q12 -> #DIV/0! | V12: =U12/T12 -> #DIV/0!
A13: 5 | C13: persentase jalan yang memiliki trotoar dan drainase/saluran pembuangan air (minimal 1,5 m) | G13: =F13/E13 -> #DIV/0! | J13: =I13/H13 -> #DIV/0! | M13: =L13/K13 -> #DIV/0! | P13: =O13/N13 -> #DIV/0! | S13: =R13/Q13 -> #DIV/0! | V13: =U13/T13 -> #DIV/0!
A14: 6 | C14: persentase sempedan jalan yang dipakai pedagang kaki lima atau bangunan rumah liar | G14: =F14/E14 -> #DIV/0! | J14: =I14/H14 -> #DIV/0! | M14: =L14/K14 -> #DIV/0! | P14: =O14/N14 -> #DIV/0! | S14: =R14/Q14 -> #DIV/0! | V14: =U14/T14 -> #DIV/0!
A15: 7 | C15: persentase rumah tinggal bersanitasi | G15: =F15/E15 -> #DIV/0! | J15: =I15/H15 -> #DIV/0! | M15: =L15/K15 -> #DIV/0! | P15: =O15/N15 -> #DIV/0! | S15: =R15/Q15 -> #DIV/0! | V15: =U15/T15 -> #DIV/0!
A16: 8 | C16: persentase sempedan sungai yang dipakai bangunan liar | G16: =F16/E16 -> #DIV/0! | J16: =I16/H16 -> #DIV/0! | M16: =L16/K16 -> #DIV/0! | P16: =O16/N16 -> #DIV/0! | S16: =R16/Q16 -> #DIV/0! | V16: =U16/T16 -> #DIV/0!
A17: 9 | C17: persentase drainase dalam kondisi baik/pembuangan aliran air tidak tersumbat | G17: =F17/E17 -> #DIV/0! | J17: =I17/H17 -> #DIV/0! | M17: =L17/K17 -> #DIV/0! | P17: =O17/N17 -> #DIV/0! | S17: =R17/Q17 -> #DIV/0! | V17: =U17/T17 -> #DIV/0!
A18: 10 | C18: tidak terjadi genangan >2 kali setahun | G18: =F18/E18 -> #DIV/0! | J18: =I18/H18 -> #DIV/0! | M18: =L18/K18 -> #DIV/0! | P18: =O18/N18 -> #DIV/0! | S18: =R18/Q18 -> #DIV/0! | V18: =U18/T18 -> #DIV/0!
A19: 11 | C19: persentase pembangunan turap diwilayah jalan penghubung dan aliran sungai rawan longsor | G19: =F19/E19 -> #DIV/0! | J19: =I19/H19 -> #DIV/0! | M19: =L19/K19 -> #DIV/0! | P19: =O19/N19 -> #DIV/0! | S19: =R19/Q19 -> #DIV/0! | V19: =U19/T19 -> #DIV/0!
A20: 12 | C20: persentase irigasi kabupaten dalam kondisi baik | G20: =F20/E20 -> #DIV/0! | J20: =I20/H20 -> #DIV/0! | M20: =L20/K20 -> #DIV/0! | P20: =O20/N20 -> #DIV/0! | S20: =R20/Q20 -> #DIV/0! | V20: =U20/T20 -> #DIV/0!
... A27: 19 | C27: rasio tempat ibadah persatuan penduduk | G27: =F27/E27 -> #DIV/0! | J27: =I27/H27 -> #DIV/0! | M27: =L27/K27 -> #DIV/0! | P27: =O27/N27 -> #DIV/0! | S27: =R27/Q27 -> #DIV/0! | V27: =U27/T27 -> #DIV/0!
B28: c.2 | C28: Penataan Ruang | G28: =AVERAGE(G29:G34) -> #DIV/0! | J28: =AVERAGE(J29:J34) -> #DIV/0! | M28: =AVERAGE(M29:M34) -> #DIV/0! | P28: =AVERAGE(P29:P34) -> #DIV/0! | S28: =AVERAGE(S29:S34) -> #DIV/0! | V28: =AVERAGE(V29:V34) -> #DIV/0!
A29: 1 | C29: Rasio ruang terbuka hijau persatuan luas wilayah ber HPL/HGB | G29: =F29/E29 -> #DIV/0! | J29: =I29/H29 -> #DIV/0! | M29: =L29/K29 -> #DIV/0! | P29: =O29/N29 -> #DIV/0! | S29: =R29/Q29 -> #DIV/0! | V29: =U29/T29 -> #DIV/0!
A30: 2 | C30: luas RTH publik sebesar 20% dari luas wilayah kota/kawasan perkotaan | G30: =F30/E30 -> #DIV/0! | J30: =I30/H30 -> #DIV/0! | M30: =L30/K30 -> #DIV/0! | P30: =O30/N30 -> #DIV/0! | S30: =R30/Q30 -> #DIV/0! | V30: =U30/T30 -> #DIV/0!
A31: 3 | C31: Rasio bangunan ber IMB persatuan bangunan | G31: =F31/E31 -> #DIV/0! | J31: =I31/H31 -> #DIV/0! | M31: =L31/K31 -> #DIV/0! | P31: =O31/N31 -> #DIV/0! | S31: =R31/Q31 -> #DIV/0! | V31: =U31/T31 -> #DIV/0!
A32: 4 | C32: ruang publik yang berubah peruntukannya | G32: =F32/E32 -> #DIV/0! | J32: =I32/H32 -> #DIV/0! | M32: =L32/K32 -> #DIV/0! | P32: =O32/N32 -> #DIV/0! | S32: =R32/Q32 -> #DIV/0! | V32: =U32/T32 -> #DIV/0!
A33: 5 | C33: rasio luas kawasan tertutup pepohonan berdasarkan hasil pemotretan citra satelit dan survei foto udara terhadap luas daratan | G33: =F33/E33 -> #DIV/0! | J33: =I33/H33 -> #DIV/0! | M33: =L33/K33 -> #DIV/0! | P33: =O33/N33 -> #DIV/0! | S33: =R33/Q33 -> #DIV/0! | V33: =U33/T33 -> #DIV/0!
A34: 6 | C34: ketaatan terhadap RTRW | G34: =F34/E34 -> #DIV/0! | J34: =I34/H34 -> #DIV/0! | M34: =L34/K34 -> #DIV/0! | P34: =O34/N34 -> #DIV/0! | S34: =R34/Q34 -> #DIV/0! | V34: =U34/T34 -> #DIV/0!
S36: Kepala OPD Penanggung Jawab
S39: ____________________________
S40: NIP.

Sheet Pera dan KP
D1: ASPEK PELAYANAN UMUM
A2: No | B2: Indikator Kinerja Program (Outcome) | D2: Kondisi Kinerja Awal RPJMD (Tahun 2012) | E2: Capaian Kinerja Program dan Kerangka Pendanaan | W2: SKPD Penanggung Jawab
E3: Tahun 2013 | H3: Tahun 2014 | K3: Tahun 2015 | N3: Tahun 2016 | Q3: Tahun 2017 | T3: Kondisi Pada akhir periode RPJMD
E4: target | F4: realisasi | G4: % | H4: target | I4: realisasi | J4: % | K4: target | L4: realisasi | M4: % | N4: target | O4: realisasi | P4: % | Q4: target | R4: realisasi | S4: % | T4: target | U4: realisasi | V4: %
A5: 1 | B5: 2 | D5: 3 | E5: 4 | F5: 5 | G5: 6 | H5: 7 | I5: 8 | J5: 9 | K5: 10 | L5: 11 | M5: 12 | N5: 13 | O5: 14 | P5: 15 | Q5: 16 | R5: 17 | S5: 18 | T5: 19 | U5: 20 | V5: 21 | W5: 22
A6: 1 | B6: Urusan Wajib Pelayanan Dasar | G6: =AVERAGE(#REF!,#REF!,#REF!,G7,#REF!,#REF!) -> #REF! | J6: =AVERAGE(#REF!,#REF!,#REF!,J7,#REF!,#REF!) -> #REF! | M6: =AVERAGE(#REF!,#REF!,#REF!,M7,#REF!,#REF!) -> #REF! | P6: =AVERAGE(#REF!,#REF!,#REF!,P7,#REF!,#REF!) -> #REF! | S6: =AVERAGE(#REF!,#REF!,#REF!,S7,#REF!,#REF!) -> #REF! | V6: =AVERAGE(#REF!,#REF!,#REF!,V7,#REF!,#REF!) -> #REF!
B7: d | C7: Perumahan Rakyat dan Kawasan Pemukiman | G7: =AVERAGE(G8:G16) -> #DIV/0! | J7: =AVERAGE(J8:J16) -> #DIV/0! | M7: =AVERAGE(M8:M16) -> #DIV/0! | P7: =AVERAGE(P8:P16) -> #DIV/0! | S7: =AVERAGE(S8:S16) -> #DIV/0! | V7: =AVERAGE(V8:V16) -> #DIV/0!
A8: 1 | C8: Rasio rumah layak huni | G8: =F8/E8 -> #DIV/0! | J8: =I8/H8 -> #DIV/0! | M8: =L8/K8 -> #DIV/0! | P8: =O8/N8 -> #DIV/0! | S8: =R8/Q8 -> #DIV/0! | V8: =U8/T8 -> #DIV/0!
A9: 2 | C9: rasio permukiman layak huni | G9: =F9/E9 -> #DIV/0! | J9: =I9/H9 -> #DIV/0! | M9: =L9/K9 -> #DIV/0! | P9: =O9/N9 -> #DIV/0! | S9: =R9/Q9 -> #DIV/0! | V9: =U9/T9 -> #DIV/0!
A10: 3 | C10: cakupan ketersediaan rumah layak huni | G10: =F10/E10 -> #DIV/0! | J10: =I10/H10 -> #DIV/0! | M10: =L10/K10 -> #DIV/0! | P10: =O10/N10 -> #DIV/0! | S10: =R10/Q10 -> #DIV/0! | V10: =U10/T10 -> #DIV/0!
A11: 4 | C11: cakupan layanan rumah layak huni yang terjangkau | G11: =F11/E11 -> #DIV/0! | J11: =I11/H11 -> #DIV/0! | M11: =L11/K11 -> #DIV/0! | P11: =O11/N11 -> #DIV/0! | S11: =R11/Q11 -> #DIV/0! | V11: =U11/T11 -> #DIV/0!
A12: 5 | C12: persentase pemukiman yang tertata | G12: =F12/E12 -> #DIV/0! | J12: =I12/H12 -> #DIV/0! | M12: =L12/K12 -> #DIV/0! | P12: =O12/N12 -> #DIV/0! | S12: =R12/Q12 -> #DIV/0! | V12: =U12/T12 -> #DIV/0!
A13: 6 | C13: persentase lingkungan pemukiman kumuh | G13: =F13/E13 -> #DIV/0! | J13: =I13/H13 -> #DIV/0! | M13: =L13/K13 -> #DIV/0! | P13: =O13/N13 -> #DIV/0! | S13: =R13/Q13 -> #DIV/0! | V13: =U13/T13 -> #DIV/0!
A14: 7 | C14: persentase luasan permukiman kumuh di kawasan perkotaan | G14: =F14/E14 -> #DIV/0! | J14: =I14/H14 -> #DIV/0! | M14: =L14/K14 -> #DIV/0! | P14: =O14/N14 -> #DIV/0! | S14: =R14/Q14 -> #DIV/0! | V14: =U14/T14 -> #DIV/0!
A15: 8 | C15: proporsi rumah tangga kumuh perkotaan | G15: =F15/E15 -> #DIV/0! | J15: =I15/H15 -> #DIV/0! | M15: =L15/K15 -> #DIV/0! | P15: =O15/N15 -> #DIV/0! | S15: =R15/Q15 -> #DIV/0! | V15: =U15/T15 -> #DIV/0!
A16: 9 | C16: cukupan lingkungan yang sehat dan aman yang didukung dengan PSU | G16: =F16/E16 -> #DIV/0! | J16: =I16/H16 -> #DIV/0! | M16: =L16/K16 -> #DIV/0! | P16: =O16/N16 -> #DIV/0! | S16: =R16/Q16 -> #DIV/0! | V16: =U16/T16 -> #DIV/0!
S18: Kepala OPD Penanggung Jawab
S21: ____________________________
S22: NIP.

Sheet Trantibumlinmas
D1: ASPEK PELAYANAN UMUM
A2: No | B2: Indikator Kinerja Program (Outcome) | D2: Kondisi Kinerja Awal RPJMD (Tahun 2012) | E2: Capaian Kinerja Program dan Kerangka Pendanaan | W2: SKPD Penanggung Jawab
E3: Tahun 2013 | H3: Tahun 2014 | K3: Tahun 2015 | N3: Tahun 2016 | Q3: Tahun 2017 | T3: Kondisi Pada akhir periode RPJMD
E4: target | F4: realisasi | G4: % | H4: target | I4: realisasi | J4: % | K4: target | L4: realisasi | M4: % | N4: target | O4: realisasi | P4: % | Q4: target | R4: realisasi | S4: % | T4: target | U4: realisasi | V4: %
A5: 1 | B5: 2 | D5: 3 | E5: 4 | F5: 5 | G5: 6 | H5: 7 | I5: 8 | J5: 9 | K5: 10 | L5: 11 | M5: 12 | N5: 13 | O5: 14 | P5: 15 | Q5: 16 | R5: 17 | S5: 18 | T5: 19 | U5: 20 | V5: 21 | W5: 22
A6: 1 | B6: Urusan Wajib Pelayanan Dasar | G6: =AVERAGE(#REF!,#REF!,#REF!,#REF!,G7,#REF!) -> #REF! | J6: =AVERAGE(#REF!,#REF!,#REF!,#REF!,J7,#REF!) -> #REF! | M6: =AVERAGE(#REF!,#REF!,#REF!,#REF!,M7,#REF!) -> #REF! | P6: =AVERAGE(#REF!,#REF!,#REF!,#REF!,P7,#REF!) -> #REF! | S6: =AVERAGE(#REF!,#REF!,#REF!,#REF!,S7,#REF!) -> #REF! | V6: =AVERAGE(#REF!,#REF!,#REF!,#REF!,V7,#REF!) -> #REF!
B7: e | C7: Ketenteraman, Ketertiban Umum, dan Perlindungan Masyarakat | G7: =AVERAGE(G8:G12) -> #DIV/0! | J7: =AVERAGE(J8:J12) -> #DIV/0! | M7: =AVERAGE(M8:M12) -> #DIV/0! | P7: =AVERAGE(P8:P12) -> #DIV/0! | S7: =AVERAGE(S8:S12) -> #DIV/0! | V7: =AVERAGE(V8:V12) -> #DIV/0!
A8: 1 | C8: Cakupan petugas Perlindungan Masyarakat (Linmas) | G8: =F8/E8 -> #DIV/0! | J8: =I8/H8 -> #DIV/0! | M8: =L8/K8 -> #DIV/0! | P8: =O8/N8 -> #DIV/0! | S8: =R8/Q8 -> #DIV/0! | V8: =U8/T8 -> #DIV/0!
A9: 2 | C9: Tingkat penyelesaian pelanggaran K3 (Ketertiban, ketentraman, keindahan) | G9: =F9/E9 -> #DIV/0! | J9: =I9/H9 -> #DIV/0! | M9: =L9/K9 -> #DIV/0! | P9: =O9/N9 -> #DIV/0! | S9: =R9/Q9 -> #DIV/0! | V9: =U9/T9 -> #DIV/0!
A10: 3 | C10: Cakupan pelayanan bencana kebakaran kabupaten/kota | G10: =F10/E10 -> #DIV/0! | J10: =I10/H10 -> #DIV/0! | M10: =L10/K10 -> #DIV/0! | P10: =O10/N10 -> #DIV/0! | S10: =R10/Q10 -> #DIV/0! | V10: =U10/T10 -> #DIV/0!
A11: 4 | C11: Tingkat waktu tanggap (response time rate) daerah layanan Wilayah Manajemen Kebakaran (WMK) | G11: =F11/E11 -> #DIV/0! | J11: =I11/H11 -> #DIV/0! | M11: =L11/K11 -> #DIV/0! | P11: =O11/N11 -> #DIV/0! | S11: =R11/Q11 -> #DIV/0! | V11: =U11/T11 -> #DIV/0!
A12: 5 | C12: Persentase Penegakan PERDA | G12: =F12/E12 -> #DIV/0! | J12: =I12/H12 -> #DIV/0! | M12: =L12/K12 -> #DIV/0! | P12: =O12/N12 -> #DIV/0! | S12: =R12/Q12 -> #DIV/0! | V12: =U12/T12 -> #DIV/0!
S14: Kepala OPD Penanggung Jawab
S17: ____________________________
S18: NIP.

Sheet Sosial
D1: ASPEK PELAYANAN UMUM
A2: No | B2: Indikator Kinerja Program (Outcome) | D2: Kondisi Kinerja Awal RPJMD (Tahun 2012) | E2: Capaian Kinerja Program dan Kerangka Pendanaan | W2: SKPD Penanggung Jawab
E3: Tahun 2013 | H3: Tahun 2014 | K3: Tahun 2015 | N3: Tahun 2016 | Q3: Tahun 2017 | T3: Kondisi Pada akhir periode RPJMD
E4: target | F4: realisasi | G4: % | H4: target | I4: realisasi | J4: % | K4: target | L4: realisasi | M4: % | N4: target | O4: realisasi | P4: % | Q4: target | R4: realisasi | S4: % | T4: target | U4: realisasi | V4: %
A5: 1 | B5: 2 | D5: 3 | E5: 4 | F5: 5 | G5: 6 | H5: 7 | I5: 8 | J5: 9 | K5: 10 | L5: 11 | M5: 12 | N5: 13 | O5: 14 | P5: 15 | Q5: 16 | R5: 17 | S5: 18 | T5: 19 | U5: 20 | V5: 21 | W5: 22
A6: 1 | B6: Urusan Wajib Pelayanan Dasar | G6: =AVERAGE(#REF!,#REF!,#REF!,#REF!,#REF!,G7) -> #REF! | J6: =AVERAGE(#REF!,#REF!,#REF!,#REF!,#REF!,J7) -> #REF! | M6: =AVERAGE(#REF!,#REF!,#REF!,#REF!,#REF!,M7) -> #REF! | P6: =AVERAGE(#REF!,#REF!,#REF!,#REF!,#REF!,P7) -> #REF! | S6: =AVERAGE(#REF!,#REF!,#REF!,#REF!,#REF!,S7) -> #REF! | V6: =AVERAGE(#REF!,#REF!,#REF!,#REF!,#REF!,V7) -> #REF!
B7: f | C7: Sosial | G7: =AVERAGE(G8:G16) -> #DIV/0! | J7: =AVERAGE(J8:J16) -> #DIV/0! | M7: =AVERAGE(M8:M16) -> #DIV/0! | P7: =AVERAGE(P8:P16) -> #DIV/0! | S7: =AVERAGE(S8:S16) -> #DIV/0! | V7: =AVERAGE(V8:V16) -> #DIV/0!
A8: 1 | C8: Persentase PMKS yang memperoleh bantuan sosial; | G8: =F8/E8 -> #DIV/0! | J8: =I8/H8 -> #DIV/0! | M8: =L8/K8 -> #DIV/0! | P8: =O8/N8 -> #DIV/0! | S8: =R8/Q8 -> #DIV/0! | V8: =U8/T8 -> #DIV/0!
A9: 2 | C9: Persentase PMKS yang tertangani; | G9: =F9/E9 -> #DIV/0! | J9: =I9/H9 -> #DIV/0! | M9: =L9/K9 -> #DIV/0! | P9: =O9/N9 -> #DIV/0! | S9: =R9/Q9 -> #DIV/0! | V9: =U9/T9 -> #DIV/0!
A10: 3 | C10: Persentase PMKS skala yang memperoleh bantuan sosial untuk pemenuhan kebutuhan dasar; | G10: =F10/E10 -> #DIV/0! | J10: =I10/H10 -> #DIV/0! | M10: =L10/K10 -> #DIV/0! | P10: =O10/N10 -> #DIV/0! | S10: =R10/Q10 -> #DIV/0! | V10: =U10/T10 -> #DIV/0!
A11: 4 | C11: Persentase panti sosial yang menerima program pemberdayaan sosial melalui kelompok usaha bersama (KUBE) atau kelompok sosial ekonomi sejenis lainnya; | G11: =F11/E11 -> #DIV/0! | J11: =I11/H11 -> #DIV/0! | M11: =L11/K11 -> #DIV/0! | P11: =O11/N11 -> #DIV/0! | S11: =R11/Q11 -> #DIV/0! | V11: =U11/T11 -> #DIV/0!
A12: 5 | C12: Persentase panti sosial yang menyediakan sarana prasarana pelayanan kesehatan sosial; | G12: =F12/E12 -> #DIV/0! | J12: =I12/H12 -> #DIV/0! | M12: =L12/K12 -> #DIV/0! | P12: =O12/N12 -> #DIV/0! | S12: =R12/Q12 -> #DIV/0! | V12: =U12/T12 -> #DIV/0!
A13: 6 | C13: Persentase wahana kesejahteraan sosial berbasis masyarakat (WKBSM) yang menyediakan sarana prasarana pelayanan kesejahteraan sosial; | G13: =F13/E13 -> #DIV/0! | J13: =I13/H13 -> #DIV/0! | M13: =L13/K13 -> #DIV/0! | P13: =O13/N13 -> #DIV/0! | S13: =R13/Q13 -> #DIV/0! | V13: =U13/T13 -> #DIV/0!
A14: 7 | C14: Persentase korban bencana yang menerima bantuan sosial selama masa tanggap darurat; | G14: =F14/E14 -> #DIV/0! | J14: =I14/H14 -> #DIV/0! | M14: =L14/K14 -> #DIV/0! | P14: =O14/N14 -> #DIV/0! | S14: =R14/Q14 -> #DIV/0! | V14: =U14/T14 -> #DIV/0!
A15: 8 | C15: Persentase korban bencana yang dievakuasi dengan menggunakan sarana prasarana tanggap darurat lengkap; | G15: =F15/E15 -> #DIV/0! | J15: =I15/H15 -> #DIV/0! | M15: =L15/K15 -> #DIV/0! | P15: =O15/N15 -> #DIV/0! | S15: =R15/Q15 -> #DIV/0! | V15: =U15/T15 -> #DIV/0!
A16: 9 | C16: Persentase penyandang cacat fisik dan mental, serta lanjut usia tidak potensial yang telah menerima jaminan sosial. | G16: =F16/E16 -> #DIV/0! | J16: =I16/H16 -> #DIV/0! | M16: =L16/K16 -> #DIV/0! | P16: =O16/N16 -> #DIV/0! | S16: =R16/Q16 -> #DIV/0! | V16: =U16/T16 -> #DIV/0!
S18: Kepala OPD Penanggung Jawab
S21: ____________________________
S22: NIP.

Sheet Tenaga Kerja
D1: ASPEK PELAYANAN UMUM
A2: No | B2: Indikator Kinerja Program (Outcome) | D2: Kondisi Kinerja Awal RPJMD (Tahun 2012) | E2: Capaian Kinerja Program dan Kerangka Pendanaan | W2: SKPD Penanggung Jawab
E3: Tahun 2013 | H3: Tahun 2014 | K3: Tahun 2015 | N3: Tahun 2016 | Q3: Tahun 2017 | T3: Kondisi Pada akhir periode RPJMD
E4: target | F4: realisasi | G4: % | H4: target | I4: realisasi | J4: % | K4: target | L4: realisasi | M4: % | N4: target | O4: realisasi | P4: % | Q4: target | R4: realisasi | S4: % | T4: target | U4: realisasi | V4: %
A5: 1 | B5: 2 | D5: 3 | E5: 4 | F5: 5 | G5: 6 | H5: 7 | I5: 8 | J5: 9 | K5: 10 | L5: 11 | M5: 12 | N5: 13 | O5: 14 | P5: 15 | Q5: 16 | R5: 17 | S5: 18 | T5: 19 | U5: 20 | V5: 21 | W5: 22
A6: 2 | B6: Urusan Wajib Non Pelayanan Dasar | G6: =AVERAGE(G7,#REF!,#REF!,#REF!,#REF!,#REF!,#REF!,#REF!,#REF!,#REF!,#REF!,#REF!,#REF!,#REF!,#REF!,#REF!,#REF!,#REF!) -> #REF! | J6: =AVERAGE(J7,#REF!,#REF!,#REF!,#REF!,#REF!,#REF!,#REF!,#REF!,#REF!,#REF!,#REF!,#REF!,#REF!,#REF!,#REF!,#REF!,#REF!) -> #REF! | M6: =AVERAGE(M7,#REF!,#REF!,#REF!,#REF!,#REF!,#REF!,#REF!,#REF!,#REF!,#REF!,#REF!,#REF!,#REF!,#REF!,#REF!,#REF!,#REF!) -> #REF! | P6: =AVERAGE(P7,#REF!,#REF!,#REF!,#REF!,#REF!,#REF!,#REF!,#REF!,#REF!,#REF!,#REF!,#REF!,#REF!,#REF!,#REF!,#REF!,#REF!) -> #REF! | S6: =AVERAGE(S7,#REF!,#REF!,#REF!,#REF!,#REF!,#REF!,#REF!,#REF!,#REF!,#REF!,#REF!,#REF!,#REF!,#REF!,#REF!,#REF!,#REF!) -> #REF! | V6: =AVERAGE(V7,#REF!,#REF!,#REF!,#REF!,#REF!,#REF!,#REF!,#REF!,#REF!,#REF!,#REF!,#REF!,#REF!,#REF!,#REF!,#REF!,#REF!) -> #REF!
B7: a | C7: Tenaga Kerja | G7: =AVERAGE(G8:G19) -> #DIV/0! | J7: =AVERAGE(J8:J19) -> #DIV/0! | M7: =AVERAGE(M8:M19) -> #DIV/0! | P7: =AVERAGE(P8:P19) -> #DIV/0! | S7: =AVERAGE(S8:S19) -> #DIV/0! | V7: =AVERAGE(V8:V19) -> #DIV/0!
A8: 1 | C8: Angka sengketa pengusaha-pekerja per tahun; | G8: =F8/E8 -> #DIV/0! | J8: =I8/H8 -> #DIV/0! | M8: =L8/K8 -> #DIV/0! | P8: =O8/N8 -> #DIV/0! | S8: =R8/Q8 -> #DIV/0! | V8: =U8/T8 -> #DIV/0!
A9: 2 | C9: Besaran kasus yang diselesaikan dengan Perjanjian Bersama (PB); | G9: =F9/E9 -> #DIV/0! | J9: =I9/H9 -> #DIV/0! | M9: =L9/K9 -> #DIV/0! | P9: =O9/N9 -> #DIV/0! | S9: =R9/Q9 -> #DIV/0! | V9: =U9/T9 -> #DIV/0!
A10: 3 | C10: Besaran pencari kerja yang terdaftar yang ditempatkan; | G10: =F10/E10 -> #DIV/0! | J10: =I10/H10 -> #DIV/0! | M10: =L10/K10 -> #DIV/0! | P10: =O10/N10 -> #DIV/0! | S10: =R10/Q10 -> #DIV/0! | V10: =U10/T10 -> #DIV/0!
A11: 4 | C11: Keselamatan dan perlindungan; | G11: =F11/E11 -> #DIV/0! | J11: =I11/H11 -> #DIV/0! | M11: =L11/K11 -> #DIV/0! | P11: =O11/N11 -> #DIV/0! | S11: =R11/Q11 -> #DIV/0! | V11: =U11/T11 -> #DIV/0!
A12: 5 | C12: Besaran pekerja/buruh yang menjadi peserta program Jamsostek; | G12: =F12/E12 -> #DIV/0! | J12: =I12/H12 -> #DIV/0! | M12: =L12/K12 -> #DIV/0! | P12: =O12/N12 -> #DIV/0! | S12: =R12/Q12 -> #DIV/0! | V12: =U12/T12 -> #DIV/0!
A13: 6 | C13: Perselisihan buruh dan pengusaha terhadap kebijakan pemerintah daerah; | G13: =F13/E13 -> #DIV/0! | J13: =I13/H13 -> #DIV/0! | M13: =L13/K13 -> #DIV/0! | P13: =O13/N13 -> #DIV/0! | S13: =R13/Q13 -> #DIV/0! | V13: =U13/T13 -> #DIV/0!
A14: 7 | C14: Besaran Pemeriksaan Perusahaan; | G14: =F14/E14 -> #DIV/0! | J14: =I14/H14 -> #DIV/0! | M14: =L14/K14 -> #DIV/0! | P14: =O14/N14 -> #DIV/0! | S14: =R14/Q14 -> #DIV/0! | V14: =U14/T14 -> #DIV/0!
A15: 8 | C15: Besaran pengujian peralatan di perusahaan; | G15: =F15/E15 -> #DIV/0! | J15: =I15/H15 -> #DIV/0! | M15: =L15/K15 -> #DIV/0! | P15: =O15/N15 -> #DIV/0! | S15: =R15/Q15 -> #DIV/0! | V15: =U15/T15 -> #DIV/0!
A16: 9 | C16: Besaran tenaga kerja yang mendapatkan pelatihan berbasis kompetensi; | G16: =F16/E16 -> #DIV/0! | J16: =I16/H16 -> #DIV/0! | M16: =L16/K16 -> #DIV/0! | P16: =O16/N16 -> #DIV/0! | S16: =R16/Q16 -> #DIV/0! | V16: =U16/T16 -> #DIV/0!
A17: 10 | C17: Besaran tenaga kerja yang mendapatkan pelatihan berbasis masyarakat; | G17: =F17/E17 -> #DIV/0! | J17: =I17/H17 -> #DIV/0! | M17: =L17/K17 -> #DIV/0! | P17: =O17/N17 -> #DIV/0! | S17: =R17/Q17 -> #DIV/0! | V17: =U17/T17 -> #DIV/0!
A18: 11 | C18: Besaran tenaga kerja yang mendapatkan pelatihan kewirausahaan; dan | G18: =F18/E18 -> #DIV/0! | J18: =I18/H18 -> #DIV/0! | M18: =L18/K18 -> #DIV/0! | P18: =O18/N18 -> #DIV/0! | S18: =R18/Q18 -> #DIV/0! | V18: =U18/T18 -> #DIV/0!
A19: 12 | C19: Rasio lulusan S1/S2/S3. | G19: =F19/E19 -> #DIV/0! | J19: =I19/H19 -> #DIV/0! | M19: =L19/K19 -> #DIV/0! | P19: =O19/N19 -> #DIV/0! | S19: =R19/Q19 -> #DIV/0! | V19: =U19/T19 -> #DIV/0!
S21: Kepala OPD Penanggung Jawab
S24: ____________________________
S25: NIP.

Sheet PPPA
D1: ASPEK PELAYANAN UMUM
A2: No | B2: Indikator Kinerja Program (Outcome) | D2: Kondisi Kinerja Awal RPJMD (Tahun 2012) | E2: Capaian Kinerja Program dan Kerangka Pendanaan | W2: SKPD Penanggung Jawab
E3: Tahun 2013 | H3: Tahun 2014 | K3: Tahun 2015 | N3: Tahun 2016 | Q3: Tahun 2017 | T3: Kondisi Pada akhir periode RPJMD
E4: target | F4: realisasi | G4: % | H4: target | I4: realisasi | J4: % | K4: target | L4: realisasi | M4: % | N4: target | O4: realisasi | P4: % | Q4: target | R4: realisasi | S4: % | T4: target | U4: realisasi | V4: %
A5: 1 | B5: 2 | D5: 3 | E5: 4 | F5: 5 | G5: 6 | H5: 7 | I5: 8 | J5: 9 | K5: 10 | L5: 11 | M5: 12 | N5: 13 | O5: 14 | P5: 15 | Q5: 16 | R5: 17 | S5: 18 | T5: 19 | U5: 20 | V5: 21 | W5: 22
A6: 2 | B6: Urusan Wajib Non Pelayanan Dasar | G6: =AVERAGE(#REF!,G7,#REF!,#REF!,#REF!,#REF!,#REF!,#REF!,#REF!,#REF!,#REF!,#REF!,#REF!,#REF!,#REF!,#REF!,#REF!,#REF!) -> #REF! | J6: =AVERAGE(#REF!,J7,#REF!,#REF!,#REF!,#REF!,#REF!,#REF!,#REF!,#REF!,#REF!,#REF!,#REF!,#REF!,#REF!,#REF!,#REF!,#REF!) -> #REF! | M6: =AVERAGE(#REF!,M7,#REF!,#REF!,#REF!,#REF!,#REF!,#REF!,#REF!,#REF!,#REF!,#REF!,#REF!,#REF!,#REF!,#REF!,#REF!,#REF!) -> #REF! | P6: =AVERAGE(#REF!,P7,#REF!,#REF!,#REF!,#REF!,#REF!,#REF!,#REF!,#REF!,#REF!,#REF!,#REF!,#REF!,#REF!,#REF!,#REF!,#REF!) -> #REF! | S6: =AVERAGE(#REF!,S7,#REF!,#REF!,#REF!,#REF!,#REF!,#REF!,#REF!,#REF!,#REF!,#REF!,#REF!,#REF!,#REF!,#REF!,#REF!,#REF!) -> #REF! | V6: =AVERAGE(#REF!,V7,#REF!,#REF!,#REF!,#REF!,#REF!,#REF!,#REF!,#REF!,#REF!,#REF!,#REF!,#REF!,#REF!,#REF!,#REF!,#REF!) -> #REF!
B7: b | C7: Pemberdayaan Perempuan dan Perlindungan Anak | G7: =AVERAGE(G8:G26) -> #DIV/0! | J7: =AVERAGE(J8:J26) -> #DIV/0! | M7: =AVERAGE(M8:M26) -> #DIV/0! | P7: =AVERAGE(P8:P26) -> #DIV/0! | S7: =AVERAGE(S8:S26) -> #DIV/0! | V7: =AVERAGE(V8:V26) -> #DIV/0!
A8: 1 | C8: Persentase partisipasi perempuan di lembaga pemerintah; | G8: =F8/E8 -> #DIV/0! | J8: =I8/H8 -> #DIV/0! | M8: =L8/K8 -> #DIV/0! | P8: =O8/N8 -> #DIV/0! | S8: =R8/Q8 -> #DIV/0! | V8: =U8/T8 -> #DIV/0!
A9: 2 | C9: Proporsi kursi yang diduduki perempuan di DPR; | G9: =F9/E9 -> #DIV/0! | J9: =I9/H9 -> #DIV/0! | M9: =L9/K9 -> #DIV/0! | P9: =O9/N9 -> #DIV/0! | S9: =R9/Q9 -> #DIV/0! | V9: =U9/T9 -> #DIV/0!
A10: 3 | C10: Partisipasi perempuan di lembaga swasta; | G10: =F10/E10 -> #DIV/0! | J10: =I10/H10 -> #DIV/0! | M10: =L10/K10 -> #DIV/0! | P10: =O10/N10 -> #DIV/0! | S10: =R10/Q10 -> #DIV/0! | V10: =U10/T10 -> #DIV/0!
A11: 4 | C11: Rasio KDRT | G11: =F11/E11 -> #DIV/0! | J11: =I11/H11 -> #DIV/0! | M11: =L11/K11 -> #DIV/0! | P11: =O11/N11 -> #DIV/0! | S11: =R11/Q11 -> #DIV/0! | V11: =U11/T11 -> #DIV/0!
A12: 5 | C12: Persentase jumlah tenaga kerja dibawah umur; | G12: =F12/E12 -> #DIV/0! | J12: =I12/H12 -> #DIV/0! | M12: =L12/K12 -> #DIV/0! | P12: =O12/N12 -> #DIV/0! | S12: =R12/Q12 -> #DIV/0! | V12: =U12/T12 -> #DIV/0!
A13: 6 | C13: Partisipasi angkatan kerja perempuan; | G13: =F13/E13 -> #DIV/0! | J13: =I13/H13 -> #DIV/0! | M13: =L13/K13 -> #DIV/0! | P13: =O13/N13 -> #DIV/0! | S13: =R13/Q13 -> #DIV/0! | V13: =U13/T13 -> #DIV/0!
A14: 7 | C14: Cakupan perempuan dan anak korban kekerasan yang mendapatkan penanganan pengaduan oleh petugas terlatih didalam unit pelayanan terpadu; | G14: =F14/E14 -> #DIV/0! | J14: =I14/H14 -> #DIV/0! | M14: =L14/K14 -> #DIV/0! | P14: =O14/N14 -> #DIV/0! | S14: =R14/Q14 -> #DIV/0! | V14: =U14/T14 -> #DIV/0!
A15: 8 | C15: Cakupan perempuan dan anak korban kekerasan yang mendapatkan layanan kesehatan oleh tenaga kesehatan terlatih di Puskesmas mampu tatalaksana KtP/A dan PPT/PKT di Rumah Sakit; | G15: =F15/E15 -> #DIV/0! | J15: =I15/H15 -> #DIV/0! | M15: =L15/K15 -> #DIV/0! | P15: =O15/N15 -> #DIV/0! | S15: =R15/Q15 -> #DIV/0! | V15: =U15/T15 -> #DIV/0!
A16: 9 | C16: Cakupan layanan rehabilitasi sosial yang diberikan oleh petugas rehabilitasi sosial terlatih bagi perempuan dan anak korban kekerasan di dalam unit pelayanan terpadu; | G16: =F16/E16 -> #DIV/0! | J16: =I16/H16 -> #DIV/0! | M16: =L16/K16 -> #DIV/0! | P16: =O16/N16 -> #DIV/0! | S16: =R16/Q16 -> #DIV/0! | V16: =U16/T16 -> #DIV/0!
A17: 10 | C17: Cakupan penegakan hukum dari tingkat penyidikan sampai dengan putusan pengadilan atas kasus-kasus kekerasan terhadap perempuan dan anak; | G17: =F17/E17 -> #DIV/0! | J17: =I17/H17 -> #DIV/0! | M17: =L17/K17 -> #DIV/0! | P17: =O17/N17 -> #DIV/0! | S17: =R17/Q17 -> #DIV/0! | V17: =U17/T17 -> #DIV/0!
A18: 11 | C18: Cakupan perempuan dan anak korban kekerasan yang mendapatkan layanan bantuan hukum; | G18: =F18/E18 -> #DIV/0! | J18: =I18/H18 -> #DIV/0! | M18: =L18/K18 -> #DIV/0! | P18: =O18/N18 -> #DIV/0! | S18: =R18/Q18 -> #DIV/0! | V18: =U18/T18 -> #DIV/0!
A19: 12 | C19: Cakupan layanan pemulangan bagi perempuan dan anak korban kekerasan; | G19: =F19/E19 -> #DIV/0! | J19: =I19/H19 -> #DIV/0! | M19: =L19/K19 -> #DIV/0! | P19: =O19/N19 -> #DIV/0! | S19: =R19/Q19 -> #DIV/0! | V19: =U19/T19 -> #DIV/0!
... A26: 19 | C26: Kontribusi perempuan dalam pekerjaan upahan di sector nonpertanian. | G26: =F26/E26 -> #DIV/0! | J26: =I26/H26 -> #DIV/0! | M26: =L26/K26 -> #DIV/0! | P26: =O26/N26 -> #DIV/0! | S26: =R26/Q26 -> #DIV/0! | V26: =U26/T26 -> #DIV/0!
S28: Kepala OPD Penanggung Jawab
S31: ____________________________
S32: NIP.

Sheet Pangan
D1: ASPEK PELAYANAN UMUM
A2: No | B2: Indikator Kinerja Program (Outcome) | D2: Kondisi Kinerja Awal RPJMD (Tahun 2012) | E2: Capaian Kinerja Program dan Kerangka Pendanaan | W2: SKPD Penanggung Jawab
E3: Tahun 2013 | H3: Tahun 2014 | K3: Tahun 2015 | N3: Tahun 2016 | Q3: Tahun 2017 | T3: Kondisi Pada akhir periode RPJMD
E4: target | F4: realisasi | G4: % | H4: target | I4: realisasi | J4: % | K4: target | L4: realisasi | M4: % | N4: target | O4: realisasi | P4: % | Q4: target | R4: realisasi | S4: % | T4: target | U4: realisasi | V4: %
A5: 1 | B5: 2 | D5: 3 | E5: 4 | F5: 5 | G5: 6 | H5: 7 | I5: 8 | J5: 9 | K5: 10 | L5: 11 | M5: 12 | N5: 13 | O5: 14 | P5: 15 | Q5: 16 | R5: 17 | S5: 18 | T5: 19 | U5: 20 | V5: 21 | W5: 22
A6: 2 | B6: Urusan Wajib Non Pelayanan Dasar | G6: =AVERAGE(#REF!,#REF!,G7,#REF!,#REF!,#REF!,#REF!,#REF!,#REF!,#REF!,#REF!,#REF!,#REF!,#REF!,#REF!,#REF!,#REF!,#REF!) -> #REF! | J6: =AVERAGE(#REF!,#REF!,J7,#REF!,#REF!,#REF!,#REF!,#REF!,#REF!,#REF!,#REF!,#REF!,#REF!,#REF!,#REF!,#REF!,#REF!,#REF!) -> #REF! | M6: =AVERAGE(#REF!,#REF!,M7,#REF!,#REF!,#REF!,#REF!,#REF!,#REF!,#REF!,#REF!,#REF!,#REF!,#REF!,#REF!,#REF!,#REF!,#REF!) -> #REF! | P6: =AVERAGE(#REF!,#REF!,P7,#REF!,#REF!,#REF!,#REF!,#REF!,#REF!,#REF!,#REF!,#REF!,#REF!,#REF!,#REF!,#REF!,#REF!,#REF!) -> #REF! | S6: =AVERAGE(#REF!,#REF!,S7,#REF!,#REF!,#REF!,#REF!,#REF!,#REF!,#REF!,#REF!,#REF!,#REF!,#REF!,#REF!,#REF!,#REF!,#REF!) -> #REF! | V6: =AVERAGE(#REF!,#REF!,V7,#REF!,#REF!,#REF!,#REF!,#REF!,#REF!,#REF!,#REF!,#REF!,#REF!,#REF!,#REF!,#REF!,#REF!,#REF!) -> #REF!
B7: c | C7: Pangan | G7: =AVERAGE(G8:G10) -> #DIV/0! | J7: =AVERAGE(J8:J10) -> #DIV/0! | M7: =AVERAGE(M8:M10) -> #DIV/0! | P7: =AVERAGE(P8:P10) -> #DIV/0! | S7: =AVERAGE(S8:S10) -> #DIV/0! | V7: =AVERAGE(V8:V10) -> #DIV/0!
A8: 1 | C8: Ketersediaan pangan Utama | G8: =F8/E8 -> #DIV/0! | J8: =I8/H8 -> #DIV/0! | M8: =L8/K8 -> #DIV/0! | P8: =O8/N8 -> #DIV/0! | S8: =R8/Q8 -> #DIV/0! | V8: =U8/T8 -> #DIV/0!
A9: 2 | C9: Ketersediaan energi dan protein perkapita | G9: =F9/E9 -> #DIV/0! | J9: =I9/H9 -> #DIV/0! | M9: =L9/K9 -> #DIV/0! | P9: =O9/N9 -> #DIV/0! | S9: =R9/Q9 -> #DIV/0! | V9: =U9/T9 -> #DIV/0!
A10: 3 | C10: Pengawasan dan pembinaan keamanan pangan | G10: =F10/E10 -> #DIV/0! | J10: =I10/H10 -> #DIV/0! | M10: =L10/K10 -> #DIV/0! | P10: =O10/N10 -> #DIV/0! | S10: =R10/Q10 -> #DIV/0! | V10: =U10/T10 -> #DIV/0!
S12: Kepala OPD Penanggung Jawab
S15: ____________________________
S16: NIP.

Sheet Pertanahan
D1: ASPEK PELAYANAN UMUM
A2: No | B2: Indikator Kinerja Program (Outcome) | D2: Kondisi Kinerja Awal RPJMD (Tahun 2012) | E2: Capaian Kinerja Program dan Kerangka Pendanaan | W2: SKPD Penanggung Jawab
E3: Tahun 2013 | H3: Tahun 2014 | K3: Tahun 2015 | N3: Tahun 2016 | Q3: Tahun 2017 | T3: Kondisi Pada akhir periode RPJMD
E4: target | F4: realisasi | G4: % | H4: target | I4: realisasi | J4: % | K4: target | L4: realisasi | M4: % | N4: target | O4: realisasi | P4: % | Q4: target | R4: realisasi | S4: % | T4: target | U4: realisasi | V4: %
A5: 1 | B5: 2 | D5: 3 | E5: 4 | F5: 5 | G5: 6 | H5: 7 | I5: 8 | J5: 9 | K5: 10 | L5: 11 | M5: 12 | N5: 13 | O5: 14 | P5: 15 | Q5: 16 | R5: 17 | S5: 18 | T5: 19 | U5: 20 | V5: 21 | W5: 22
A6: 2 | B6: Urusan Wajib Non Pelayanan Dasar | G6: =AVERAGE(#REF!,#REF!,#REF!,G7,#REF!,#REF!,#REF!,#REF!,#REF!,#REF!,#REF!,#REF!,#REF!,#REF!,#REF!,#REF!,#REF!,#REF!) -> #REF! | J6: =AVERAGE(#REF!,#REF!,#REF!,J7,#REF!,#REF!,#REF!,#REF!,#REF!,#REF!,#REF!,#REF!,#REF!,#REF!,#REF!,#REF!,#REF!,#REF!) -> #REF! | M6: =AVERAGE(#REF!,#REF!,#REF!,M7,#REF!,#REF!,#REF!,#REF!,#REF!,#REF!,#REF!,#REF!,#REF!,#REF!,#REF!,#REF!,#REF!,#REF!) -> #REF! | P6: =AVERAGE(#REF!,#REF!,#REF!,P7,#REF!,#REF!,#REF!,#REF!,#REF!,#REF!,#REF!,#REF!,#REF!,#REF!,#REF!,#REF!,#REF!,#REF!) -> #REF! | S6: =AVERAGE(#REF!,#REF!,#REF!,S7,#REF!,#REF!,#REF!,#REF!,#REF!,#REF!,#REF!,#REF!,#REF!,#REF!,#REF!,#REF!,#REF!,#REF!) -> #REF! | V6: =AVERAGE(#REF!,#REF!,#REF!,V7,#REF!,#REF!,#REF!,#REF!,#REF!,#REF!,#REF!,#REF!,#REF!,#REF!,#REF!,#REF!,#REF!,#REF!) -> #REF!
B7: d | C7: Pertanahan | G7: =AVERAGE(G8:G10) -> #DIV/0! | J7: =AVERAGE(J8:J10) -> #DIV/0! | M7: =AVERAGE(M8:M10) -> #DIV/0! | P7: =AVERAGE(P8:P10) -> #DIV/0! | S7: =AVERAGE(S8:S10) -> #DIV/0! | V7: =AVERAGE(V8:V10) -> #DIV/0!
A8: 1 | C8: Persentase luas lahan bersertifikat | G8: =F8/E8 -> #DIV/0! | J8: =I8/H8 -> #DIV/0! | M8: =L8/K8 -> #DIV/0! | P8: =O8/N8 -> #DIV/0! | S8: =R8/Q8 -> #DIV/0! | V8: =U8/T8 -> #DIV/0!
A9: 2 | C9: Penyelesaian kasus tanah negara | G9: =F9/E9 -> #DIV/0! | J9: =I9/H9 -> #DIV/0! | M9: =L9/K9 -> #DIV/0! | P9: =O9/N9 -> #DIV/0! | S9: =R9/Q9 -> #DIV/0! | V9: =U9/T9 -> #DIV/0!
A10: 3 | C10: Penyelesaian ijin lokasi | G10: =F10/E10 -> #DIV/0! | J10: =I10/H10 -> #DIV/0! | M10: =L10/K10 -> #DIV/0! | P10: =O10/N10 -> #DIV/0! | S10: =R10/Q10 -> #DIV/0! | V10: =U10/T10 -> #DIV/0!
S12: Kepala OPD Penanggung Jawab
S15: ____________________________
S16: NIP.

Sheet Lingkungan Hidup
D1: ASPEK PELAYANAN UMUM
A2: No | B2: Indikator Kinerja Program (Outcome) | D2: Kondisi Kinerja Awal RPJMD (Tahun 2012) | E2: Capaian Kinerja Program dan Kerangka Pendanaan | W2: SKPD Penanggung Jawab
E3: Tahun 2013 | H3: Tahun 2014 | K3: Tahun 2015 | N3: Tahun 2016 | Q3: Tahun 2017 | T3: Kondisi Pada akhir periode RPJMD
E4: target | F4: realisasi | G4: % | H4: target | I4: realisasi | J4: % | K4: target | L4: realisasi | M4: % | N4: target | O4: realisasi | P4: % | Q4: target | R4: realisasi | S4: % | T4: target | U4: realisasi | V4: %
A5: 1 | B5: 2 | D5: 3 | E5: 4 | F5: 5 | G5: 6 | H5: 7 | I5: 8 | J5: 9 | K5: 10 | L5: 11 | M5: 12 | N5: 13 | O5: 14 | P5: 15 | Q5: 16 | R5: 17 | S5: 18 | T5: 19 | U5: 20 | V5: 21 | W5: 22
